Back to Multiple platform build/check report for BioC 3.20: simplified long |
|
This page was generated on 2025-02-03 12:12 -0500 (Mon, 03 Feb 2025).
Hostname | OS | Arch (*) | R version | Installed pkgs |
---|---|---|---|---|
nebbiolo2 | Linux (Ubuntu 24.04.1 LTS) | x86_64 | 4.4.2 (2024-10-31) -- "Pile of Leaves" | 4746 |
palomino8 | Windows Server 2022 Datacenter | x64 | 4.4.2 (2024-10-31 ucrt) -- "Pile of Leaves" | 4494 |
merida1 | macOS 12.7.5 Monterey | x86_64 | 4.4.2 (2024-10-31) -- "Pile of Leaves" | 4517 |
kjohnson1 | macOS 13.6.6 Ventura | arm64 | 4.4.2 (2024-10-31) -- "Pile of Leaves" | 4469 |
taishan | Linux (openEuler 24.03 LTS) | aarch64 | 4.4.2 (2024-10-31) -- "Pile of Leaves" | 4400 |
Click on any hostname to see more info about the system (e.g. compilers) (*) as reported by 'uname -p', except on Windows and Mac OS X |
Package 2009/2289 | Hostname | OS / Arch | INSTALL | BUILD | CHECK | BUILD BIN | ||||||||
sparrow 1.12.0 (landing page) Steve Lianoglou
| nebbiolo2 | Linux (Ubuntu 24.04.1 LTS) / x86_64 | OK | OK | OK | |||||||||
palomino8 | Windows Server 2022 Datacenter / x64 | OK | OK | OK | OK | |||||||||
merida1 | macOS 12.7.5 Monterey / x86_64 | OK | OK | OK | OK | |||||||||
kjohnson1 | macOS 13.6.6 Ventura / arm64 | OK | OK | OK | OK | |||||||||
taishan | Linux (openEuler 24.03 LTS) / aarch64 | OK | OK | TIMEOUT | ||||||||||
To the developers/maintainers of the sparrow package: - Allow up to 24 hours (and sometimes 48 hours) for your latest push to git@git.bioconductor.org:packages/sparrow.git to reflect on this report. See Troubleshooting Build Report for more information. - Use the following Renviron settings to reproduce errors and warnings. - If 'R CMD check' started to fail recently on the Linux builder(s) over a missing dependency, add the missing dependency to 'Suggests:' in your DESCRIPTION file. See Renviron.bioc for more information. - See Martin Grigorov's blog post for how to debug Linux ARM64 related issues on a x86_64 host. |
Package: sparrow |
Version: 1.12.0 |
Command: /home/biocbuild/R/R/bin/R CMD check --install=check:sparrow.install-out.txt --library=/home/biocbuild/R/R/site-library --no-vignettes --timings sparrow_1.12.0.tar.gz |
StartedAt: 2025-01-31 10:36:19 -0000 (Fri, 31 Jan 2025) |
EndedAt: 2025-01-31 11:16:20 -0000 (Fri, 31 Jan 2025) |
EllapsedTime: 2400.9 seconds |
RetCode: None |
Status: TIMEOUT |
CheckDir: sparrow.Rcheck |
Warnings: NA |
############################################################################## ############################################################################## ### ### Running command: ### ### /home/biocbuild/R/R/bin/R CMD check --install=check:sparrow.install-out.txt --library=/home/biocbuild/R/R/site-library --no-vignettes --timings sparrow_1.12.0.tar.gz ### ############################################################################## ############################################################################## * using log directory ‘/home/biocbuild/bbs-3.20-bioc/meat/sparrow.Rcheck’ * using R version 4.4.2 (2024-10-31) * using platform: aarch64-unknown-linux-gnu * R was compiled by aarch64-unknown-linux-gnu-gcc (GCC) 14.2.0 GNU Fortran (GCC) 12.3.1 (openEuler 12.3.1-36.oe2403) * running under: openEuler 24.03 (LTS) * using session charset: UTF-8 * using option ‘--no-vignettes’ * checking for file ‘sparrow/DESCRIPTION’ ... OK * checking extension type ... Package * this is package ‘sparrow’ version ‘1.12.0’ * package encoding: UTF-8 * checking package namespace information ... OK * checking package dependencies ... OK * checking if this is a source package ... OK * checking if there is a namespace ... OK * checking for hidden files and directories ... OK * checking for portable file names ... OK * checking for sufficient/correct file permissions ... OK * checking whether package ‘sparrow’ can be installed ... OK * checking installed package size ... OK * checking package directory ... OK * checking ‘build’ directory ... OK * checking DESCRIPTION meta-information ... NOTE License stub is invalid DCF. * checking top-level files ... OK * checking for left-over files ... OK * checking index information ... OK * checking package subdirectories ... OK * checking code files for non-ASCII characters ... OK * checking R files for syntax errors ... OK * checking whether the package can be loaded ... OK * checking whether the package can be loaded with stated dependencies ... OK * checking whether the package can be unloaded cleanly ... OK * checking whether the namespace can be loaded with stated dependencies ... OK * checking whether the namespace can be unloaded cleanly ... OK * checking loading without being on the library search path ... OK * checking whether startup messages can be suppressed ... OK * checking dependencies in R code ... OK * checking S3 generic/method consistency ... OK * checking replacement functions ... OK * checking foreign function calls ... OK * checking R code for possible problems ... NOTE geneSetsStats: no visible binding for global variable ‘direction’ Undefined global functions or variables: direction * checking Rd files ... OK * checking Rd metadata ... OK * checking Rd cross-references ... OK * checking for missing documentation entries ... OK * checking for code/documentation mismatches ... OK * checking Rd \usage sections ... OK * checking Rd contents ... OK * checking for unstated dependencies in examples ... OK * checking line endings in Makefiles ... OK * checking for GNU extensions in Makefiles ... OK * checking include directives in Makefiles ... OK * checking files in ‘vignettes’ ... OK * checking examples ... OK Examples with CPU (user + system) or elapsed time > 5s user system elapsed goseq 9.380 0.215 9.304 seas 7.814 0.179 7.693 geneSetsStats 6.295 0.058 5.762 scoreSingleSamples 5.470 0.050 5.506 annotateGeneSetMembership 5.251 0.127 5.076 geneSetSummaryByGenes 4.968 0.161 4.783 * checking for unstated dependencies in ‘tests’ ... OK * checking tests ... Running ‘testthat.R’
sparrow.Rcheck/00install.out
############################################################################## ############################################################################## ### ### Running command: ### ### /home/biocbuild/R/R/bin/R CMD INSTALL sparrow ### ############################################################################## ############################################################################## * installing to library ‘/home/biocbuild/R/R-4.4.2/site-library’ * installing *source* package ‘sparrow’ ... ** using staged installation ** R ** inst ** byte-compile and prepare package for lazy loading ** help *** installing help indices *** copying figures ** building package indices ** installing vignettes ** testing if installed package can be loaded from temporary location ** testing if installed package can be loaded from final location ** testing if installed package keeps a record of temporary installation path * DONE (sparrow)
sparrow.Rcheck/tests/testthat.Rout
R version 4.4.2 (2024-10-31) -- "Pile of Leaves" Copyright (C) 2024 The R Foundation for Statistical Computing Platform: aarch64-unknown-linux-gnu R is free software and comes with ABSOLUTELY NO WARRANTY. You are welcome to redistribute it under certain conditions. Type 'license()' or 'licence()' for distribution details. R is a collaborative project with many contributors. Type 'contributors()' for more information and 'citation()' on how to cite R or R packages in publications. Type 'demo()' for some demos, 'help()' for on-line help, or 'help.start()' for an HTML browser interface to help. Type 'q()' to quit R. > library("sparrow") > library("testthat") > library("data.table") > library("dplyr") Attaching package: 'dplyr' The following objects are masked from 'package:data.table': between, first, last The following object is masked from 'package:testthat': matches The following object is masked from 'package:sparrow': combine The following objects are masked from 'package:stats': filter, lag The following objects are masked from 'package:base': intersect, setdiff, setequal, union > > test_check("sparrow") Attaching package: 'magrittr' The following objects are masked from 'package:testthat': equals, is_less_than, not
sparrow.Rcheck/sparrow-Ex.timings
name | user | system | elapsed | |
GeneSetDb-class | 0.095 | 0.000 | 0.096 | |
SparrowResult-utilities | 4.642 | 0.169 | 4.519 | |
addGeneSetMetadata | 0.084 | 0.000 | 0.074 | |
annotateGeneSetMembership | 5.251 | 0.127 | 5.076 | |
calculateIndividualLogFC | 2.283 | 0.048 | 2.337 | |
collectionMetadata | 0.087 | 0.008 | 0.086 | |
combine-GeneSetDb-GeneSetDb-method | 0.124 | 0.008 | 0.113 | |
combine-SparrowResult-SparrowResult-method | 0.141 | 0.004 | 0.148 | |
conform | 0.520 | 0.004 | 0.518 | |
conversion | 0.770 | 0.001 | 0.737 | |
convertIdentifiers | 0.235 | 0.004 | 0.203 | |
corplot | 0.105 | 0.000 | 0.106 | |
eigenWeightedMean | 3.764 | 0.060 | 3.820 | |
examples | 0.373 | 0.023 | 0.398 | |
failWith | 0.000 | 0.000 | 0.001 | |
featureIdMap | 0.609 | 0.007 | 0.611 | |
featureIds | 0.592 | 0.004 | 0.584 | |
geneSet | 0.099 | 0.000 | 0.090 | |
geneSetCollectionURLfunction | 0.071 | 0.000 | 0.062 | |
geneSetSummaryByGenes | 4.968 | 0.161 | 4.783 | |
geneSets | 0.081 | 0.000 | 0.071 | |
geneSetsStats | 6.295 | 0.058 | 5.762 | |
getKeggCollection | 0 | 0 | 0 | |
getMSigCollection | 0 | 0 | 0 | |
getPantherCollection | 0 | 0 | 0 | |
getReactomeCollection | 0 | 0 | 0 | |
goseq | 9.380 | 0.215 | 9.304 | |
gsdScore | 1.170 | 0.008 | 1.164 | |
gskey | 0.003 | 0.000 | 0.003 | |
hasGeneSet | 0.08 | 0.00 | 0.07 | |
hasGeneSetCollection | 0.076 | 0.000 | 0.065 | |
incidenceMatrix | 1.375 | 0.004 | 1.372 | |
iplot | 1.411 | 0.068 | 1.468 | |
is.active | 0.396 | 0.004 | 0.393 | |
logFC | 4.080 | 0.128 | 3.904 | |
mgheatmap | 0 | 0 | 0 | |
mgheatmap2 | 0.001 | 0.000 | 0.000 | |
msg | 0 | 0 | 0 | |
ora | 0.365 | 0.012 | 0.378 | |
p.matrix | 0.092 | 0.000 | 0.092 | |
randomGeneSetDb | 0.102 | 0.004 | 0.106 | |
renameCollections | 0.105 | 0.000 | 0.091 | |
renameRows | 0.489 | 0.012 | 0.503 | |
results | 0.126 | 0.000 | 0.126 | |
scale_rows | 0.004 | 0.001 | 0.005 | |
scoreSingleSamples | 5.470 | 0.050 | 5.506 | |
seas | 7.814 | 0.179 | 7.693 | |
sparrow_methods | 0.004 | 0.000 | 0.004 | |
species_info | 0.006 | 0.000 | 0.007 | |
subset.GeneSetDb | 0.087 | 0.004 | 0.082 | |
subsetByFeatures | 0.173 | 0.000 | 0.156 | |
validateInputs | 0.162 | 0.008 | 0.159 | |
volcanoPlot | 2.223 | 0.032 | 2.261 | |
volcanoStatsTable | 0.071 | 0.000 | 0.072 | |
zScore | 1.139 | 0.012 | 1.137 | |