Back to Multiple platform build/check report for BioC 3.20: simplified long |
|
This page was generated on 2025-02-06 12:05 -0500 (Thu, 06 Feb 2025).
Hostname | OS | Arch (*) | R version | Installed pkgs |
---|---|---|---|---|
nebbiolo2 | Linux (Ubuntu 24.04.1 LTS) | x86_64 | 4.4.2 (2024-10-31) -- "Pile of Leaves" | 4753 |
palomino8 | Windows Server 2022 Datacenter | x64 | 4.4.2 (2024-10-31 ucrt) -- "Pile of Leaves" | 4501 |
merida1 | macOS 12.7.5 Monterey | x86_64 | 4.4.2 (2024-10-31) -- "Pile of Leaves" | 4524 |
kjohnson1 | macOS 13.6.6 Ventura | arm64 | 4.4.2 (2024-10-31) -- "Pile of Leaves" | 4476 |
taishan | Linux (openEuler 24.03 LTS) | aarch64 | 4.4.2 (2024-10-31) -- "Pile of Leaves" | 4407 |
Click on any hostname to see more info about the system (e.g. compilers) (*) as reported by 'uname -p', except on Windows and Mac OS X |
Package 2020/2289 | Hostname | OS / Arch | INSTALL | BUILD | CHECK | BUILD BIN | ||||||||
spatialHeatmap 2.12.1 (landing page) Jianhai Zhang
| nebbiolo2 | Linux (Ubuntu 24.04.1 LTS) / x86_64 | OK | OK | OK | ![]() | ||||||||
palomino8 | Windows Server 2022 Datacenter / x64 | OK | OK | OK | OK | ![]() | ||||||||
merida1 | macOS 12.7.5 Monterey / x86_64 | OK | OK | OK | NA | |||||||||
kjohnson1 | macOS 13.6.6 Ventura / arm64 | OK | OK | OK | OK | ![]() | ||||||||
taishan | Linux (openEuler 24.03 LTS) / aarch64 | OK | OK | OK | ||||||||||
To the developers/maintainers of the spatialHeatmap package: - Allow up to 24 hours (and sometimes 48 hours) for your latest push to git@git.bioconductor.org:packages/spatialHeatmap.git to reflect on this report. See Troubleshooting Build Report for more information. - Use the following Renviron settings to reproduce errors and warnings. - If 'R CMD check' started to fail recently on the Linux builder(s) over a missing dependency, add the missing dependency to 'Suggests:' in your DESCRIPTION file. See Renviron.bioc for more information. |
Package: spatialHeatmap |
Version: 2.12.1 |
Command: /home/biocbuild/bbs-3.20-bioc/R/bin/R CMD check --install=check:spatialHeatmap.install-out.txt --library=/home/biocbuild/bbs-3.20-bioc/R/site-library --timings spatialHeatmap_2.12.1.tar.gz |
StartedAt: 2025-02-04 02:44:08 -0500 (Tue, 04 Feb 2025) |
EndedAt: 2025-02-04 02:54:01 -0500 (Tue, 04 Feb 2025) |
EllapsedTime: 592.5 seconds |
RetCode: 0 |
Status: OK |
CheckDir: spatialHeatmap.Rcheck |
Warnings: 0 |
############################################################################## ############################################################################## ### ### Running command: ### ### /home/biocbuild/bbs-3.20-bioc/R/bin/R CMD check --install=check:spatialHeatmap.install-out.txt --library=/home/biocbuild/bbs-3.20-bioc/R/site-library --timings spatialHeatmap_2.12.1.tar.gz ### ############################################################################## ############################################################################## * using log directory ‘/home/biocbuild/bbs-3.20-bioc/meat/spatialHeatmap.Rcheck’ * using R version 4.4.2 (2024-10-31) * using platform: x86_64-pc-linux-gnu * R was compiled by gcc (Ubuntu 13.2.0-23ubuntu4) 13.2.0 GNU Fortran (Ubuntu 13.2.0-23ubuntu4) 13.2.0 * running under: Ubuntu 24.04.1 LTS * using session charset: UTF-8 * checking for file ‘spatialHeatmap/DESCRIPTION’ ... OK * checking extension type ... Package * this is package ‘spatialHeatmap’ version ‘2.12.1’ * package encoding: UTF-8 * checking package namespace information ... OK * checking package dependencies ... OK * checking if this is a source package ... OK * checking if there is a namespace ... OK * checking for hidden files and directories ... OK * checking for portable file names ... OK * checking for sufficient/correct file permissions ... OK * checking whether package ‘spatialHeatmap’ can be installed ... OK * checking installed package size ... NOTE installed size is 31.9Mb sub-directories of 1Mb or more: R 1.2Mb extdata 30.2Mb * checking package directory ... OK * checking ‘build’ directory ... OK * checking DESCRIPTION meta-information ... OK * checking top-level files ... OK * checking for left-over files ... OK * checking index information ... OK * checking package subdirectories ... OK * checking code files for non-ASCII characters ... OK * checking R files for syntax errors ... OK * checking whether the package can be loaded ... OK * checking whether the package can be loaded with stated dependencies ... OK * checking whether the package can be unloaded cleanly ... OK * checking whether the namespace can be loaded with stated dependencies ... OK * checking whether the namespace can be unloaded cleanly ... OK * checking loading without being on the library search path ... OK * checking dependencies in R code ... OK * checking S3 generic/method consistency ... OK * checking replacement functions ... OK * checking foreign function calls ... OK * checking R code for possible problems ... OK * checking Rd files ... OK * checking Rd metadata ... OK * checking Rd cross-references ... OK * checking for missing documentation entries ... OK * checking for code/documentation mismatches ... OK * checking Rd \usage sections ... OK * checking Rd contents ... OK * checking for unstated dependencies in examples ... OK * checking contents of ‘data’ directory ... OK * checking data for non-ASCII characters ... OK * checking data for ASCII and uncompressed saves ... OK * checking files in ‘vignettes’ ... OK * checking examples ... OK Examples with CPU (user + system) or elapsed time > 5s user system elapsed SPHM 15.498 0.320 15.815 covis 13.985 0.581 14.560 cell_group 10.404 0.511 10.915 process_cell_meta 8.228 0.153 8.381 reduce_dim 7.017 0.709 7.727 * checking for unstated dependencies in ‘tests’ ... OK * checking tests ... Running ‘runTests.R’ OK * checking for unstated dependencies in vignettes ... OK * checking package vignettes ... OK * checking re-building of vignette outputs ... OK * checking PDF version of manual ... OK * DONE Status: 1 NOTE See ‘/home/biocbuild/bbs-3.20-bioc/meat/spatialHeatmap.Rcheck/00check.log’ for details.
spatialHeatmap.Rcheck/00install.out
############################################################################## ############################################################################## ### ### Running command: ### ### /home/biocbuild/bbs-3.20-bioc/R/bin/R CMD INSTALL spatialHeatmap ### ############################################################################## ############################################################################## * installing to library ‘/home/biocbuild/bbs-3.20-bioc/R/site-library’ * installing *source* package ‘spatialHeatmap’ ... ** using staged installation ** R ** data ** inst ** byte-compile and prepare package for lazy loading Creating a new generic function for ‘svg’ in package ‘spatialHeatmap’ Creating a new generic function for ‘match’ in package ‘spatialHeatmap’ ** help *** installing help indices ** building package indices ** installing vignettes ** testing if installed package can be loaded from temporary location ** testing if installed package can be loaded from final location ** testing if installed package keeps a record of temporary installation path * DONE (spatialHeatmap)
spatialHeatmap.Rcheck/tests/runTests.Rout
R version 4.4.2 (2024-10-31) -- "Pile of Leaves" Copyright (C) 2024 The R Foundation for Statistical Computing Platform: x86_64-pc-linux-gnu R is free software and comes with ABSOLUTELY NO WARRANTY. You are welcome to redistribute it under certain conditions. Type 'license()' or 'licence()' for distribution details. R is a collaborative project with many contributors. Type 'contributors()' for more information and 'citation()' on how to cite R or R packages in publications. Type 'demo()' for some demos, 'help()' for on-line help, or 'help.start()' for an HTML browser interface to help. Type 'q()' to quit R. > BiocGenerics:::testPackage("spatialHeatmap") Attaching package: 'spatialHeatmap' The following object is masked from 'package:grDevices': svg The following object is masked from 'package:base': match Loading required package: Biobase Loading required package: BiocGenerics Attaching package: 'BiocGenerics' The following object is masked from 'package:spatialHeatmap': match The following objects are masked from 'package:stats': IQR, mad, sd, var, xtabs The following objects are masked from 'package:base': Filter, Find, Map, Position, Reduce, anyDuplicated, aperm, append, as.data.frame, basename, cbind, colnames, dirname, do.call, duplicated, eval, evalq, get, grep, grepl, intersect, is.unsorted, lapply, mapply, match, mget, order, paste, pmax, pmax.int, pmin, pmin.int, rank, rbind, rownames, sapply, saveRDS, setdiff, table, tapply, union, unique, unsplit, which.max, which.min Welcome to Bioconductor Vignettes contain introductory material; view with 'browseVignettes()'. To cite Bioconductor, see 'citation("Biobase")', and for packages 'citation("pkgname")'. Loading required package: SummarizedExperiment Loading required package: MatrixGenerics Loading required package: matrixStats Attaching package: 'matrixStats' The following objects are masked from 'package:Biobase': anyMissing, rowMedians Attaching package: 'MatrixGenerics' The following objects are masked from 'package:matrixStats': colAlls, colAnyNAs, colAnys, colAvgsPerRowSet, colCollapse, colCounts, colCummaxs, colCummins, colCumprods, colCumsums, colDiffs, colIQRDiffs, colIQRs, colLogSumExps, colMadDiffs, colMads, colMaxs, colMeans2, colMedians, colMins, colOrderStats, colProds, colQuantiles, colRanges, colRanks, colSdDiffs, colSds, colSums2, colTabulates, colVarDiffs, colVars, colWeightedMads, colWeightedMeans, colWeightedMedians, colWeightedSds, colWeightedVars, rowAlls, rowAnyNAs, rowAnys, rowAvgsPerColSet, rowCollapse, rowCounts, rowCummaxs, rowCummins, rowCumprods, rowCumsums, rowDiffs, rowIQRDiffs, rowIQRs, rowLogSumExps, rowMadDiffs, rowMads, rowMaxs, rowMeans2, rowMedians, rowMins, rowOrderStats, rowProds, rowQuantiles, rowRanges, rowRanks, rowSdDiffs, rowSds, rowSums2, rowTabulates, rowVarDiffs, rowVars, rowWeightedMads, rowWeightedMeans, rowWeightedMedians, rowWeightedSds, rowWeightedVars The following object is masked from 'package:Biobase': rowMedians Loading required package: GenomicRanges Loading required package: stats4 Loading required package: S4Vectors Attaching package: 'S4Vectors' The following object is masked from 'package:utils': findMatches The following objects are masked from 'package:base': I, expand.grid, unname Loading required package: IRanges Loading required package: GenomeInfoDb Loading required package: limma Attaching package: 'limma' The following object is masked from 'package:BiocGenerics': plotMA Loading required package: xml2 Loading required package: RCurl Loading required package: jsonlite Loading required package: BiocStyle Attaching package: 'BiocStyle' The following object is masked from 'package:spatialHeatmap': output Normalising: ESF type "ratio" Syntactically valid column names are made! Syntactically valid column names are made! All values before filtering: Min. 1st Qu. Median Mean 3rd Qu. Max. 0.000 0.000 0.287 2.442 4.268 19.991 All coefficient of variances (CVs) before filtering: Min. 1st Qu. Median Mean 3rd Qu. Max. 0.0007742 0.0767696 0.4019655 0.6217813 0.9956157 2.0000000 All values after filtering: Min. 1st Qu. Median Mean 3rd Qu. Max. 0.000 2.654 4.976 4.779 6.451 14.695 All coefficient of variances (CVs) after filtering: Min. 1st Qu. Median Mean 3rd Qu. Max. 0.3001 0.3648 0.4637 0.5651 0.7392 1.1548 Warning: variables of sample/condition are less than 5! ..connectivity.. ..matrix multiplication (system BLAS).. ..normalization.. ..done. ..done. ..done. ..done. ..done. Normalising: ESF type "ratio" Syntactically valid column names are made! Syntactically valid column names are made! All values before filtering: Min. 1st Qu. Median Mean 3rd Qu. Max. 0.000 0.000 0.287 2.442 4.268 19.991 All coefficient of variances (CVs) before filtering: Min. 1st Qu. Median Mean 3rd Qu. Max. 0.0007742 0.0767696 0.4019655 0.6217813 0.9956157 2.0000000 All values after filtering: Min. 1st Qu. Median Mean 3rd Qu. Max. 0.000 2.654 4.976 4.779 6.451 14.695 All coefficient of variances (CVs) after filtering: Min. 1st Qu. Median Mean 3rd Qu. Max. 0.3001 0.3648 0.4637 0.5651 0.7392 1.1548 RUNIT TEST PROTOCOL -- Tue Feb 4 02:50:03 2025 *********************************************** Number of test functions: 2 Number of errors: 0 Number of failures: 0 1 Test Suite : spatialHeatmap RUnit Tests - 2 test functions, 0 errors, 0 failures Number of test functions: 2 Number of errors: 0 Number of failures: 0 > > proc.time() user system elapsed 22.153 0.952 23.094
spatialHeatmap.Rcheck/spatialHeatmap-Ex.timings
name | user | system | elapsed | |
SPHM | 15.498 | 0.320 | 15.815 | |
SPHMMethods | 1.405 | 0.139 | 1.543 | |
SVG | 0.563 | 0.145 | 0.705 | |
SVGMethods | 0.331 | 0.058 | 0.387 | |
SpatialEnrichment | 3.837 | 0.330 | 4.151 | |
aSVG.remote.repo | 0.002 | 0.000 | 0.002 | |
adj_mod | 2.715 | 0.277 | 2.964 | |
aggr_rep | 0.747 | 0.019 | 0.767 | |
cell_group | 10.404 | 0.511 | 10.915 | |
cluster_cell | 1.030 | 0.061 | 1.091 | |
coclus_opt | 0.213 | 0.010 | 0.223 | |
cocluster | 0.173 | 0.017 | 0.191 | |
com_factor | 0.141 | 0.009 | 0.150 | |
covis | 13.985 | 0.581 | 14.560 | |
custom_shiny | 0.017 | 0.001 | 0.018 | |
cut_dendro | 0.564 | 0.019 | 0.575 | |
cvt_id | 0.439 | 0.013 | 0.452 | |
data_ref | 0.733 | 0.007 | 0.741 | |
database | 0.338 | 0.016 | 0.355 | |
edit_tar | 0.002 | 0.001 | 0.004 | |
filter_data | 0.906 | 0.009 | 0.916 | |
matrix_hm | 2.049 | 0.157 | 2.207 | |
network | 1.896 | 0.057 | 1.954 | |
norm_cell | 1.472 | 0.021 | 1.493 | |
norm_data | 0.780 | 0.007 | 0.787 | |
norm_srsc | 2.539 | 0.050 | 2.589 | |
opt_bar | 0.146 | 0.000 | 0.146 | |
opt_setting | 0.006 | 0.001 | 0.006 | |
opt_violin | 0.158 | 0.000 | 0.158 | |
optimal_k | 0.108 | 0.002 | 0.111 | |
plot_dim | 1.329 | 0.015 | 1.345 | |
plot_kmeans | 0.494 | 0.000 | 0.493 | |
plot_meta | 2.290 | 0.165 | 2.453 | |
process_cell_meta | 8.228 | 0.153 | 8.381 | |
qc_cell | 0.701 | 0.020 | 0.721 | |
read_cache | 2.206 | 0.048 | 2.254 | |
read_fr | 0.004 | 0.000 | 0.004 | |
read_svg | 0.359 | 0.154 | 0.508 | |
reduce_dim | 7.017 | 0.709 | 7.727 | |
reduce_rep | 0.001 | 0.000 | 0.001 | |
return_feature | 0.508 | 0.016 | 0.527 | |
save_cache | 2.064 | 0.230 | 2.294 | |
shiny_shm | 0 | 0 | 0 | |
shm | 2.930 | 0.243 | 3.166 | |
spatialHeatmap-package | 0 | 0 | 0 | |
spatial_hm | 4.170 | 0.286 | 4.451 | |
submatrix | 2.382 | 0.275 | 2.657 | |
true_bulk | 0.256 | 0.002 | 0.258 | |
update_feature | 0.000 | 0.000 | 0.001 | |
write_svg | 2.284 | 0.132 | 2.409 | |