Back to Multiple platform build/check report for BioC 3.20: simplified long |
|
This page was generated on 2025-02-03 12:06 -0500 (Mon, 03 Feb 2025).
Hostname | OS | Arch (*) | R version | Installed pkgs |
---|---|---|---|---|
nebbiolo2 | Linux (Ubuntu 24.04.1 LTS) | x86_64 | 4.4.2 (2024-10-31) -- "Pile of Leaves" | 4746 |
palomino8 | Windows Server 2022 Datacenter | x64 | 4.4.2 (2024-10-31 ucrt) -- "Pile of Leaves" | 4494 |
merida1 | macOS 12.7.5 Monterey | x86_64 | 4.4.2 (2024-10-31) -- "Pile of Leaves" | 4517 |
kjohnson1 | macOS 13.6.6 Ventura | arm64 | 4.4.2 (2024-10-31) -- "Pile of Leaves" | 4469 |
taishan | Linux (openEuler 24.03 LTS) | aarch64 | 4.4.2 (2024-10-31) -- "Pile of Leaves" | 4400 |
Click on any hostname to see more info about the system (e.g. compilers) (*) as reported by 'uname -p', except on Windows and Mac OS X |
Package 2179/2289 | Hostname | OS / Arch | INSTALL | BUILD | CHECK | BUILD BIN | ||||||||
transcriptR 1.34.0 (landing page) Armen R. Karapetyan
| nebbiolo2 | Linux (Ubuntu 24.04.1 LTS) / x86_64 | OK | OK | OK | ![]() | ||||||||
palomino8 | Windows Server 2022 Datacenter / x64 | OK | OK | OK | OK | ![]() | ||||||||
merida1 | macOS 12.7.5 Monterey / x86_64 | OK | OK | OK | OK | ![]() | ||||||||
kjohnson1 | macOS 13.6.6 Ventura / arm64 | OK | OK | OK | OK | ![]() | ||||||||
taishan | Linux (openEuler 24.03 LTS) / aarch64 | OK | OK | OK | ||||||||||
To the developers/maintainers of the transcriptR package: - Allow up to 24 hours (and sometimes 48 hours) for your latest push to git@git.bioconductor.org:packages/transcriptR.git to reflect on this report. See Troubleshooting Build Report for more information. - Use the following Renviron settings to reproduce errors and warnings. - If 'R CMD check' started to fail recently on the Linux builder(s) over a missing dependency, add the missing dependency to 'Suggests:' in your DESCRIPTION file. See Renviron.bioc for more information. |
Package: transcriptR |
Version: 1.34.0 |
Command: /home/biocbuild/bbs-3.20-bioc/R/bin/R CMD check --install=check:transcriptR.install-out.txt --library=/home/biocbuild/bbs-3.20-bioc/R/site-library --timings transcriptR_1.34.0.tar.gz |
StartedAt: 2025-01-31 03:07:03 -0500 (Fri, 31 Jan 2025) |
EndedAt: 2025-01-31 03:14:11 -0500 (Fri, 31 Jan 2025) |
EllapsedTime: 427.4 seconds |
RetCode: 0 |
Status: OK |
CheckDir: transcriptR.Rcheck |
Warnings: 0 |
############################################################################## ############################################################################## ### ### Running command: ### ### /home/biocbuild/bbs-3.20-bioc/R/bin/R CMD check --install=check:transcriptR.install-out.txt --library=/home/biocbuild/bbs-3.20-bioc/R/site-library --timings transcriptR_1.34.0.tar.gz ### ############################################################################## ############################################################################## * using log directory ‘/home/biocbuild/bbs-3.20-bioc/meat/transcriptR.Rcheck’ * using R version 4.4.2 (2024-10-31) * using platform: x86_64-pc-linux-gnu * R was compiled by gcc (Ubuntu 13.2.0-23ubuntu4) 13.2.0 GNU Fortran (Ubuntu 13.2.0-23ubuntu4) 13.2.0 * running under: Ubuntu 24.04.1 LTS * using session charset: UTF-8 * checking for file ‘transcriptR/DESCRIPTION’ ... OK * checking extension type ... Package * this is package ‘transcriptR’ version ‘1.34.0’ * checking package namespace information ... OK * checking package dependencies ... OK * checking if this is a source package ... OK * checking if there is a namespace ... OK * checking for hidden files and directories ... OK * checking for portable file names ... OK * checking for sufficient/correct file permissions ... OK * checking whether package ‘transcriptR’ can be installed ... OK * checking installed package size ... OK * checking package directory ... OK * checking ‘build’ directory ... OK * checking DESCRIPTION meta-information ... OK * checking top-level files ... OK * checking for left-over files ... OK * checking index information ... OK * checking package subdirectories ... OK * checking code files for non-ASCII characters ... OK * checking R files for syntax errors ... OK * checking whether the package can be loaded ... OK * checking whether the package can be loaded with stated dependencies ... OK * checking whether the package can be unloaded cleanly ... OK * checking whether the namespace can be loaded with stated dependencies ... OK * checking whether the namespace can be unloaded cleanly ... OK * checking loading without being on the library search path ... OK * checking dependencies in R code ... OK * checking S3 generic/method consistency ... OK * checking replacement functions ... OK * checking foreign function calls ... OK * checking R code for possible problems ... OK * checking Rd files ... OK * checking Rd metadata ... OK * checking Rd cross-references ... OK * checking for missing documentation entries ... OK * checking for code/documentation mismatches ... OK * checking Rd \usage sections ... OK * checking Rd contents ... OK * checking for unstated dependencies in examples ... OK * checking contents of ‘data’ directory ... OK * checking data for non-ASCII characters ... OK * checking data for ASCII and uncompressed saves ... OK * checking files in ‘vignettes’ ... OK * checking examples ... OK Examples with CPU (user + system) or elapsed time > 5s user system elapsed breakTranscriptsByPeaks-methods 6.994 0.285 7.279 * checking for unstated dependencies in ‘tests’ ... OK * checking tests ... Running ‘testthat.R’ OK * checking for unstated dependencies in vignettes ... OK * checking package vignettes ... OK * checking re-building of vignette outputs ... OK * checking PDF version of manual ... OK * DONE Status: OK
transcriptR.Rcheck/00install.out
############################################################################## ############################################################################## ### ### Running command: ### ### /home/biocbuild/bbs-3.20-bioc/R/bin/R CMD INSTALL transcriptR ### ############################################################################## ############################################################################## * installing to library ‘/home/biocbuild/bbs-3.20-bioc/R/site-library’ * installing *source* package ‘transcriptR’ ... ** using staged installation ** R ** data ** inst ** byte-compile and prepare package for lazy loading ** help *** installing help indices ** building package indices ** installing vignettes ** testing if installed package can be loaded from temporary location ** testing if installed package can be loaded from final location ** testing if installed package keeps a record of temporary installation path * DONE (transcriptR)
transcriptR.Rcheck/tests/testthat.Rout
R version 4.4.2 (2024-10-31) -- "Pile of Leaves" Copyright (C) 2024 The R Foundation for Statistical Computing Platform: x86_64-pc-linux-gnu R is free software and comes with ABSOLUTELY NO WARRANTY. You are welcome to redistribute it under certain conditions. Type 'license()' or 'licence()' for distribution details. R is a collaborative project with many contributors. Type 'contributors()' for more information and 'citation()' on how to cite R or R packages in publications. Type 'demo()' for some demos, 'help()' for on-line help, or 'help.start()' for an HTML browser interface to help. Type 'q()' to quit R. > library(testthat) > library(transcriptR) > > test_check("transcriptR") [ FAIL 0 | WARN 0 | SKIP 0 | PASS 87 ] > > proc.time() user system elapsed 51.302 1.700 53.073
transcriptR.Rcheck/transcriptR-Ex.timings
name | user | system | elapsed | |
addFeature-methods | 0.082 | 0.013 | 0.096 | |
annotateTranscripts-methods | 2.729 | 0.364 | 3.095 | |
breakTranscriptsByPeaks-methods | 6.994 | 0.285 | 7.279 | |
constructCDS | 0.003 | 0.001 | 0.003 | |
constructTDS | 0.215 | 0.009 | 0.223 | |
detectTranscripts-methods | 1.162 | 0.087 | 1.249 | |
estimateBackground-methods | 0.354 | 0.013 | 0.367 | |
estimateGapDistance-methods | 0.826 | 0.052 | 0.878 | |
exportCoverage-methods | 0.214 | 0.007 | 0.221 | |
getConfusionMatrix-methods | 0.002 | 0.000 | 0.002 | |
getGenomicAnnot-methods | 0.004 | 0.000 | 0.004 | |
getPeaks-methods | 0.02 | 0.00 | 0.02 | |
getPredictorSignificance-methods | 0.002 | 0.000 | 0.002 | |
getProbTreshold-methods | 0.001 | 0.001 | 0.002 | |
getQuadProb-methods | 0.209 | 0.014 | 0.222 | |
getTestedGapDistances-methods | 0.229 | 0.014 | 0.243 | |
getTranscripts-methods | 0.219 | 0.010 | 0.229 | |
peaksToBed-methods | 4.140 | 0.266 | 4.406 | |
plotErrorRate-methods | 0.848 | 0.034 | 0.883 | |
plotFeatures-methods | 1.716 | 0.041 | 1.757 | |
plotGenomicAnnot-methods | 0.429 | 0.005 | 0.434 | |
plotROC-methods | 0.538 | 0.023 | 0.561 | |
predictStrand-methods | 3.270 | 0.143 | 3.413 | |
predictTssOverlap-methods | 0.581 | 0.003 | 0.584 | |
show | 0.217 | 0.017 | 0.233 | |
transcriptsToBed-methods | 2.111 | 0.182 | 2.294 | |