Back to Multiple platform build/check report for BioC 3.20: simplified long |
|
This page was generated on 2025-02-06 12:12 -0500 (Thu, 06 Feb 2025).
Hostname | OS | Arch (*) | R version | Installed pkgs |
---|---|---|---|---|
nebbiolo2 | Linux (Ubuntu 24.04.1 LTS) | x86_64 | 4.4.2 (2024-10-31) -- "Pile of Leaves" | 4753 |
palomino8 | Windows Server 2022 Datacenter | x64 | 4.4.2 (2024-10-31 ucrt) -- "Pile of Leaves" | 4501 |
merida1 | macOS 12.7.5 Monterey | x86_64 | 4.4.2 (2024-10-31) -- "Pile of Leaves" | 4524 |
kjohnson1 | macOS 13.6.6 Ventura | arm64 | 4.4.2 (2024-10-31) -- "Pile of Leaves" | 4476 |
taishan | Linux (openEuler 24.03 LTS) | aarch64 | 4.4.2 (2024-10-31) -- "Pile of Leaves" | 4407 |
Click on any hostname to see more info about the system (e.g. compilers) (*) as reported by 'uname -p', except on Windows and Mac OS X |
Package 2198/2289 | Hostname | OS / Arch | INSTALL | BUILD | CHECK | BUILD BIN | ||||||||
trio 3.44.0 (landing page) Holger Schwender
| nebbiolo2 | Linux (Ubuntu 24.04.1 LTS) / x86_64 | OK | OK | OK | ![]() | ||||||||
palomino8 | Windows Server 2022 Datacenter / x64 | OK | OK | OK | OK | ![]() | ||||||||
merida1 | macOS 12.7.5 Monterey / x86_64 | OK | OK | OK | NA | |||||||||
kjohnson1 | macOS 13.6.6 Ventura / arm64 | OK | OK | OK | OK | ![]() | ||||||||
taishan | Linux (openEuler 24.03 LTS) / aarch64 | OK | OK | OK | ||||||||||
To the developers/maintainers of the trio package: - Allow up to 24 hours (and sometimes 48 hours) for your latest push to git@git.bioconductor.org:packages/trio.git to reflect on this report. See Troubleshooting Build Report for more information. - Use the following Renviron settings to reproduce errors and warnings. - If 'R CMD check' started to fail recently on the Linux builder(s) over a missing dependency, add the missing dependency to 'Suggests:' in your DESCRIPTION file. See Renviron.bioc for more information. - See Martin Grigorov's blog post for how to debug Linux ARM64 related issues on a x86_64 host. |
Package: trio |
Version: 3.44.0 |
Command: /home/biocbuild/R/R/bin/R CMD check --install=check:trio.install-out.txt --library=/home/biocbuild/R/R/site-library --no-vignettes --timings trio_3.44.0.tar.gz |
StartedAt: 2025-02-04 11:55:16 -0000 (Tue, 04 Feb 2025) |
EndedAt: 2025-02-04 11:58:00 -0000 (Tue, 04 Feb 2025) |
EllapsedTime: 164.2 seconds |
RetCode: 0 |
Status: OK |
CheckDir: trio.Rcheck |
Warnings: 0 |
############################################################################## ############################################################################## ### ### Running command: ### ### /home/biocbuild/R/R/bin/R CMD check --install=check:trio.install-out.txt --library=/home/biocbuild/R/R/site-library --no-vignettes --timings trio_3.44.0.tar.gz ### ############################################################################## ############################################################################## * using log directory ‘/home/biocbuild/bbs-3.20-bioc/meat/trio.Rcheck’ * using R version 4.4.2 (2024-10-31) * using platform: aarch64-unknown-linux-gnu * R was compiled by aarch64-unknown-linux-gnu-gcc (GCC) 14.2.0 GNU Fortran (GCC) 12.3.1 (openEuler 12.3.1-36.oe2403) * running under: openEuler 24.03 (LTS) * using session charset: UTF-8 * using option ‘--no-vignettes’ * checking for file ‘trio/DESCRIPTION’ ... OK * checking extension type ... Package * this is package ‘trio’ version ‘3.44.0’ * checking package namespace information ... OK * checking package dependencies ... OK * checking if this is a source package ... OK * checking if there is a namespace ... OK * checking for hidden files and directories ... OK * checking for portable file names ... OK * checking for sufficient/correct file permissions ... OK * checking whether package ‘trio’ can be installed ... OK * checking installed package size ... OK * checking package directory ... OK * checking ‘build’ directory ... OK * checking DESCRIPTION meta-information ... OK * checking top-level files ... OK * checking for left-over files ... OK * checking index information ... OK * checking package subdirectories ... OK * checking code files for non-ASCII characters ... OK * checking R files for syntax errors ... OK * checking whether the package can be loaded ... OK * checking whether the package can be loaded with stated dependencies ... OK * checking whether the package can be unloaded cleanly ... OK * checking whether the namespace can be loaded with stated dependencies ... OK * checking whether the namespace can be unloaded cleanly ... OK * checking loading without being on the library search path ... OK * checking whether startup messages can be suppressed ... OK * checking dependencies in R code ... OK * checking S3 generic/method consistency ... OK * checking replacement functions ... OK * checking foreign function calls ... NOTE Foreign function call to a different package: .C("clogreg", ..., PACKAGE = "LogicReg") See chapter ‘System and foreign language interfaces’ in the ‘Writing R Extensions’ manual. * checking R code for possible problems ... OK * checking Rd files ... OK * checking Rd metadata ... OK * checking Rd cross-references ... OK * checking for missing documentation entries ... OK * checking for code/documentation mismatches ... OK * checking Rd \usage sections ... OK * checking Rd contents ... OK * checking for unstated dependencies in examples ... OK * checking contents of ‘data’ directory ... OK * checking data for non-ASCII characters ... OK * checking data for ASCII and uncompressed saves ... OK * checking installed files from ‘inst/doc’ ... OK * checking files in ‘vignettes’ ... OK * checking examples ... OK Examples with CPU (user + system) or elapsed time > 5s user system elapsed print.trioFS 6.143 0.040 6.199 trioFS 5.980 0.055 6.050 trio.permTest 5.707 0.043 5.766 colGxGPerms 5.267 0.163 5.451 plot.trioLR 4.780 0.252 5.055 * checking for unstated dependencies in vignettes ... OK * checking package vignettes ... OK * checking running R code from vignettes ... SKIPPED * checking re-building of vignette outputs ... SKIPPED * checking PDF version of manual ... OK * DONE Status: 1 NOTE See ‘/home/biocbuild/bbs-3.20-bioc/meat/trio.Rcheck/00check.log’ for details.
trio.Rcheck/00install.out
############################################################################## ############################################################################## ### ### Running command: ### ### /home/biocbuild/R/R/bin/R CMD INSTALL trio ### ############################################################################## ############################################################################## * installing to library ‘/home/biocbuild/R/R-4.4.2/site-library’ * installing *source* package ‘trio’ ... ** using staged installation ** R ** data ** inst ** byte-compile and prepare package for lazy loading ** help *** installing help indices ** building package indices ** installing vignettes ** testing if installed package can be loaded from temporary location ** testing if installed package can be loaded from final location ** testing if installed package keeps a record of temporary installation path * DONE (trio)
trio.Rcheck/trio-Ex.timings
name | user | system | elapsed | |
allelicTDT | 0.028 | 0.000 | 0.028 | |
colEMlrt | 0.114 | 0.004 | 0.118 | |
colGxE | 0.008 | 0.000 | 0.009 | |
colGxGPerms | 5.267 | 0.163 | 5.451 | |
colPOlrt | 0.015 | 0.004 | 0.020 | |
colTDTmaxTest | 0.074 | 0.000 | 0.075 | |
colTDTsam | 0.036 | 0.012 | 0.048 | |
findLDblocks | 0.021 | 0.004 | 0.026 | |
getLD | 0.024 | 0.000 | 0.024 | |
getMatPseudo | 0.008 | 0.000 | 0.007 | |
lrControl | 0 | 0 | 0 | |
ped2geno | 0 | 0 | 0 | |
plot.LDblocks | 0.059 | 0.000 | 0.060 | |
plot.getLD | 0.034 | 0.004 | 0.038 | |
plot.trioLR | 4.780 | 0.252 | 5.055 | |
poly4root | 0.001 | 0.000 | 0.000 | |
print.colGxE | 0.063 | 0.004 | 0.068 | |
print.trioFS | 6.143 | 0.040 | 6.199 | |
print.trioLR | 3.230 | 0.008 | 3.247 | |
probTDT | 0.035 | 0.004 | 0.039 | |
read.pedfile | 0 | 0 | 0 | |
removeSNPs | 0.006 | 0.000 | 0.005 | |
scoreTDT | 0.010 | 0.000 | 0.011 | |
tdt | 0.022 | 0.000 | 0.023 | |
tdtGxG | 1.519 | 0.000 | 1.523 | |
trio.check | 0.994 | 0.012 | 1.008 | |
trio.data | 0.004 | 0.000 | 0.005 | |
trio.permTest | 5.707 | 0.043 | 5.766 | |
trio.power | 0.013 | 0.001 | 0.013 | |
trio.prepare | 3.067 | 0.004 | 3.079 | |
trio.sim | 0.374 | 0.000 | 0.375 | |
trioFS | 5.980 | 0.055 | 6.050 | |
trioLR | 3.502 | 0.008 | 3.521 | |