Back to Books build report for BioC 3.20 |
This page was generated on 2025-02-12 14:30 -0500 (Wed, 12 Feb 2025).
Hostname | OS | Arch (*) | R version | Installed pkgs |
---|---|---|---|---|
nebbiolo2 | Linux (Ubuntu 24.04.1 LTS) | x86_64 | 4.4.2 (2024-10-31) -- "Pile of Leaves" | 4767 |
Click on any hostname to see more info about the system (e.g. compilers) (*) as reported by 'uname -p', except on Windows and Mac OS X |
Package 8/10 | Hostname | OS / Arch | INSTALL | BUILD | CHECK | ||||||||
OSCA.multisample 1.14.3 (landing page) Alan O'Callaghan
| nebbiolo2 | Linux (Ubuntu 24.04.1 LTS) / x86_64 | OK | OK | OK | ![]() | |||||||
To the developers/maintainers of the OSCA.multisample package: - Use the following Renviron settings to reproduce errors and warnings. - If 'R CMD check' started to fail recently on the Linux builder(s) over a missing dependency, add the missing dependency to 'Suggests:' in your DESCRIPTION file. See Renviron.bioc for more information. |
Package: OSCA.multisample |
Version: 1.14.3 |
Command: rm -rf OSCA.multisample.book && mkdir OSCA.multisample.book && /home/biocbuild/BBS/utils/deploy_book.py OSCA.multisample_1.14.3.tar.gz OSCA.multisample.book |
StartedAt: 2025-02-12 08:34:34 -0500 (Wed, 12 Feb 2025) |
EndedAt: 2025-02-12 08:34:37 -0500 (Wed, 12 Feb 2025) |
EllapsedTime: 2.8 seconds |
RetCode: 0 |
Status: OK |
DeployDestDir: OSCA.multisample.book |
Warnings: 0 |
############################################################################## ############################################################################## ### ### Running command: ### ### rm -rf OSCA.multisample.book && mkdir OSCA.multisample.book && /home/biocbuild/BBS/utils/deploy_book.py OSCA.multisample_1.14.3.tar.gz OSCA.multisample.book ### ############################################################################## ############################################################################## Deploying content from book tarball 'OSCA.multisample_1.14.3.tar.gz' to 'OSCA.multisample.book/OSCA.multisample/' ... OK