Back to Multiple platform build/check report for BioC 3.21: simplified long |
|
This page was generated on 2025-02-06 11:40 -0500 (Thu, 06 Feb 2025).
Hostname | OS | Arch (*) | R version | Installed pkgs |
---|---|---|---|---|
nebbiolo1 | Linux (Ubuntu 24.04.1 LTS) | x86_64 | R Under development (unstable) (2025-01-20 r87609) -- "Unsuffered Consequences" | 4719 |
palomino7 | Windows Server 2022 Datacenter | x64 | R Under development (unstable) (2025-01-21 r87610 ucrt) -- "Unsuffered Consequences" | 4480 |
lconway | macOS 12.7.1 Monterey | x86_64 | R Under development (unstable) (2025-01-22 r87618) -- "Unsuffered Consequences" | 4491 |
kjohnson3 | macOS 13.7.1 Ventura | arm64 | R Under development (unstable) (2025-01-20 r87609) -- "Unsuffered Consequences" | 4444 |
Click on any hostname to see more info about the system (e.g. compilers) (*) as reported by 'uname -p', except on Windows and Mac OS X |
Package 61/2295 | Hostname | OS / Arch | INSTALL | BUILD | CHECK | BUILD BIN | ||||||||
AMOUNTAIN 1.33.0 (landing page) Dong Li
| nebbiolo1 | Linux (Ubuntu 24.04.1 LTS) / x86_64 | OK | OK | OK | ![]() | ||||||||
palomino7 | Windows Server 2022 Datacenter / x64 | OK | OK | OK | OK | ![]() | ||||||||
lconway | macOS 12.7.1 Monterey / x86_64 | OK | OK | OK | OK | ![]() | ||||||||
kjohnson3 | macOS 13.7.1 Ventura / arm64 | OK | OK | OK | OK | ![]() | ||||||||
To the developers/maintainers of the AMOUNTAIN package: - Allow up to 24 hours (and sometimes 48 hours) for your latest push to git@git.bioconductor.org:packages/AMOUNTAIN.git to reflect on this report. See Troubleshooting Build Report for more information. - Use the following Renviron settings to reproduce errors and warnings. - If 'R CMD check' started to fail recently on the Linux builder(s) over a missing dependency, add the missing dependency to 'Suggests:' in your DESCRIPTION file. See Renviron.bioc for more information. |
Package: AMOUNTAIN |
Version: 1.33.0 |
Command: rm -rf AMOUNTAIN.buildbin-libdir && mkdir AMOUNTAIN.buildbin-libdir && E:\biocbuild\bbs-3.21-bioc\R\bin\R.exe CMD INSTALL --build --library=AMOUNTAIN.buildbin-libdir AMOUNTAIN_1.33.0.tar.gz |
StartedAt: 2025-02-06 07:29:30 -0500 (Thu, 06 Feb 2025) |
EndedAt: 2025-02-06 07:29:47 -0500 (Thu, 06 Feb 2025) |
EllapsedTime: 17.6 seconds |
RetCode: 0 |
Status: OK |
PackageFile: AMOUNTAIN_1.33.0.zip |
PackageFileSize: 1.171 MiB |
############################################################################## ############################################################################## ### ### Running command: ### ### rm -rf AMOUNTAIN.buildbin-libdir && mkdir AMOUNTAIN.buildbin-libdir && E:\biocbuild\bbs-3.21-bioc\R\bin\R.exe CMD INSTALL --build --library=AMOUNTAIN.buildbin-libdir AMOUNTAIN_1.33.0.tar.gz ### ############################################################################## ############################################################################## * installing *source* package 'AMOUNTAIN' ... ** this is package 'AMOUNTAIN' version '1.33.0' ** using staged installation ** libs using C compiler: 'gcc.exe (GCC) 13.3.0' gcc -I"E:/biocbuild/bbs-3.21-bioc/R/include" -DNDEBUG -I/src/include -I/x64/include -I"C:/rtools44/x86_64-w64-mingw32.static.posix/include" -O2 -Wall -mfpmath=sse -msse2 -mstackrealign -c AMOUNTAIN.c -o AMOUNTAIN.o gcc -shared -s -static-libgcc -o AMOUNTAIN.dll tmp.def AMOUNTAIN.o -L/x64/lib -lgsl -lgslcblas -lm -LC:/rtools44/x86_64-w64-mingw32.static.posix/lib/x64 -LC:/rtools44/x86_64-w64-mingw32.static.posix/lib -LE:/biocbuild/bbs-3.21-bioc/R/bin/x64 -lR installing to E:/biocbuild/bbs-3.21-bioc/meat/AMOUNTAIN.buildbin-libdir/00LOCK-AMOUNTAIN/00new/AMOUNTAIN/libs/x64 ** R ** inst ** byte-compile and prepare package for lazy loading ** help *** installing help indices ** building package indices ** installing vignettes ** testing if installed package can be loaded from temporary location ** testing if installed package can be loaded from final location ** testing if installed package keeps a record of temporary installation path * MD5 sums packaged installation of 'AMOUNTAIN' as AMOUNTAIN_1.33.0.zip * DONE (AMOUNTAIN)