Back to Multiple platform build/check report for BioC 3.21: simplified long |
|
This page was generated on 2025-02-05 11:40 -0500 (Wed, 05 Feb 2025).
Hostname | OS | Arch (*) | R version | Installed pkgs |
---|---|---|---|---|
nebbiolo1 | Linux (Ubuntu 24.04.1 LTS) | x86_64 | R Under development (unstable) (2025-01-20 r87609) -- "Unsuffered Consequences" | 4717 |
palomino7 | Windows Server 2022 Datacenter | x64 | R Under development (unstable) (2025-01-21 r87610 ucrt) -- "Unsuffered Consequences" | 4478 |
lconway | macOS 12.7.1 Monterey | x86_64 | R Under development (unstable) (2025-01-22 r87618) -- "Unsuffered Consequences" | 4489 |
kjohnson3 | macOS 13.7.1 Ventura | arm64 | R Under development (unstable) (2025-01-20 r87609) -- "Unsuffered Consequences" | 4442 |
Click on any hostname to see more info about the system (e.g. compilers) (*) as reported by 'uname -p', except on Windows and Mac OS X |
Package 55/2295 | Hostname | OS / Arch | INSTALL | BUILD | CHECK | BUILD BIN | ||||||||
AllelicImbalance 1.45.0 (landing page) Jesper R Gadin
| nebbiolo1 | Linux (Ubuntu 24.04.1 LTS) / x86_64 | OK | OK | OK | ![]() | ||||||||
palomino7 | Windows Server 2022 Datacenter / x64 | OK | OK | OK | OK | ![]() | ||||||||
lconway | macOS 12.7.1 Monterey / x86_64 | OK | OK | OK | OK | ![]() | ||||||||
kjohnson3 | macOS 13.7.1 Ventura / arm64 | OK | OK | OK | OK | ![]() | ||||||||
To the developers/maintainers of the AllelicImbalance package: - Allow up to 24 hours (and sometimes 48 hours) for your latest push to git@git.bioconductor.org:packages/AllelicImbalance.git to reflect on this report. See Troubleshooting Build Report for more information. - Use the following Renviron settings to reproduce errors and warnings. - If 'R CMD check' started to fail recently on the Linux builder(s) over a missing dependency, add the missing dependency to 'Suggests:' in your DESCRIPTION file. See Renviron.bioc for more information. |
Package: AllelicImbalance |
Version: 1.45.0 |
Command: E:\biocbuild\bbs-3.21-bioc\R\bin\R.exe CMD check --no-multiarch --install=check:AllelicImbalance.install-out.txt --library=E:\biocbuild\bbs-3.21-bioc\R\library --no-vignettes --timings AllelicImbalance_1.45.0.tar.gz |
StartedAt: 2025-02-04 22:59:27 -0500 (Tue, 04 Feb 2025) |
EndedAt: 2025-02-04 23:08:43 -0500 (Tue, 04 Feb 2025) |
EllapsedTime: 556.2 seconds |
RetCode: 0 |
Status: OK |
CheckDir: AllelicImbalance.Rcheck |
Warnings: 0 |
############################################################################## ############################################################################## ### ### Running command: ### ### E:\biocbuild\bbs-3.21-bioc\R\bin\R.exe CMD check --no-multiarch --install=check:AllelicImbalance.install-out.txt --library=E:\biocbuild\bbs-3.21-bioc\R\library --no-vignettes --timings AllelicImbalance_1.45.0.tar.gz ### ############################################################################## ############################################################################## * using log directory 'E:/biocbuild/bbs-3.21-bioc/meat/AllelicImbalance.Rcheck' * using R Under development (unstable) (2025-01-21 r87610 ucrt) * using platform: x86_64-w64-mingw32 * R was compiled by gcc.exe (GCC) 13.3.0 GNU Fortran (GCC) 13.3.0 * running under: Windows Server 2022 x64 (build 20348) * using session charset: UTF-8 * using option '--no-vignettes' * checking for file 'AllelicImbalance/DESCRIPTION' ... OK * checking extension type ... Package * this is package 'AllelicImbalance' version '1.45.0' * package encoding: UTF-8 * checking package namespace information ... OK * checking package dependencies ... OK * checking if this is a source package ... OK * checking if there is a namespace ... OK * checking for hidden files and directories ... OK * checking for portable file names ... OK * checking whether package 'AllelicImbalance' can be installed ... OK * checking installed package size ... OK * checking package directory ... OK * checking 'build' directory ... OK * checking DESCRIPTION meta-information ... OK * checking top-level files ... OK * checking for left-over files ... OK * checking index information ... OK * checking package subdirectories ... NOTE Problems with news in 'NEWS': Cannot process chunk/lines: CHANGES IN VERSION 1.12.0 * checking code files for non-ASCII characters ... OK * checking R files for syntax errors ... OK * checking whether the package can be loaded ... OK * checking whether the package can be loaded with stated dependencies ... OK * checking whether the package can be unloaded cleanly ... OK * checking whether the namespace can be loaded with stated dependencies ... OK * checking whether the namespace can be unloaded cleanly ... OK * checking dependencies in R code ... OK * checking S3 generic/method consistency ... OK * checking replacement functions ... OK * checking foreign function calls ... OK * checking R code for possible problems ... OK * checking Rd files ... OK * checking Rd metadata ... OK * checking Rd cross-references ... OK * checking for missing documentation entries ... OK * checking for code/documentation mismatches ... OK * checking Rd \usage sections ... OK * checking Rd contents ... OK * checking for unstated dependencies in examples ... OK * checking contents of 'data' directory ... OK * checking data for non-ASCII characters ... OK * checking LazyData ... OK * checking data for ASCII and uncompressed saves ... OK * checking sizes of PDF files under 'inst/doc' ... OK * checking files in 'vignettes' ... OK * checking examples ... OK Examples with CPU (user + system) or elapsed time > 5s user system elapsed getSnpIdFromLocation 31.35 1.18 32.58 import-bam 29.07 0.41 29.47 lva 10.60 0.09 10.69 getAlleleCounts 6.34 0.05 6.41 scanForHeterozygotes-old 5.84 0.05 5.89 ASEset-glocationplot 5.61 0.16 5.77 annotation-wrappers 5.29 0.36 5.73 * checking for unstated dependencies in 'tests' ... OK * checking tests ... Running 'test-all.R' OK * checking for unstated dependencies in vignettes ... OK * checking package vignettes ... OK * checking running R code from vignettes ... SKIPPED * checking re-building of vignette outputs ... SKIPPED * checking PDF version of manual ... OK * DONE Status: 1 NOTE See 'E:/biocbuild/bbs-3.21-bioc/meat/AllelicImbalance.Rcheck/00check.log' for details.
AllelicImbalance.Rcheck/00install.out
############################################################################## ############################################################################## ### ### Running command: ### ### E:\biocbuild\bbs-3.21-bioc\R\bin\R.exe CMD INSTALL AllelicImbalance ### ############################################################################## ############################################################################## * installing to library 'E:/biocbuild/bbs-3.21-bioc/R/library' * installing *source* package 'AllelicImbalance' ... ** this is package 'AllelicImbalance' version '1.45.0' ** using staged installation ** R ** data *** moving datasets to lazyload DB ** inst ** byte-compile and prepare package for lazy loading Creating a generic function for 'chisq.test' from package 'stats' in package 'AllelicImbalance' Creating a generic function for 'binom.test' from package 'stats' in package 'AllelicImbalance' ** help *** installing help indices ** building package indices ** installing vignettes ** testing if installed package can be loaded from temporary location ** testing if installed package can be loaded from final location ** testing if installed package keeps a record of temporary installation path * DONE (AllelicImbalance)
AllelicImbalance.Rcheck/tests/test-all.Rout
R Under development (unstable) (2025-01-21 r87610 ucrt) -- "Unsuffered Consequences" Copyright (C) 2025 The R Foundation for Statistical Computing Platform: x86_64-w64-mingw32/x64 R is free software and comes with ABSOLUTELY NO WARRANTY. You are welcome to redistribute it under certain conditions. Type 'license()' or 'licence()' for distribution details. R is a collaborative project with many contributors. Type 'contributors()' for more information and 'citation()' on how to cite R or R packages in publications. Type 'demo()' for some demos, 'help()' for on-line help, or 'help.start()' for an HTML browser interface to help. Type 'q()' to quit R. > library(testthat) > test_check("AllelicImbalance") Loading required package: AllelicImbalance Loading required package: grid Loading required package: GenomicRanges Loading required package: stats4 Loading required package: BiocGenerics Loading required package: generics Attaching package: 'generics' The following objects are masked from 'package:base': as.difftime, as.factor, as.ordered, intersect, is.element, setdiff, setequal, union Attaching package: 'BiocGenerics' The following objects are masked from 'package:stats': IQR, mad, sd, var, xtabs The following objects are masked from 'package:base': Filter, Find, Map, Position, Reduce, anyDuplicated, aperm, append, as.data.frame, basename, cbind, colnames, dirname, do.call, duplicated, eval, evalq, get, grep, grepl, is.unsorted, lapply, mapply, match, mget, order, paste, pmax, pmax.int, pmin, pmin.int, rank, rbind, rownames, sapply, saveRDS, table, tapply, unique, unsplit, which.max, which.min Loading required package: S4Vectors Attaching package: 'S4Vectors' The following object is masked from 'package:utils': findMatches The following objects are masked from 'package:base': I, expand.grid, unname Loading required package: IRanges Attaching package: 'IRanges' The following object is masked from 'package:grDevices': windows Loading required package: GenomeInfoDb Loading required package: SummarizedExperiment Loading required package: MatrixGenerics Loading required package: matrixStats Attaching package: 'MatrixGenerics' The following objects are masked from 'package:matrixStats': colAlls, colAnyNAs, colAnys, colAvgsPerRowSet, colCollapse, colCounts, colCummaxs, colCummins, colCumprods, colCumsums, colDiffs, colIQRDiffs, colIQRs, colLogSumExps, colMadDiffs, colMads, colMaxs, colMeans2, colMedians, colMins, colOrderStats, colProds, colQuantiles, colRanges, colRanks, colSdDiffs, colSds, colSums2, colTabulates, colVarDiffs, colVars, colWeightedMads, colWeightedMeans, colWeightedMedians, colWeightedSds, colWeightedVars, rowAlls, rowAnyNAs, rowAnys, rowAvgsPerColSet, rowCollapse, rowCounts, rowCummaxs, rowCummins, rowCumprods, rowCumsums, rowDiffs, rowIQRDiffs, rowIQRs, rowLogSumExps, rowMadDiffs, rowMads, rowMaxs, rowMeans2, rowMedians, rowMins, rowOrderStats, rowProds, rowQuantiles, rowRanges, rowRanks, rowSdDiffs, rowSds, rowSums2, rowTabulates, rowVarDiffs, rowVars, rowWeightedMads, rowWeightedMeans, rowWeightedMedians, rowWeightedSds, rowWeightedVars Loading required package: Biobase Welcome to Bioconductor Vignettes contain introductory material; view with 'browseVignettes()'. To cite Bioconductor, see 'citation("Biobase")', and for packages 'citation("pkgname")'. Attaching package: 'Biobase' The following object is masked from 'package:MatrixGenerics': rowMedians The following objects are masked from 'package:matrixStats': anyMissing, rowMedians Loading required package: GenomicAlignments Loading required package: Biostrings Loading required package: XVector Attaching package: 'Biostrings' The following object is masked from 'package:grid': pattern The following object is masked from 'package:base': strsplit Loading required package: Rsamtools [ FAIL 0 | WARN 0 | SKIP 1 | PASS 96 ] ══ Skipped tests (1) ═══════════════════════════════════════════════════════════ • empty test (1): 'test_utils.R:3:1' [ FAIL 0 | WARN 0 | SKIP 1 | PASS 96 ] > > > > proc.time() user system elapsed 20.26 1.34 21.57
AllelicImbalance.Rcheck/AllelicImbalance-Ex.timings
name | user | system | elapsed | |
ASEset-barplot | 0.23 | 0.00 | 0.24 | |
ASEset-class | 0.56 | 0.03 | 0.59 | |
ASEset-filters | 0.06 | 0.00 | 0.06 | |
ASEset-gbarplot | 0.05 | 0.00 | 0.04 | |
ASEset-glocationplot | 5.61 | 0.16 | 5.77 | |
ASEset-gviztrack | 0.78 | 0.03 | 0.81 | |
ASEset-scanForHeterozygotes | 2.17 | 0.06 | 2.24 | |
ASEset.old | 0 | 0 | 0 | |
ASEset.sim | 0 | 0 | 0 | |
ASEsetFromBam | 0.01 | 0.00 | 0.01 | |
DetectedAI-class | 0.08 | 0.00 | 0.08 | |
DetectedAI-plot | 1.69 | 0.04 | 1.72 | |
DetectedAI-summary | 0.16 | 0.00 | 0.15 | |
GRvariants | 0 | 0 | 0 | |
GlobalAnalysis-class | 0.00 | 0.01 | 0.02 | |
LinkVariantAlmlof-class | 0 | 0 | 0 | |
LinkVariantAlmlof-plot | 2.47 | 0.03 | 2.50 | |
RegionSummary-class | 0 | 0 | 0 | |
RiskVariant-class | 0 | 0 | 0 | |
annotation-wrappers | 5.29 | 0.36 | 5.73 | |
annotationBarplot | 0.02 | 0.00 | 0.02 | |
barplot-lattice-support | 0.17 | 0.00 | 0.17 | |
binom.test | 0.05 | 0.00 | 0.05 | |
chisq.test | 0.17 | 0.00 | 0.17 | |
cigar-utilities | 0.03 | 0.00 | 0.03 | |
countAllelesFromBam | 0 | 0 | 0 | |
coverageMatrixListFromGAL | 1.25 | 0.02 | 1.26 | |
decorateWithExons | 0.02 | 0.00 | 0.02 | |
decorateWithGenes | 0.00 | 0.01 | 0.02 | |
defaultMapBias | 0.04 | 0.00 | 0.04 | |
defaultPhase | 0 | 0 | 0 | |
detectAI | 0.08 | 0.00 | 0.08 | |
fractionPlotDf | 0.03 | 0.00 | 0.03 | |
gba | 0 | 0 | 0 | |
genomatrix | 0 | 0 | 0 | |
genotype2phase | 0.02 | 0.01 | 0.03 | |
getAlleleCounts | 6.34 | 0.05 | 6.41 | |
getAlleleQuality | 4.34 | 0.08 | 4.42 | |
getAreaFromGeneNames | 0.69 | 0.03 | 0.72 | |
getDefaultMapBiasExpMean | 0.03 | 0.02 | 0.04 | |
getSnpIdFromLocation | 31.35 | 1.18 | 32.58 | |
histplot | 0 | 0 | 0 | |
implodeList-old | 0 | 0 | 0 | |
import-bam-2 | 0.01 | 0.00 | 0.02 | |
import-bam | 29.07 | 0.41 | 29.47 | |
import-bcf | 1.45 | 0.03 | 1.48 | |
inferAlleles | 0.01 | 0.00 | 0.01 | |
inferAltAllele | 0.04 | 0.00 | 0.03 | |
inferGenotypes | 0.04 | 0.01 | 0.06 | |
initialize-ASEset | 0.11 | 0.00 | 0.11 | |
initialize-DetectedAI | 0.13 | 0.02 | 0.14 | |
initialize-GlobalAnalysis | 0 | 0 | 0 | |
initialize-RiskVariant | 0.00 | 0.01 | 0.02 | |
legendBarplot | 0 | 0 | 0 | |
locationplot | 1.90 | 0.04 | 1.94 | |
lva | 10.60 | 0.09 | 10.69 | |
lva.internal | 0.39 | 0.00 | 0.39 | |
makeMaskedFasta | 1.33 | 0.00 | 1.33 | |
mapBiasRef | 0.02 | 0.02 | 0.03 | |
minCountFilt | 0.11 | 0.00 | 0.11 | |
minFreqFilt | 0.09 | 0.02 | 0.11 | |
multiAllelicFilt | 0.02 | 0.01 | 0.03 | |
phase2genotype | 0.04 | 0.00 | 0.04 | |
phaseArray2phaseMatrix | 0.00 | 0.02 | 0.02 | |
phaseMatrix2Array | 0.00 | 0.01 | 0.01 | |
randomRef | 0.05 | 0.00 | 0.05 | |
reads | 0 | 0 | 0 | |
refAllele | 0.03 | 0.00 | 0.03 | |
regionSummary | 0.72 | 0.00 | 0.72 | |
scanForHeterozygotes-old | 5.84 | 0.05 | 5.89 | |