Back to Multiple platform build/check report for BioC 3.21:   simplified   long
[A]BCDEFGHIJKLMNOPQRSTUVWXYZ

This page was generated on 2025-02-10 11:39 -0500 (Mon, 10 Feb 2025).

HostnameOSArch (*)R versionInstalled pkgs
nebbiolo1Linux (Ubuntu 24.04.1 LTS)x86_64R Under development (unstable) (2025-01-20 r87609) -- "Unsuffered Consequences" 4719
palomino7Windows Server 2022 Datacenterx64R Under development (unstable) (2025-01-21 r87610 ucrt) -- "Unsuffered Consequences" 4480
lconwaymacOS 12.7.1 Montereyx86_64R Under development (unstable) (2025-01-22 r87618) -- "Unsuffered Consequences" 4491
kjohnson3macOS 13.7.1 Venturaarm64R Under development (unstable) (2025-01-20 r87609) -- "Unsuffered Consequences" 4444
Click on any hostname to see more info about the system (e.g. compilers)      (*) as reported by 'uname -p', except on Windows and Mac OS X

Package 58/2295HostnameOS / ArchINSTALLBUILDCHECKBUILD BIN
AlpsNMR 4.9.0  (landing page)
Sergio Oller Moreno
Snapshot Date: 2025-02-09 13:40 -0500 (Sun, 09 Feb 2025)
git_url: https://git.bioconductor.org/packages/AlpsNMR
git_branch: devel
git_last_commit: f8b70f5
git_last_commit_date: 2024-10-29 10:53:23 -0500 (Tue, 29 Oct 2024)
nebbiolo1Linux (Ubuntu 24.04.1 LTS) / x86_64  OK    OK    OK  UNNEEDED, same version is already published
palomino7Windows Server 2022 Datacenter / x64  OK    OK    OK    OK  UNNEEDED, same version is already published
lconwaymacOS 12.7.1 Monterey / x86_64  OK    OK    OK    OK  UNNEEDED, same version is already published
kjohnson3macOS 13.7.1 Ventura / arm64  OK    OK    OK    OK  UNNEEDED, same version is already published


CHECK results for AlpsNMR on nebbiolo1

To the developers/maintainers of the AlpsNMR package:
- Allow up to 24 hours (and sometimes 48 hours) for your latest push to git@git.bioconductor.org:packages/AlpsNMR.git to reflect on this report. See Troubleshooting Build Report for more information.
- Use the following Renviron settings to reproduce errors and warnings.
- If 'R CMD check' started to fail recently on the Linux builder(s) over a missing dependency, add the missing dependency to 'Suggests:' in your DESCRIPTION file. See Renviron.bioc for more information.

raw results


Summary

Package: AlpsNMR
Version: 4.9.0
Command: /home/biocbuild/bbs-3.21-bioc/R/bin/R CMD check --install=check:AlpsNMR.install-out.txt --library=/home/biocbuild/bbs-3.21-bioc/R/site-library --timings AlpsNMR_4.9.0.tar.gz
StartedAt: 2025-02-09 19:58:32 -0500 (Sun, 09 Feb 2025)
EndedAt: 2025-02-09 20:03:10 -0500 (Sun, 09 Feb 2025)
EllapsedTime: 277.5 seconds
RetCode: 0
Status:   OK  
CheckDir: AlpsNMR.Rcheck
Warnings: 0

Command output

##############################################################################
##############################################################################
###
### Running command:
###
###   /home/biocbuild/bbs-3.21-bioc/R/bin/R CMD check --install=check:AlpsNMR.install-out.txt --library=/home/biocbuild/bbs-3.21-bioc/R/site-library --timings AlpsNMR_4.9.0.tar.gz
###
##############################################################################
##############################################################################


* using log directory ‘/home/biocbuild/bbs-3.21-bioc/meat/AlpsNMR.Rcheck’
* using R Under development (unstable) (2025-01-20 r87609)
* using platform: x86_64-pc-linux-gnu
* R was compiled by
    gcc (Ubuntu 13.3.0-6ubuntu2~24.04) 13.3.0
    GNU Fortran (Ubuntu 13.3.0-6ubuntu2~24.04) 13.3.0
* running under: Ubuntu 24.04.1 LTS
* using session charset: UTF-8
* checking for file ‘AlpsNMR/DESCRIPTION’ ... OK
* checking extension type ... Package
* this is package ‘AlpsNMR’ version ‘4.9.0’
* package encoding: UTF-8
* checking package namespace information ... OK
* checking package dependencies ... INFO
Imports includes 26 non-default packages.
Importing from so many packages makes the package vulnerable to any of
them becoming unavailable.  Move as many as possible to Suggests and
use conditionally.
* checking if this is a source package ... OK
* checking if there is a namespace ... OK
* checking for hidden files and directories ... OK
* checking for portable file names ... OK
* checking for sufficient/correct file permissions ... OK
* checking whether package ‘AlpsNMR’ can be installed ... OK
* checking installed package size ... OK
* checking package directory ... OK
* checking ‘build’ directory ... OK
* checking DESCRIPTION meta-information ... OK
* checking top-level files ... OK
* checking for left-over files ... OK
* checking index information ... OK
* checking package subdirectories ... OK
* checking code files for non-ASCII characters ... OK
* checking R files for syntax errors ... OK
* checking whether the package can be loaded ... OK
* checking whether the package can be loaded with stated dependencies ... OK
* checking whether the package can be unloaded cleanly ... OK
* checking whether the namespace can be loaded with stated dependencies ... OK
* checking whether the namespace can be unloaded cleanly ... OK
* checking loading without being on the library search path ... OK
* checking dependencies in R code ... OK
* checking S3 generic/method consistency ... OK
* checking replacement functions ... OK
* checking foreign function calls ... OK
* checking R code for possible problems ... OK
* checking Rd files ... OK
* checking Rd metadata ... OK
* checking Rd cross-references ... NOTE
Found the following Rd file(s) with Rd \link{} targets missing package
anchors:
  filter.nmr_dataset_family.Rd: dplyr
Please provide package anchors for all Rd \link{} targets not in the
package itself and the base packages.
* checking for missing documentation entries ... OK
* checking for code/documentation mismatches ... OK
* checking Rd \usage sections ... OK
* checking Rd contents ... OK
* checking for unstated dependencies in examples ... OK
* checking contents of ‘data’ directory ... OK
* checking data for non-ASCII characters ... OK
* checking data for ASCII and uncompressed saves ... OK
* checking files in ‘vignettes’ ... OK
* checking examples ... OK
Examples with CPU (user + system) or elapsed time > 5s
                                     user system elapsed
Peak_detection                      7.830  1.642   6.764
print.nmr_dataset                   3.976  3.366   3.222
SummarizedExperiment_to_nmr_data_1r 6.546  0.708   6.639
nmr_pca_outliers_robust             5.044  1.010   5.307
is.nmr_dataset                      3.609  2.370   2.646
permutation_test_plot               3.558  2.056   1.654
* checking for unstated dependencies in ‘tests’ ... OK
* checking tests ...
  Running ‘testthat.R’
 OK
* checking for unstated dependencies in vignettes ... OK
* checking package vignettes ... OK
* checking re-building of vignette outputs ... OK
* checking PDF version of manual ... OK
* DONE

Status: 1 NOTE
See
  ‘/home/biocbuild/bbs-3.21-bioc/meat/AlpsNMR.Rcheck/00check.log’
for details.


Installation output

AlpsNMR.Rcheck/00install.out

##############################################################################
##############################################################################
###
### Running command:
###
###   /home/biocbuild/bbs-3.21-bioc/R/bin/R CMD INSTALL AlpsNMR
###
##############################################################################
##############################################################################


* installing to library ‘/home/biocbuild/bbs-3.21-bioc/R/site-library’
* installing *source* package ‘AlpsNMR’ ...
** this is package ‘AlpsNMR’ version ‘4.9.0’
** using staged installation
** R
** data
** inst
** byte-compile and prepare package for lazy loading
** help
*** installing help indices
*** copying figures
** building package indices
** installing vignettes
** testing if installed package can be loaded from temporary location
** testing if installed package can be loaded from final location
** testing if installed package keeps a record of temporary installation path
* DONE (AlpsNMR)

Tests output

AlpsNMR.Rcheck/tests/testthat.Rout


R Under development (unstable) (2025-01-20 r87609) -- "Unsuffered Consequences"
Copyright (C) 2025 The R Foundation for Statistical Computing
Platform: x86_64-pc-linux-gnu

R is free software and comes with ABSOLUTELY NO WARRANTY.
You are welcome to redistribute it under certain conditions.
Type 'license()' or 'licence()' for distribution details.

R is a collaborative project with many contributors.
Type 'contributors()' for more information and
'citation()' on how to cite R or R packages in publications.

Type 'demo()' for some demos, 'help()' for on-line help, or
'help.start()' for an HTML browser interface to help.
Type 'q()' to quit R.

> library(testthat)
> library(AlpsNMR)

Attaching package: 'AlpsNMR'

The following object is masked from 'package:stats':

    filter

> 
> test_check("AlpsNMR")
[ FAIL 0 | WARN 0 | SKIP 1 | PASS 93 ]

══ Skipped tests (1) ═══════════════════════════════════════════════════════════
• On Bioconductor (1): 'test_rDolphin.R:2:5'

[ FAIL 0 | WARN 0 | SKIP 1 | PASS 93 ]
> 
> proc.time()
   user  system elapsed 
 23.346   8.779  23.488 

Example timings

AlpsNMR.Rcheck/AlpsNMR-Ex.timings

nameusersystemelapsed
AlpsNMR-package1.8950.3931.728
HMDB_blood0.0040.0020.006
HMDB_cell0.0030.0000.002
HMDB_urine0.0050.0000.004
Parameters_blood0.0010.0010.002
Parameters_cell0.0010.0000.002
Parameters_urine0.0020.0000.002
Peak_detection7.8301.6426.764
Pipelines0.0010.0010.002
ROI_blood0.0020.0020.003
ROI_cell0.0030.0000.003
ROI_urine0.0010.0020.003
SummarizedExperiment_to_nmr_data_1r6.5460.7086.639
SummarizedExperiment_to_nmr_dataset_peak_table1.0050.4580.797
bp_VIP_analysis1.4860.8420.878
bp_kfold_VIP_analysis0.7880.5280.530
download_MTBLS2420.0000.0000.001
file_lister0.0500.0170.067
files_to_rDolphin0.0010.0000.000
filter.nmr_dataset_family0.9380.5460.704
format.nmr_dataset0.7790.5710.555
format.nmr_dataset_1D0.8740.5570.644
format.nmr_dataset_peak_table0.8800.4640.671
get_integration_with_metadata0.0300.0030.033
hmdb0.0480.0030.052
is.nmr_dataset3.6092.3702.646
is.nmr_dataset_1D0.6750.5490.561
is.nmr_dataset_peak_table0.7940.3980.586
load_and_save_functions0.7800.5240.560
models_stability_plot_bootstrap0.0020.0000.002
models_stability_plot_plsda0.3330.4360.398
new_nmr_dataset0.0020.0000.002
new_nmr_dataset_1D0.0010.0000.001
new_nmr_dataset_peak_table0.9050.6560.729
nmr_autophase0.2340.1030.316
nmr_baseline_estimation0.0090.0010.010
nmr_baseline_removal0.0050.0000.005
nmr_baseline_threshold0.0000.0020.002
nmr_baseline_threshold_plot0.2170.0380.255
nmr_batman0.0010.0020.003
nmr_batman_options0.0000.0000.001
nmr_build_peak_table0.0340.0080.042
nmr_data0.0790.0290.109
nmr_data_1r_to_SummarizedExperiment0.9700.6270.877
nmr_data_analysis0.4070.5450.447
nmr_dataset0.0000.0000.001
nmr_dataset_1D0.0000.0010.002
nmr_dataset_peak_table_to_SummarizedExperiment0.9950.6360.855
nmr_exclude_region0.0060.0010.007
nmr_export_data_1r0.8240.6820.681
nmr_get_peak_distances0.0070.0010.010
nmr_identify_regions_blood0.0130.0020.017
nmr_identify_regions_cell0.010.000.01
nmr_identify_regions_urine0.0130.0010.014
nmr_integrate_regions0.0090.0030.013
nmr_interpolate_1D1.7211.1291.353
nmr_meta_add1.9521.1341.618
nmr_meta_export0.8460.5840.575
nmr_meta_get0.6550.6430.583
nmr_meta_get_column0.6470.4610.495
nmr_meta_groups0.7230.4560.540
nmr_normalize0.2550.0460.301
nmr_pca_build_model1.7021.1931.444
nmr_pca_outliers0.9910.5660.789
nmr_pca_outliers_filter1.0700.6560.878
nmr_pca_outliers_plot000
nmr_pca_outliers_robust5.0441.0105.307
nmr_pca_plots0.3730.0210.395
nmr_peak_clustering0.0650.0050.069
nmr_ppm_resolution0.0080.0010.008
nmr_read_bruker_fid0.0010.0000.000
nmr_read_samples1.6031.4321.358
nmr_zip_bruker_samples0.2570.0100.268
peaklist_accept_peaks0.0040.0010.004
permutation_test_model0.8071.0471.874
permutation_test_plot3.5582.0561.654
plot.nmr_dataset_1D0.0010.0010.002
plot_bootstrap_multimodel0.0030.0000.002
plot_interactive3.3061.5680.632
plot_plsda_multimodel0.2140.4710.364
plot_plsda_samples0.1170.2280.295
plot_vip_scores0.0360.0710.003
plot_webgl0.0020.0000.002
plsda_auroc_vip_compare0.5030.5370.910
plsda_auroc_vip_method0.0000.0000.001
ppm_resolution0.0020.0010.003
print.nmr_dataset3.9763.3663.222
print.nmr_dataset_1D0.6720.5400.563
print.nmr_dataset_peak_table0.8520.5510.680
random_subsampling0.0010.0030.004
save_files_to_rDolphin000
save_profiling_output0.0000.0000.001
sub-.nmr_dataset0.7510.6640.589
sub-.nmr_dataset_1D0.7960.6170.687
sub-.nmr_dataset_peak_table0.8880.5670.717
tidy.nmr_dataset_1D0.7750.5000.639
to_ASICS0.8460.1621.008
to_ChemoSpec1.0830.8100.979
validate_nmr_dataset1.5151.2701.308
validate_nmr_dataset_family0.8410.5870.696
validate_nmr_dataset_peak_table0.0010.0000.001
zzz0.0000.0002.002