Back to Multiple platform build/check report for BioC 3.21:   simplified   long
A[B]CDEFGHIJKLMNOPQRSTUVWXYZ

This page was generated on 2025-02-06 11:39 -0500 (Thu, 06 Feb 2025).

HostnameOSArch (*)R versionInstalled pkgs
nebbiolo1Linux (Ubuntu 24.04.1 LTS)x86_64R Under development (unstable) (2025-01-20 r87609) -- "Unsuffered Consequences" 4719
palomino7Windows Server 2022 Datacenterx64R Under development (unstable) (2025-01-21 r87610 ucrt) -- "Unsuffered Consequences" 4480
lconwaymacOS 12.7.1 Montereyx86_64R Under development (unstable) (2025-01-22 r87618) -- "Unsuffered Consequences" 4491
kjohnson3macOS 13.7.1 Venturaarm64R Under development (unstable) (2025-01-20 r87609) -- "Unsuffered Consequences" 4444
Click on any hostname to see more info about the system (e.g. compilers)      (*) as reported by 'uname -p', except on Windows and Mac OS X

Package 213/2295HostnameOS / ArchINSTALLBUILDCHECKBUILD BIN
BioNAR 1.9.1  (landing page)
Anatoly Sorokin
Snapshot Date: 2025-02-05 13:48 -0500 (Wed, 05 Feb 2025)
git_url: https://git.bioconductor.org/packages/BioNAR
git_branch: devel
git_last_commit: e9d4e8b
git_last_commit_date: 2024-12-10 21:41:23 -0500 (Tue, 10 Dec 2024)
nebbiolo1Linux (Ubuntu 24.04.1 LTS) / x86_64  OK    OK    OK  UNNEEDED, same version is already published
palomino7Windows Server 2022 Datacenter / x64  OK    OK    OK    OK  UNNEEDED, same version is already published
lconwaymacOS 12.7.1 Monterey / x86_64  OK    OK    OK    OK  UNNEEDED, same version is already published
kjohnson3macOS 13.7.1 Ventura / arm64  OK    OK    OK    OK  UNNEEDED, same version is already published


CHECK results for BioNAR on nebbiolo1

To the developers/maintainers of the BioNAR package:
- Allow up to 24 hours (and sometimes 48 hours) for your latest push to git@git.bioconductor.org:packages/BioNAR.git to reflect on this report. See Troubleshooting Build Report for more information.
- Use the following Renviron settings to reproduce errors and warnings.
- If 'R CMD check' started to fail recently on the Linux builder(s) over a missing dependency, add the missing dependency to 'Suggests:' in your DESCRIPTION file. See Renviron.bioc for more information.

raw results


Summary

Package: BioNAR
Version: 1.9.1
Command: /home/biocbuild/bbs-3.21-bioc/R/bin/R CMD check --install=check:BioNAR.install-out.txt --library=/home/biocbuild/bbs-3.21-bioc/R/site-library --timings BioNAR_1.9.1.tar.gz
StartedAt: 2025-02-05 20:27:30 -0500 (Wed, 05 Feb 2025)
EndedAt: 2025-02-05 20:34:59 -0500 (Wed, 05 Feb 2025)
EllapsedTime: 449.9 seconds
RetCode: 0
Status:   OK  
CheckDir: BioNAR.Rcheck
Warnings: 0

Command output

##############################################################################
##############################################################################
###
### Running command:
###
###   /home/biocbuild/bbs-3.21-bioc/R/bin/R CMD check --install=check:BioNAR.install-out.txt --library=/home/biocbuild/bbs-3.21-bioc/R/site-library --timings BioNAR_1.9.1.tar.gz
###
##############################################################################
##############################################################################


* using log directory ‘/home/biocbuild/bbs-3.21-bioc/meat/BioNAR.Rcheck’
* using R Under development (unstable) (2025-01-20 r87609)
* using platform: x86_64-pc-linux-gnu
* R was compiled by
    gcc (Ubuntu 13.3.0-6ubuntu2~24.04) 13.3.0
    GNU Fortran (Ubuntu 13.3.0-6ubuntu2~24.04) 13.3.0
* running under: Ubuntu 24.04.1 LTS
* using session charset: UTF-8
* checking for file ‘BioNAR/DESCRIPTION’ ... OK
* this is package ‘BioNAR’ version ‘1.9.1’
* package encoding: UTF-8
* checking package namespace information ... OK
* checking package dependencies ... OK
* checking if this is a source package ... OK
* checking if there is a namespace ... OK
* checking for hidden files and directories ... OK
* checking for portable file names ... OK
* checking for sufficient/correct file permissions ... OK
* checking whether package ‘BioNAR’ can be installed ... OK
* checking installed package size ... OK
* checking package directory ... OK
* checking ‘build’ directory ... OK
* checking DESCRIPTION meta-information ... OK
* checking top-level files ... OK
* checking for left-over files ... OK
* checking index information ... OK
* checking package subdirectories ... OK
* checking code files for non-ASCII characters ... OK
* checking R files for syntax errors ... OK
* checking whether the package can be loaded ... OK
* checking whether the package can be loaded with stated dependencies ... OK
* checking whether the package can be unloaded cleanly ... OK
* checking whether the namespace can be loaded with stated dependencies ... OK
* checking whether the namespace can be unloaded cleanly ... OK
* checking loading without being on the library search path ... OK
* checking dependencies in R code ... NOTE
Package in Depends field not imported from: ‘Rdpack’
  These packages need to be imported from (in the NAMESPACE file)
  for when this namespace is loaded but not attached.
There are ::: calls to the package's namespace in its code. A package
  almost never needs to use ::: for its own objects:
  ‘addNoise’ ‘gofs’ ‘highlightRate’ ‘plotSigmoid’
* checking S3 generic/method consistency ... OK
* checking replacement functions ... OK
* checking foreign function calls ... OK
* checking R code for possible problems ... NOTE
clusterORA : forafun: no visible binding for global variable ‘pathway’
clusterORA : forafun: no visible binding for global variable ‘size’
clusterORA : forafun: no visible binding for global variable ‘overlap’
clusterORA : forafun: no visible binding for global variable ‘pval’
clusterORA : forafun: no visible binding for global variable ‘padj’
clusterORA : forafun: no visible binding for global variable
  ‘overlapGenes’
clusterORA : forafun: no visible binding for global variable ‘FL’
clusterORA : forafun: no visible binding for global variable ‘N’
clusterORA : forafun: no visible binding for global variable ‘Fn’
clusterORA : forafun: no visible binding for global variable ‘Cn’
clusterORA : forafun: no visible binding for global variable ‘Mu’
clusterORA : forafun: no visible binding for global variable ‘OR’
clusterORA : forafun: no visible binding for global variable ‘CIw’
clusterORA : forafun: no visible binding for global variable ‘Fe’
clusterORA : forafun: no visible binding for global variable ‘Fc’
clusterORA : forafun: no visible binding for global variable ‘palt’
plotSigmoid: no visible binding for global variable ‘yiR1’
plotSigmoid: no visible binding for global variable ‘yiR2’
plotSigmoid: no visible binding for global variable ‘yiR3’
plotSigmoid: no visible binding for global variable ‘yiR4’
plotSigmoid: no visible binding for global variable ‘yiR5’
Undefined global functions or variables:
  CIw Cn FL Fc Fe Fn Mu N OR overlap overlapGenes padj palt pathway
  pval size yiR1 yiR2 yiR3 yiR4 yiR5
* checking Rd files ... NOTE
checkRd: (-1) FitDegree.Rd:34: Lost braces
    34 | \item{legpos}{position of the legend @seealso{legend}}
       |                                              ^
checkRd: (-1) calcEntropy.Rd:52: Lost braces; missing escapes or markup?
    52 | Other {Entropy Functions}: 
       |       ^
checkRd: (-1) getEntropy.Rd:66: Lost braces; missing escapes or markup?
    66 | Other {Entropy Functions}: 
       |       ^
checkRd: (-1) getEntropyRate.Rd:41: Lost braces; missing escapes or markup?
    41 | Other {Entropy Functions}: 
       |       ^
checkRd: (-1) getRobustness.Rd:49: Lost braces; missing escapes or markup?
    49 | Other {Robustness functions}: 
       |       ^
checkRd: (-1) makeConsensusMatrix.Rd:69: Lost braces; missing escapes or markup?
    69 | Other {Robustness functions}: 
       |       ^
checkRd: (-1) plotEntropy.Rd:57: Lost braces; missing escapes or markup?
    57 | Other {Entropy Functions}: 
       |       ^
* checking Rd metadata ... OK
* checking Rd cross-references ... NOTE
Unknown package ‘clusterCons’ in Rd xrefs
* checking for missing documentation entries ... OK
* checking for code/documentation mismatches ... OK
* checking Rd \usage sections ... OK
* checking Rd contents ... OK
* checking for unstated dependencies in examples ... OK
* checking contents of ‘data’ directory ... OK
* checking data for non-ASCII characters ... OK
* checking LazyData ... OK
* checking data for ASCII and uncompressed saves ... OK
* checking files in ‘vignettes’ ... OK
* checking examples ... OK
Examples with CPU (user + system) or elapsed time > 5s
                           user system elapsed
clusteringSummary        11.275  0.026  11.302
plotEntropy               8.767  0.325   9.092
addEdgeAtts               8.595  0.178   8.775
getEntropy                8.439  0.084   8.524
calcEntropy               8.424  0.051   8.475
getGraphCentralityECDF    7.518  0.000   7.520
getCentralityMatrix       7.320  0.061   7.385
annotateTopOntoOVG        7.207  0.011   7.220
runPermDisease            6.099  0.141   6.240
FitDegree                 0.805  0.022   5.021
getRandomGraphCentrality  0.589  0.007  11.347
* checking for unstated dependencies in ‘tests’ ... OK
* checking tests ...
  Running ‘testthat.R’
 OK
* checking for unstated dependencies in vignettes ... OK
* checking package vignettes ... OK
* checking re-building of vignette outputs ... OK
* checking PDF version of manual ... OK
* DONE

Status: 4 NOTEs
See
  ‘/home/biocbuild/bbs-3.21-bioc/meat/BioNAR.Rcheck/00check.log’
for details.


Installation output

BioNAR.Rcheck/00install.out

##############################################################################
##############################################################################
###
### Running command:
###
###   /home/biocbuild/bbs-3.21-bioc/R/bin/R CMD INSTALL BioNAR
###
##############################################################################
##############################################################################


* installing to library ‘/home/biocbuild/bbs-3.21-bioc/R/site-library’
* installing *source* package ‘BioNAR’ ...
** this is package ‘BioNAR’ version ‘1.9.1’
** using staged installation
** R
** data
*** moving datasets to lazyload DB
** inst
** byte-compile and prepare package for lazy loading
** help
*** installing help indices
** building package indices
** installing vignettes
** testing if installed package can be loaded from temporary location
** testing if installed package can be loaded from final location
** testing if installed package keeps a record of temporary installation path
* DONE (BioNAR)

Tests output

BioNAR.Rcheck/tests/testthat.Rout


R Under development (unstable) (2025-01-20 r87609) -- "Unsuffered Consequences"
Copyright (C) 2025 The R Foundation for Statistical Computing
Platform: x86_64-pc-linux-gnu

R is free software and comes with ABSOLUTELY NO WARRANTY.
You are welcome to redistribute it under certain conditions.
Type 'license()' or 'licence()' for distribution details.

R is a collaborative project with many contributors.
Type 'contributors()' for more information and
'citation()' on how to cite R or R packages in publications.

Type 'demo()' for some demos, 'help()' for on-line help, or
'help.start()' for an HTML browser interface to help.
Type 'q()' to quit R.

> library(testthat)
> library(BioNAR)
Loading required package: igraph

Attaching package: 'igraph'

The following object is masked from 'package:testthat':

    compare

The following objects are masked from 'package:stats':

    decompose, spectrum

The following object is masked from 'package:base':

    union

Loading required package: poweRlaw
Loading required package: latex2exp
Loading required package: RSpectra
Loading required package: Rdpack



Attaching package: 'BioNAR'

The following object is masked from 'package:igraph':

    permute

> 
> test_check("BioNAR")
[ FAIL 0 | WARN 0 | SKIP 2 | PASS 129 ]

══ Skipped tests (2) ═══════════════════════════════════════════════════════════
• On CRAN (2): 'test_bridgeness.R:38:5', 'test_bridgeness.R:81:5'

[ FAIL 0 | WARN 0 | SKIP 2 | PASS 129 ]
> 
> proc.time()
   user  system elapsed 
 32.822   1.441  45.076 

Example timings

BioNAR.Rcheck/BioNAR-Ex.timings

nameusersystemelapsed
FitDegree0.8050.0225.021
addEdgeAtts8.5950.1788.775
annotateGOont3.7490.1493.898
annotateGeneNames0.2350.0050.239
annotateGoBP3.8070.1003.908
annotateGoCC2.9980.0143.014
annotateGoMF3.4130.0893.504
annotatePresynaptic1.3740.0141.389
annotateSCHanno4.7640.0034.769
annotateTopOntoOVG7.2070.0117.220
annotateVertex0.0030.0010.004
applpMatrixToGraph0.0020.0000.002
buildNetwork0.0020.0020.003
calcAllClustering4.4710.0044.476
calcBridgeness0.080.000.08
calcCentrality0.0760.0030.079
calcCentralityExternalDistances0.4340.0100.444
calcCentralityInternalDistances0.4390.0190.458
calcClustering0.0030.0000.003
calcDiseasePairs0.4620.0260.488
calcEntropy8.4240.0518.475
calcMembership0.0050.0000.005
calcReclusterMatrix0.0320.0000.032
calcSparsness3.6330.0193.654
clusterORA0.3390.0200.358
clusteringSummary11.275 0.02611.302
degreeBinnedGDAs0.230.030.26
escapeAnnotation0.0000.0000.001
evalCentralitySignificance0.4670.0470.516
findLCC0.0020.0020.005
getAnnotationList0.0610.0020.064
getAnnotationVertexList0.0700.0120.081
getBridgeness0.0590.0060.065
getCentralityMatrix7.3200.0617.385
getClusterSubgraphByID0.0190.0000.020
getClustering0.0200.0010.021
getCommunityGraph0.0210.0010.022
getDType000
getDYNAMO0.0330.0000.033
getDiseases000
getEntropy8.4390.0848.524
getEntropyRate0.0040.0000.004
getGNP0.0180.0010.019
getGraphCentralityECDF7.5180.0007.520
getPA0.0180.0010.019
getRandomGraphCentrality 0.589 0.00711.347
getRobustness0.4880.0820.570
layoutByCluster0.1070.0050.112
layoutByRecluster0.0960.0160.112
makeConsensusMatrix0.5010.0240.525
makeMembership0.0030.0000.003
metlMatrix0.0070.0020.009
normModularity4.2460.1444.390
permute0.0000.0010.001
plotBridgeness0.3730.0170.390
plotEntropy8.7670.3259.092
prepareGDA0.2590.0100.269
recluster0.0300.0030.033
removeVertexTerm0.0040.0010.005
runPermDisease6.0990.1416.240
sampleDegBinnedGDA0.3280.0100.337
sampleGraphClust0.0240.0010.025
unescapeAnnotation0.0010.0000.001
zeroNA0.0000.0010.001