Back to Multiple platform build/check report for BioC 3.21:   simplified   long
A[B]CDEFGHIJKLMNOPQRSTUVWXYZ

This page was generated on 2025-01-28 11:47 -0500 (Tue, 28 Jan 2025).

HostnameOSArch (*)R versionInstalled pkgs
nebbiolo1Linux (Ubuntu 24.04.1 LTS)x86_64R Under development (unstable) (2025-01-20 r87609) -- "Unsuffered Consequences" 4659
palomino7Windows Server 2022 Datacenterx64R Under development (unstable) (2025-01-21 r87610 ucrt) -- "Unsuffered Consequences" 4454
lconwaymacOS 12.7.1 Montereyx86_64R Under development (unstable) (2025-01-22 r87618) -- "Unsuffered Consequences" 4465
kjohnson3macOS 13.7.1 Venturaarm64R Under development (unstable) (2025-01-20 r87609) -- "Unsuffered Consequences" 4419
kunpeng2Linux (openEuler 22.03 LTS-SP1)aarch64R Under development (unstable) (2024-11-24 r87369) -- "Unsuffered Consequences" 4409
Click on any hostname to see more info about the system (e.g. compilers)      (*) as reported by 'uname -p', except on Windows and Mac OS X

Package 172/2286HostnameOS / ArchINSTALLBUILDCHECKBUILD BIN
Biobase 2.67.0  (landing page)
Bioconductor Package Maintainer
Snapshot Date: 2025-01-27 13:40 -0500 (Mon, 27 Jan 2025)
git_url: https://git.bioconductor.org/packages/Biobase
git_branch: devel
git_last_commit: 06c9ac2
git_last_commit_date: 2024-10-29 09:20:38 -0500 (Tue, 29 Oct 2024)
nebbiolo1Linux (Ubuntu 24.04.1 LTS) / x86_64  OK    OK    OK  UNNEEDED, same version is already published
palomino7Windows Server 2022 Datacenter / x64  OK    OK    OK    OK  UNNEEDED, same version is already published
lconwaymacOS 12.7.1 Monterey / x86_64  OK    OK    OK    OK  UNNEEDED, same version is already published
kjohnson3macOS 13.7.1 Ventura / arm64  OK    OK    OK    OK  UNNEEDED, same version is already published
kunpeng2Linux (openEuler 22.03 LTS-SP1) / aarch64  OK    OK    OK  


CHECK results for Biobase on kunpeng2

To the developers/maintainers of the Biobase package:
- Allow up to 24 hours (and sometimes 48 hours) for your latest push to git@git.bioconductor.org:packages/Biobase.git to reflect on this report. See Troubleshooting Build Report for more information.
- Use the following Renviron settings to reproduce errors and warnings.
- If 'R CMD check' started to fail recently on the Linux builder(s) over a missing dependency, add the missing dependency to 'Suggests:' in your DESCRIPTION file. See Renviron.bioc for more information.
- See Martin Grigorov's blog post for how to debug Linux ARM64 related issues on a x86_64 host.

raw results


Summary

Package: Biobase
Version: 2.67.0
Command: /home/biocbuild/R/R/bin/R CMD check --install=check:Biobase.install-out.txt --library=/home/biocbuild/R/R/site-library --no-vignettes --timings Biobase_2.67.0.tar.gz
StartedAt: 2025-01-28 03:51:03 -0000 (Tue, 28 Jan 2025)
EndedAt: 2025-01-28 03:52:36 -0000 (Tue, 28 Jan 2025)
EllapsedTime: 93.1 seconds
RetCode: 0
Status:   OK  
CheckDir: Biobase.Rcheck
Warnings: 0

Command output

##############################################################################
##############################################################################
###
### Running command:
###
###   /home/biocbuild/R/R/bin/R CMD check --install=check:Biobase.install-out.txt --library=/home/biocbuild/R/R/site-library --no-vignettes --timings Biobase_2.67.0.tar.gz
###
##############################################################################
##############################################################################


* using log directory ‘/home/biocbuild/bbs-3.21-bioc/meat/Biobase.Rcheck’
* using R Under development (unstable) (2024-11-24 r87369)
* using platform: aarch64-unknown-linux-gnu
* R was compiled by
    aarch64-unknown-linux-gnu-gcc (GCC) 14.2.0
    GNU Fortran (GCC) 14.2.0
* running under: openEuler 24.03 (LTS)
* using session charset: UTF-8
* using option ‘--no-vignettes’
* checking for file ‘Biobase/DESCRIPTION’ ... OK
* this is package ‘Biobase’ version ‘2.67.0’
* checking package namespace information ... OK
* checking package dependencies ... OK
* checking if this is a source package ... OK
* checking if there is a namespace ... OK
* checking for hidden files and directories ... OK
* checking for portable file names ... OK
* checking for sufficient/correct file permissions ... OK
* checking whether package ‘Biobase’ can be installed ... OK
* used C compiler: ‘aarch64-unknown-linux-gnu-gcc (GCC) 14.2.0’
* checking installed package size ... OK
* checking package directory ... OK
* checking ‘build’ directory ... OK
* checking DESCRIPTION meta-information ... OK
* checking top-level files ... OK
* checking for left-over files ... OK
* checking index information ... OK
* checking package subdirectories ... OK
* checking code files for non-ASCII characters ... OK
* checking R files for syntax errors ... OK
* checking whether the package can be loaded ... OK
* checking whether the package can be loaded with stated dependencies ... OK
* checking whether the package can be unloaded cleanly ... OK
* checking whether the namespace can be loaded with stated dependencies ... OK
* checking whether the namespace can be unloaded cleanly ... OK
* checking loading without being on the library search path ... OK
* checking whether startup messages can be suppressed ... OK
* checking dependencies in R code ... OK
* checking S3 generic/method consistency ... OK
* checking replacement functions ... OK
* checking foreign function calls ... OK
* checking R code for possible problems ... OK
* checking Rd files ... OK
* checking Rd metadata ... OK
* checking Rd cross-references ... NOTE
Found the following Rd file(s) with Rd \link{} targets missing package
anchors:
  class.AnnotatedDataFrame.Rd: updateObject
  class.ExpressionSet.Rd: updateObject
  class.MIAME.Rd: updateObject
  class.MultiSet.Rd: updateObject
  class.NChannelSet.Rd: updateObject
  class.SnpSet.Rd: updateObject
  class.eSet.Rd: updateObject
Please provide package anchors for all Rd \link{} targets not in the
package itself and the base packages.
* checking for missing documentation entries ... OK
* checking for code/documentation mismatches ... OK
* checking Rd \usage sections ... OK
* checking Rd contents ... OK
* checking for unstated dependencies in examples ... OK
* checking contents of ‘data’ directory ... OK
* checking data for non-ASCII characters ... OK
* checking data for ASCII and uncompressed saves ... OK
* checking line endings in C/C++/Fortran sources/headers ... OK
* checking compiled code ... NOTE
Note: information on .o files is not available
* checking files in ‘vignettes’ ... OK
* checking examples ... OK
* checking for unstated dependencies in ‘tests’ ... OK
* checking tests ...
  Running ‘test-all.R’
  Running ‘test-rowMedians.R’
 OK
* checking for unstated dependencies in vignettes ... OK
* checking package vignettes ... OK
* checking running R code from vignettes ... SKIPPED
* checking re-building of vignette outputs ... SKIPPED
* checking PDF version of manual ... OK
* DONE

Status: 2 NOTEs
See
  ‘/home/biocbuild/bbs-3.21-bioc/meat/Biobase.Rcheck/00check.log’
for details.


Installation output

Biobase.Rcheck/00install.out

##############################################################################
##############################################################################
###
### Running command:
###
###   /home/biocbuild/R/R/bin/R CMD INSTALL Biobase
###
##############################################################################
##############################################################################


* installing to library ‘/home/biocbuild/R/R-4.5.0-devel_2024-11-24/site-library’
* installing *source* package ‘Biobase’ ...
** using staged installation
** libs
using C compiler: ‘aarch64-unknown-linux-gnu-gcc (GCC) 14.2.0’
/opt/ohpc/pub/compiler/gcc/14.2.0/bin/aarch64-unknown-linux-gnu-gcc -I"/home/biocbuild/R/R/include" -DNDEBUG   -I/usr/local/include    -fPIC  -g -O2  -Wall -Werror=format-security -c Rinit.c -o Rinit.o
/opt/ohpc/pub/compiler/gcc/14.2.0/bin/aarch64-unknown-linux-gnu-gcc -I"/home/biocbuild/R/R/include" -DNDEBUG   -I/usr/local/include    -fPIC  -g -O2  -Wall -Werror=format-security -c anyMissing.c -o anyMissing.o
/opt/ohpc/pub/compiler/gcc/14.2.0/bin/aarch64-unknown-linux-gnu-gcc -I"/home/biocbuild/R/R/include" -DNDEBUG   -I/usr/local/include    -fPIC  -g -O2  -Wall -Werror=format-security -c envir.c -o envir.o
/opt/ohpc/pub/compiler/gcc/14.2.0/bin/aarch64-unknown-linux-gnu-gcc -I"/home/biocbuild/R/R/include" -DNDEBUG   -I/usr/local/include    -fPIC  -g -O2  -Wall -Werror=format-security -c matchpt.c -o matchpt.o
/opt/ohpc/pub/compiler/gcc/14.2.0/bin/aarch64-unknown-linux-gnu-gcc -I"/home/biocbuild/R/R/include" -DNDEBUG   -I/usr/local/include    -fPIC  -g -O2  -Wall -Werror=format-security -c rowMedians.c -o rowMedians.o
/opt/ohpc/pub/compiler/gcc/14.2.0/bin/aarch64-unknown-linux-gnu-gcc -I"/home/biocbuild/R/R/include" -DNDEBUG   -I/usr/local/include    -fPIC  -g -O2  -Wall -Werror=format-security -c sublist_extract.c -o sublist_extract.o
/opt/ohpc/pub/compiler/gcc/14.2.0/bin/aarch64-unknown-linux-gnu-gcc -shared -L/home/biocbuild/R/R/lib -L/usr/local/lib -o Biobase.so Rinit.o anyMissing.o envir.o matchpt.o rowMedians.o sublist_extract.o -L/home/biocbuild/R/R/lib -lR
installing to /home/biocbuild/R/R-4.5.0-devel_2024-11-24/site-library/00LOCK-Biobase/00new/Biobase/libs
** R
** data
** inst
** byte-compile and prepare package for lazy loading
** help
*** installing help indices
** building package indices
** installing vignettes
** testing if installed package can be loaded from temporary location
** checking absolute paths in shared objects and dynamic libraries
** testing if installed package can be loaded from final location
** testing if installed package keeps a record of temporary installation path
* DONE (Biobase)

Tests output

Biobase.Rcheck/tests/test-all.Rout


R Under development (unstable) (2024-11-24 r87369) -- "Unsuffered Consequences"
Copyright (C) 2024 The R Foundation for Statistical Computing
Platform: aarch64-unknown-linux-gnu

R is free software and comes with ABSOLUTELY NO WARRANTY.
You are welcome to redistribute it under certain conditions.
Type 'license()' or 'licence()' for distribution details.

R is a collaborative project with many contributors.
Type 'contributors()' for more information and
'citation()' on how to cite R or R packages in publications.

Type 'demo()' for some demos, 'help()' for on-line help, or
'help.start()' for an HTML browser interface to help.
Type 'q()' to quit R.

> BiocGenerics:::testPackage("Biobase")

Attaching package: 'generics'

The following objects are masked from 'package:base':

    as.difftime, as.factor, as.ordered, intersect, is.element, setdiff,
    setequal, union


Attaching package: 'BiocGenerics'

The following objects are masked from 'package:stats':

    IQR, mad, sd, var, xtabs

The following objects are masked from 'package:base':

    Filter, Find, Map, Position, Reduce, anyDuplicated, aperm, append,
    as.data.frame, basename, cbind, colnames, dirname, do.call,
    duplicated, eval, evalq, get, grep, grepl, is.unsorted, lapply,
    mapply, match, mget, order, paste, pmax, pmax.int, pmin, pmin.int,
    rank, rbind, rownames, sapply, saveRDS, table, tapply, unique,
    unsplit, which.max, which.min

Welcome to Bioconductor

    Vignettes contain introductory material; view with
    'browseVignettes()'. To cite Bioconductor, see
    'citation("Biobase")', and for packages 'citation("pkgname")'.



RUNIT TEST PROTOCOL -- Tue Jan 28 03:52:04 2025 
*********************************************** 
Number of test functions: 101 
Number of errors: 0 
Number of failures: 0 

 
1 Test Suite : 
Biobase RUnit Tests - 101 test functions, 0 errors, 0 failures
Number of test functions: 101 
Number of errors: 0 
Number of failures: 0 
> 
> proc.time()
   user  system elapsed 
 13.987   0.207  14.250 

Biobase.Rcheck/tests/test-rowMedians.Rout


R Under development (unstable) (2024-11-24 r87369) -- "Unsuffered Consequences"
Copyright (C) 2024 The R Foundation for Statistical Computing
Platform: aarch64-unknown-linux-gnu

R is free software and comes with ABSOLUTELY NO WARRANTY.
You are welcome to redistribute it under certain conditions.
Type 'license()' or 'licence()' for distribution details.

R is a collaborative project with many contributors.
Type 'contributors()' for more information and
'citation()' on how to cite R or R packages in publications.

Type 'demo()' for some demos, 'help()' for on-line help, or
'help.start()' for an HTML browser interface to help.
Type 'q()' to quit R.

> library(Biobase)
Loading required package: BiocGenerics
Loading required package: generics

Attaching package: 'generics'

The following objects are masked from 'package:base':

    as.difftime, as.factor, as.ordered, intersect, is.element, setdiff,
    setequal, union


Attaching package: 'BiocGenerics'

The following objects are masked from 'package:stats':

    IQR, mad, sd, var, xtabs

The following objects are masked from 'package:base':

    Filter, Find, Map, Position, Reduce, anyDuplicated, aperm, append,
    as.data.frame, basename, cbind, colnames, dirname, do.call,
    duplicated, eval, evalq, get, grep, grepl, is.unsorted, lapply,
    mapply, match, mget, order, paste, pmax, pmax.int, pmin, pmin.int,
    rank, rbind, rownames, sapply, saveRDS, table, tapply, unique,
    unsplit, which.max, which.min

Welcome to Bioconductor

    Vignettes contain introductory material; view with
    'browseVignettes()'. To cite Bioconductor, see
    'citation("Biobase")', and for packages 'citation("pkgname")'.

> set.seed(1)
> 
> # - - - - - - - - - - - - - - - - - - - - - - - - - - - -
> # Consistency checks
> # - - - - - - - - - - - - - - - - - - - - - - - - - - - -
> 
> # rowMedians() by rowQ()
> rowMedians2 <- function(imat) {
+   nr <- ncol(imat)
+   half <- (nr + 1)/2
+   if (nr%%2 == 1) {
+     return(rowQ(imat, half))
+   } else {
+     return((rowQ(imat, half) + rowQ(imat, half+1))/2)
+   }
+ }
> 
> cat("Consistency checks:\n")
Consistency checks:
> set.seed(1)
> for (kk in 1:20) {
+   cat("Random test #", kk, "\n", sep="")
+ 
+   # Simulate data in a matrix of any shape
+   nrow <- sample(2000, size=1)
+   ncol <- sample(2000, size=1)
+   x <- rnorm(nrow*ncol)
+   dim(x) <- c(nrow, ncol)
+ 
+   # Add NAs?
+   nas <- sample(c(TRUE,FALSE), size=1)
+   if (nas) {
+     nna <- sample(nrow*ncol, size=1)
+     x[sample(length(x), size=nna)] <- NA
+   }
+ 
+   na.rm <- nas
+   t1 <- system.time({
+     y1 <- rowMedians(x, na.rm=na.rm)
+   })
+   t2 <- system.time({
+     y2 <- apply(x, MARGIN=1, FUN=median, na.rm=na.rm)
+   })
+   # When all values of 'y2' are NA, 'y2' is logical
+   if (is.logical(y2)) y2 <- as.double(y2)
+   stopifnot(all.equal(y1,y2))
+   cat(sprintf("rowMedians()/apply(): %.3g\n", (t1/t2)[3]))
+ 
+   if (!nas) {
+     t3 <- system.time({
+       y3 <- rowMedians2(x)
+     })
+     stopifnot(all.equal(y1,y3))
+     cat(sprintf("rowMedians()/rowMedians2(): %.3g\n", (t1/t3)[3]))
+   }
+ }
Random test #1
rowMedians()/apply(): 0.311
Random test #2
rowMedians()/apply(): 0.139
rowMedians()/rowMedians2(): 0.25
Random test #3
rowMedians()/apply(): 0.0435
Random test #4
rowMedians()/apply(): 0.15
rowMedians()/rowMedians2(): 0.228
Random test #5
rowMedians()/apply(): 0.275
rowMedians()/rowMedians2(): 0.354
Random test #6
rowMedians()/apply(): 0.234
rowMedians()/rowMedians2(): 0.305
Random test #7
rowMedians()/apply(): 0.252
Random test #8
rowMedians()/apply(): 0
rowMedians()/rowMedians2(): NaN
Random test #9
rowMedians()/apply(): 0.182
Random test #10
rowMedians()/apply(): 0.0631
Random test #11
rowMedians()/apply(): 0.107
Random test #12
rowMedians()/apply(): 0.119
Random test #13
rowMedians()/apply(): 0.227
rowMedians()/rowMedians2(): 0.625
Random test #14
rowMedians()/apply(): 0.232
Random test #15
rowMedians()/apply(): 0.124
Random test #16
rowMedians()/apply(): 0.14
rowMedians()/rowMedians2(): 0.281
Random test #17
rowMedians()/apply(): 0.27
Random test #18
rowMedians()/apply(): 0.111
rowMedians()/rowMedians2(): 0.545
Random test #19
rowMedians()/apply(): 0.374
rowMedians()/rowMedians2(): 0.722
Random test #20
rowMedians()/apply(): 0.207
rowMedians()/rowMedians2(): 0.3
> 
> 
> # - - - - - - - - - - - - - - - - - - - - - - - - - - - -
> # Benchmarking
> # - - - - - - - - - - - - - - - - - - - - - - - - - - - -
> cat("Benchmarking:\n")
Benchmarking:
> 
> # Simulate data in a matrix of any shape
> nrow <- 1000
> ncol <- 1000
> x <- rnorm(nrow*ncol)
> dim(x) <- c(nrow, ncol)
> 
> gc()
          used (Mb) gc trigger (Mb) max used (Mb)
Ncells  608006 32.5    1224275 65.4  1077001 57.6
Vcells 2113190 16.2   12255594 93.6 12351732 94.3
> t0 <- system.time({
+   for (rr in 1:20)
+     y0 <- apply(x, MARGIN=1, FUN=median, na.rm=FALSE)
+ })
> gc()
          used (Mb) gc trigger (Mb) max used (Mb)
Ncells  608022 32.5    1224275 65.4  1224275 65.4
Vcells 2114207 16.2   12255594 93.6 12351732 94.3
> t1 <- system.time({
+   for (rr in 1:20)
+     y1 <- rowMedians(x, na.rm=FALSE)
+ })
> gc()
          used (Mb) gc trigger (Mb) max used (Mb)
Ncells  608022 32.5    1224275 65.4  1224275 65.4
Vcells 2113332 16.2   12255594 93.6 12351732 94.3
> stopifnot(all.equal(y0,y1))
> cat(sprintf("rowMedians()/apply(): %.3g\n", (t1/t0)[3]))
rowMedians()/apply(): 0.18
> 
> 
> # - - - - - - - - - - - - - - - - - - - - - - - - - - - -
> # Consistency checks
> # - - - - - - - - - - - - - - - - - - - - - - - - - - - -
> cat("Consistency checks without NAs:\n")
Consistency checks without NAs:
> for (kk in 1:20) {
+   cat("Random test #", kk, "\n", sep="")
+ 
+   # Simulate data in a matrix of any shape
+   nrow <- sample(1000, size=1)
+   ncol <- sample(1000, size=1)
+   x <- rnorm(nrow*ncol)
+   dim(x) <- c(nrow, ncol)
+ 
+   t0 <- system.time({
+     y0 <- apply(x, MARGIN=1, FUN=median, na.rm=FALSE)
+   })
+   t1 <- system.time({
+     y1 <- rowMedians(x, na.rm=FALSE)
+   })
+   stopifnot(all.equal(y0,y1))
+ } # for (kk in ...)
Random test #1
Random test #2
Random test #3
Random test #4
Random test #5
Random test #6
Random test #7
Random test #8
Random test #9
Random test #10
Random test #11
Random test #12
Random test #13
Random test #14
Random test #15
Random test #16
Random test #17
Random test #18
Random test #19
Random test #20
> 
> 
> 
> cat("Consistency checks with NAs:\n")
Consistency checks with NAs:
> for (kk in 1:20) {
+   cat("Random test #", kk, "\n", sep="")
+ 
+   # Simulate data in a matrix of any shape
+   nrow <- sample(1000, size=1)
+   ncol <- sample(1000, size=1)
+   x <- rnorm(nrow*ncol)
+   dim(x) <- c(nrow, ncol)
+ 
+   # Add NAs
+   nna <- sample(nrow*ncol-1, size=1)
+   x[sample(length(x), size=nna)] <- NA
+ 
+   t0 <- system.time({
+     y0 <- apply(x, MARGIN=1, FUN=median, na.rm=TRUE)
+     y0[is.na(y0)] <- NA
+   })
+   t1 <- system.time({
+     y1 <- rowMedians(x, na.rm=TRUE)
+   })
+   stopifnot(all.equal(y0,y1))
+ } # for (kk in ...)
Random test #1
Random test #2
Random test #3
Random test #4
Random test #5
Random test #6
Random test #7
Random test #8
Random test #9
Random test #10
Random test #11
Random test #12
Random test #13
Random test #14
Random test #15
Random test #16
Random test #17
Random test #18
Random test #19
Random test #20
> 
> proc.time()
   user  system elapsed 
 22.692   0.232  22.957 

Example timings

Biobase.Rcheck/Biobase-Ex.timings

nameusersystemelapsed
Aggregate0.0060.0010.007
ScalarObject-class0.0970.0000.097
addVig2Menu000
anyMissing0.0020.0000.001
cache0.0030.0000.003
channel0.2090.0270.237
channelNames0.0510.0000.052
class.AnnotatedDataFrame0.0310.0000.032
class.ExpressionSet0.2200.0040.225
class.MIAxE0.0180.0030.021
class.MultiSet0.0320.0000.032
class.NChannelSet0.1780.0000.178
class.Versioned0.0640.0000.064
class.VersionedBiobase0.0320.0000.032
class.Versions0.0110.0000.011
class.VersionsNull0.0010.0000.000
class.container0.0020.0000.002
class.eSet0.0880.0440.132
classVersion0.0040.0020.006
contents0.0010.0000.001
copyEnv0.0000.0000.001
copySubstitute0.0110.0080.019
createPackage0.0080.0010.011
data.aaMap0.0000.0020.003
data.geneData0.0270.0080.036
data.reporter0.0010.0000.001
data.sample.ExpressionSet0.0120.0000.012
data.sample.MultiSet0.0050.0000.005
dumpPackTxt0.0000.0010.004
esApply1.3260.0381.366
getPkgVigs0.0100.0000.011
isCurrent0.0310.0000.031
isUnique000
isVersioned0.0130.0000.013
lcSuffix0.0010.0000.001
listLen0.0000.0000.001
makeDataPackage0.0650.0000.067
matchpt0.0050.0000.004
multiassign0.0000.0000.001
note000
openPDF000
openVignette000
package.version0.0010.0000.001
read.AnnotatedDataFrame0.0110.0000.012
read.MIAME0.0020.0000.001
readExpressionSet0.0630.0040.069
reverseSplit000
rowMedians0.0320.0040.036
rowQ0.0070.0070.015
selectChannels0.0480.0000.048
selectSome000
strbreak0.0010.0000.001
subListExtract1.0320.0161.050
testBioCConnection0.0330.0071.443
updateOldESet000
validMsg000