Back to Multiple platform build/check report for BioC 3.21:   simplified   long
AB[C]DEFGHIJKLMNOPQRSTUVWXYZ

This page was generated on 2025-02-04 11:39 -0500 (Tue, 04 Feb 2025).

HostnameOSArch (*)R versionInstalled pkgs
nebbiolo1Linux (Ubuntu 24.04.1 LTS)x86_64R Under development (unstable) (2025-01-20 r87609) -- "Unsuffered Consequences" 4716
palomino7Windows Server 2022 Datacenterx64R Under development (unstable) (2025-01-21 r87610 ucrt) -- "Unsuffered Consequences" 4478
lconwaymacOS 12.7.1 Montereyx86_64R Under development (unstable) (2025-01-22 r87618) -- "Unsuffered Consequences" 4489
kjohnson3macOS 13.7.1 Venturaarm64R Under development (unstable) (2025-01-20 r87609) -- "Unsuffered Consequences" 4442
Click on any hostname to see more info about the system (e.g. compilers)      (*) as reported by 'uname -p', except on Windows and Mac OS X

Package 263/2295HostnameOS / ArchINSTALLBUILDCHECKBUILD BIN
CAGEr 2.13.0  (landing page)
Charles Plessy
Snapshot Date: 2025-02-03 13:40 -0500 (Mon, 03 Feb 2025)
git_url: https://git.bioconductor.org/packages/CAGEr
git_branch: devel
git_last_commit: cdfe2b1
git_last_commit_date: 2024-10-29 09:44:43 -0500 (Tue, 29 Oct 2024)
nebbiolo1Linux (Ubuntu 24.04.1 LTS) / x86_64  OK    OK    OK  UNNEEDED, same version is already published
palomino7Windows Server 2022 Datacenter / x64  OK    OK    OK    OK  UNNEEDED, same version is already published
lconwaymacOS 12.7.1 Monterey / x86_64  OK    OK    OK    OK  NO, package depends on 'rtracklayer' which is only available as a source package that needs compilation
kjohnson3macOS 13.7.1 Ventura / arm64  OK    OK    OK    OK  NO, package depends on 'rtracklayer' which is only available as a source package that needs compilation


CHECK results for CAGEr on nebbiolo1

To the developers/maintainers of the CAGEr package:
- Allow up to 24 hours (and sometimes 48 hours) for your latest push to git@git.bioconductor.org:packages/CAGEr.git to reflect on this report. See Troubleshooting Build Report for more information.
- Use the following Renviron settings to reproduce errors and warnings.
- If 'R CMD check' started to fail recently on the Linux builder(s) over a missing dependency, add the missing dependency to 'Suggests:' in your DESCRIPTION file. See Renviron.bioc for more information.

raw results


Summary

Package: CAGEr
Version: 2.13.0
Command: /home/biocbuild/bbs-3.21-bioc/R/bin/R CMD check --install=check:CAGEr.install-out.txt --library=/home/biocbuild/bbs-3.21-bioc/R/site-library --timings CAGEr_2.13.0.tar.gz
StartedAt: 2025-02-03 20:46:48 -0500 (Mon, 03 Feb 2025)
EndedAt: 2025-02-03 20:59:13 -0500 (Mon, 03 Feb 2025)
EllapsedTime: 745.0 seconds
RetCode: 0
Status:   OK  
CheckDir: CAGEr.Rcheck
Warnings: 0

Command output

##############################################################################
##############################################################################
###
### Running command:
###
###   /home/biocbuild/bbs-3.21-bioc/R/bin/R CMD check --install=check:CAGEr.install-out.txt --library=/home/biocbuild/bbs-3.21-bioc/R/site-library --timings CAGEr_2.13.0.tar.gz
###
##############################################################################
##############################################################################


* using log directory ‘/home/biocbuild/bbs-3.21-bioc/meat/CAGEr.Rcheck’
* using R Under development (unstable) (2025-01-20 r87609)
* using platform: x86_64-pc-linux-gnu
* R was compiled by
    gcc (Ubuntu 13.3.0-6ubuntu2~24.04) 13.3.0
    GNU Fortran (Ubuntu 13.3.0-6ubuntu2~24.04) 13.3.0
* running under: Ubuntu 24.04.1 LTS
* using session charset: UTF-8
* checking for file ‘CAGEr/DESCRIPTION’ ... OK
* this is package ‘CAGEr’ version ‘2.13.0’
* package encoding: UTF-8
* checking package namespace information ... OK
* checking package dependencies ... INFO
Imports includes 29 non-default packages.
Importing from so many packages makes the package vulnerable to any of
them becoming unavailable.  Move as many as possible to Suggests and
use conditionally.
* checking if this is a source package ... OK
* checking if there is a namespace ... OK
* checking for hidden files and directories ... OK
* checking for portable file names ... OK
* checking for sufficient/correct file permissions ... OK
* checking whether package ‘CAGEr’ can be installed ... OK
* checking installed package size ... OK
* checking package directory ... OK
* checking ‘build’ directory ... OK
* checking DESCRIPTION meta-information ... OK
* checking top-level files ... OK
* checking for left-over files ... OK
* checking index information ... OK
* checking package subdirectories ... OK
* checking code files for non-ASCII characters ... OK
* checking R files for syntax errors ... OK
* checking whether the package can be loaded ... OK
* checking whether the package can be loaded with stated dependencies ... OK
* checking whether the package can be unloaded cleanly ... OK
* checking whether the namespace can be loaded with stated dependencies ... OK
* checking whether the namespace can be unloaded cleanly ... OK
* checking loading without being on the library search path ... OK
* checking dependencies in R code ... OK
* checking S3 generic/method consistency ... OK
* checking replacement functions ... OK
* checking foreign function calls ... OK
* checking R code for possible problems ... OK
* checking Rd files ... OK
* checking Rd metadata ... OK
* checking Rd cross-references ... NOTE
Found the following Rd file(s) with Rd \link{} targets missing package
anchors:
  CAGEexp-class.Rd: MultiAssayExperiment, DataFrame, Rle
  CAGEr-class.Rd: MultiAssayExperiment
  CTSStagCount.Rd: DataFrame, Rle, RangedSummarizedExperiment
  CTSStoGenes.Rd: SummarizedExperiment
  CustomConsensusClusters.Rd: GRanges, RangedSummarizedExperiment
  TSSlogo.Rd: BSgenome
  aggregateTagClusters.Rd: RangedSummarizedExperiment
  annotateCTSS.Rd: GRanges, TxDb
  bam2CTSS.Rd: GRanges
  byCtss.Rd: data.table
  consensusClusters.Rd: GRanges, SummarizedExperiment
  distclu.Rd: GRangesList
  dot-ctss_summary_for_clusters.Rd: GRanges
  expressionClasses.Rd: Rle
  flagLowExpCTSS.Rd: Rle
  getCTSS.Rd: RangedSummarizedExperiment
  import.CAGEscanMolecule.Rd: GRanges
  import.CTSS.Rd: GPos
  loadFileIntoGPos.Rd: GPos
  moleculesGR2CTSS.Rd: GRanges
  paraclu.Rd: RangedSummarizedExperiment, GRangesList
  plotCorrelation.Rd: SummarizedExperiment, DataFrame
  quantilePositions.Rd: RangedSummarizedExperiment
  ranges2annot.Rd: rowRanges, Rle
  ranges2names.Rd: Rle
  strandInvaders.Rd: Rle
Please provide package anchors for all Rd \link{} targets not in the
package itself and the base packages.
* checking for missing documentation entries ... OK
* checking for code/documentation mismatches ... OK
* checking Rd \usage sections ... OK
* checking Rd contents ... OK
* checking for unstated dependencies in examples ... OK
* checking contents of ‘data’ directory ... OK
* checking data for non-ASCII characters ... OK
* checking LazyData ... OK
* checking data for ASCII and uncompressed saves ... OK
* checking files in ‘vignettes’ ... OK
* checking examples ... OK
Examples with CPU (user + system) or elapsed time > 5s
                         user system elapsed
paraclu                44.009  0.230  44.240
exportToTrack          36.077  0.119  36.196
aggregateTagClusters   20.268  0.355  20.624
scoreShift             16.954  0.314  17.268
quantilePositions      12.370  0.078  12.448
annotateCTSS           11.799  0.044  11.848
distclu                 9.374  0.010   9.385
plotExpressionProfiles  8.236  0.188   8.425
getExpressionProfiles   4.970  0.079   5.049
* checking for unstated dependencies in vignettes ... OK
* checking package vignettes ... OK
* checking re-building of vignette outputs ... OK
* checking PDF version of manual ... OK
* DONE

Status: 1 NOTE
See
  ‘/home/biocbuild/bbs-3.21-bioc/meat/CAGEr.Rcheck/00check.log’
for details.


Installation output

CAGEr.Rcheck/00install.out

##############################################################################
##############################################################################
###
### Running command:
###
###   /home/biocbuild/bbs-3.21-bioc/R/bin/R CMD INSTALL CAGEr
###
##############################################################################
##############################################################################


* installing to library ‘/home/biocbuild/bbs-3.21-bioc/R/site-library’
* installing *source* package ‘CAGEr’ ...
** this is package ‘CAGEr’ version ‘2.13.0’
** using staged installation
** R
** data
*** moving datasets to lazyload DB
** inst
** byte-compile and prepare package for lazy loading
** help
*** installing help indices
** building package indices
** installing vignettes
** testing if installed package can be loaded from temporary location
** testing if installed package can be loaded from final location
** testing if installed package keeps a record of temporary installation path
* DONE (CAGEr)

Tests output


Example timings

CAGEr.Rcheck/CAGEr-Ex.timings

nameusersystemelapsed
CAGEexp-class3.0290.1093.143
CAGEr_Multicore3.5360.0683.603
CTSS-class0.2380.0000.237
CTSScoordinates0.0710.0050.077
CTSSnormalizedTpm0.6660.0720.738
CTSStagCount0.6180.0860.704
CTSStoGenes0.3510.0640.416
CustomConsensusClusters4.8070.1114.920
GeneExpDESeq20.4630.0070.471
GeneExpSE0.0030.0010.004
QuantileWidthFunctions0.1450.0000.145
TSSlogo2.6840.0932.777
aggregateTagClusters20.268 0.35520.624
annotateCTSS11.799 0.04411.848
byCtss0.0140.0010.016
consensusClusters0.1450.0030.148
consensusClustersDESeq21.9840.0051.988
consensusClustersTpm0.0050.0010.005
cumulativeCTSSdistribution3.5960.0503.646
distclu9.3740.0109.385
dot-ctss_summary_for_clusters0.8320.0040.835
exampleCAGEexp000
exportToTrack36.077 0.11936.196
expressionClasses1.9220.0011.924
filteredCTSSidx0.0090.0000.009
flagLowExpCTSS0.0340.0000.035
genomeName0.0010.0000.001
getCTSS0.9040.0620.966
getExpressionProfiles4.9700.0795.049
getShiftingPromoters1.9880.0061.995
hanabi0.2210.0150.237
hanabiPlot0.2860.0170.304
import.CAGEscanMolecule0.0000.0000.001
import.CTSS0.080.000.08
import.bam0.0000.0000.001
import.bedCTSS0.0010.0000.000
import.bedScore000
import.bedmolecule0.0000.0010.001
importPublicData0.0000.0010.001
inputFiles0.0010.0000.002
inputFilesType0.0010.0000.002
librarySizes0.0020.0000.001
mapStats0.0520.0030.054
mergeCAGEsets2.0840.0272.111
mergeSamples0.4960.0020.498
moleculesGR2CTSS0.1310.0020.133
normalizeTagCount0.5410.0080.526
paraclu44.009 0.23044.240
parseCAGEscanBlocksToGrangeTSS0.0220.0070.029
plotAnnot2.3970.0202.417
plotCorrelation0.2260.0020.228
plotExpressionProfiles8.2360.1888.425
plotInterquantileWidth1.9040.0041.909
plotReverseCumulatives2.2410.0082.190
quantilePositions12.370 0.07812.448
quickEnhancers0.0000.0010.001
ranges2annot0.3440.0020.347
ranges2genes0.0630.0000.063
ranges2names0.0830.0000.083
resetCAGEexp0.3040.0010.304
rowSums.RleDataFrame0.020.000.02
rowsum.RleDataFrame0.0250.0000.024
sampleLabels0.0040.0010.005
scoreShift16.954 0.31417.268
seqNameTotalsSE0.0020.0010.004
setColors0.2850.0070.292
strandInvaders0.5990.0870.670
summariseChrExpr0.3930.0030.396
tagClusters0.3830.0040.387