Back to Multiple platform build/check report for BioC 3.21:   simplified   long
AB[C]DEFGHIJKLMNOPQRSTUVWXYZ

This page was generated on 2025-02-06 11:39 -0500 (Thu, 06 Feb 2025).

HostnameOSArch (*)R versionInstalled pkgs
nebbiolo1Linux (Ubuntu 24.04.1 LTS)x86_64R Under development (unstable) (2025-01-20 r87609) -- "Unsuffered Consequences" 4719
palomino7Windows Server 2022 Datacenterx64R Under development (unstable) (2025-01-21 r87610 ucrt) -- "Unsuffered Consequences" 4480
lconwaymacOS 12.7.1 Montereyx86_64R Under development (unstable) (2025-01-22 r87618) -- "Unsuffered Consequences" 4491
kjohnson3macOS 13.7.1 Venturaarm64R Under development (unstable) (2025-01-20 r87609) -- "Unsuffered Consequences" 4444
Click on any hostname to see more info about the system (e.g. compilers)      (*) as reported by 'uname -p', except on Windows and Mac OS X

Package 306/2295HostnameOS / ArchINSTALLBUILDCHECKBUILD BIN
CEMiTool 1.31.0  (landing page)
Helder Nakaya
Snapshot Date: 2025-02-05 13:48 -0500 (Wed, 05 Feb 2025)
git_url: https://git.bioconductor.org/packages/CEMiTool
git_branch: devel
git_last_commit: 3dd9735
git_last_commit_date: 2024-10-29 10:21:18 -0500 (Tue, 29 Oct 2024)
nebbiolo1Linux (Ubuntu 24.04.1 LTS) / x86_64  OK    OK    OK  UNNEEDED, same version is already published
palomino7Windows Server 2022 Datacenter / x64  OK    OK    OK    OK  UNNEEDED, same version is already published
lconwaymacOS 12.7.1 Monterey / x86_64  OK    OK    OK    OK  UNNEEDED, same version is already published
kjohnson3macOS 13.7.1 Ventura / arm64  OK    OK    OK    OK  UNNEEDED, same version is already published


CHECK results for CEMiTool on nebbiolo1

To the developers/maintainers of the CEMiTool package:
- Allow up to 24 hours (and sometimes 48 hours) for your latest push to git@git.bioconductor.org:packages/CEMiTool.git to reflect on this report. See Troubleshooting Build Report for more information.
- Use the following Renviron settings to reproduce errors and warnings.
- If 'R CMD check' started to fail recently on the Linux builder(s) over a missing dependency, add the missing dependency to 'Suggests:' in your DESCRIPTION file. See Renviron.bioc for more information.

raw results


Summary

Package: CEMiTool
Version: 1.31.0
Command: /home/biocbuild/bbs-3.21-bioc/R/bin/R CMD check --install=check:CEMiTool.install-out.txt --library=/home/biocbuild/bbs-3.21-bioc/R/site-library --timings CEMiTool_1.31.0.tar.gz
StartedAt: 2025-02-05 20:48:14 -0500 (Wed, 05 Feb 2025)
EndedAt: 2025-02-05 20:53:17 -0500 (Wed, 05 Feb 2025)
EllapsedTime: 303.4 seconds
RetCode: 0
Status:   OK  
CheckDir: CEMiTool.Rcheck
Warnings: 0

Command output

##############################################################################
##############################################################################
###
### Running command:
###
###   /home/biocbuild/bbs-3.21-bioc/R/bin/R CMD check --install=check:CEMiTool.install-out.txt --library=/home/biocbuild/bbs-3.21-bioc/R/site-library --timings CEMiTool_1.31.0.tar.gz
###
##############################################################################
##############################################################################


* using log directory ‘/home/biocbuild/bbs-3.21-bioc/meat/CEMiTool.Rcheck’
* using R Under development (unstable) (2025-01-20 r87609)
* using platform: x86_64-pc-linux-gnu
* R was compiled by
    gcc (Ubuntu 13.3.0-6ubuntu2~24.04) 13.3.0
    GNU Fortran (Ubuntu 13.3.0-6ubuntu2~24.04) 13.3.0
* running under: Ubuntu 24.04.1 LTS
* using session charset: UTF-8
* checking for file ‘CEMiTool/DESCRIPTION’ ... OK
* this is package ‘CEMiTool’ version ‘1.31.0’
* package encoding: UTF-8
* checking package namespace information ... OK
* checking package dependencies ... INFO
Imports includes 25 non-default packages.
Importing from so many packages makes the package vulnerable to any of
them becoming unavailable.  Move as many as possible to Suggests and
use conditionally.
* checking if this is a source package ... OK
* checking if there is a namespace ... OK
* checking for hidden files and directories ... OK
* checking for portable file names ... OK
* checking for sufficient/correct file permissions ... OK
* checking whether package ‘CEMiTool’ can be installed ... OK
* checking installed package size ... INFO
  installed size is  5.2Mb
  sub-directories of 1Mb or more:
    data      3.1Mb
    extdata   1.6Mb
* checking package directory ... OK
* checking ‘build’ directory ... OK
* checking DESCRIPTION meta-information ... OK
* checking top-level files ... OK
* checking for left-over files ... OK
* checking index information ... OK
* checking package subdirectories ... OK
* checking code files for non-ASCII characters ... OK
* checking R files for syntax errors ... OK
* checking whether the package can be loaded ... OK
* checking whether the package can be loaded with stated dependencies ... OK
* checking whether the package can be unloaded cleanly ... OK
* checking whether the namespace can be loaded with stated dependencies ... OK
* checking whether the namespace can be unloaded cleanly ... OK
* checking loading without being on the library search path ... OK
* checking dependencies in R code ... OK
* checking S3 generic/method consistency ... OK
* checking replacement functions ... OK
* checking foreign function calls ... OK
* checking R code for possible problems ... NOTE
flip_vector: no visible global function definition for ‘setNames’
select_genes: no visible global function definition for ‘var’
get_hubs,CEMiTool : <anonymous>: no visible global function definition
  for ‘head’
get_merged_mods,CEMiTool: no visible global function definition for
  ‘as.dist’
get_mods,CEMiTool: no visible global function definition for ‘as.dist’
get_phi,CEMiTool: no visible global function definition for ‘tail’
get_phi,CEMiTool: no visible global function definition for ‘head’
mod_gene_num,CEMiTool: no visible binding for global variable ‘modules’
mod_gene_num,CEMiTool: no visible binding for global variable
  ‘num_genes’
mod_summary,CEMiTool: no visible global function definition for ‘:=’
plot_gsea,CEMiTool: no visible global function definition for ‘dist’
plot_mean_var,CEMiTool: no visible binding for global variable ‘var’
plot_mean_var,CEMiTool: no visible binding for global variable ‘Mean’
plot_mean_var,CEMiTool: no visible binding for global variable
  ‘Variance’
plot_mean_var,CEMiTool: no visible binding for global variable
  ‘..eq.label..’
plot_mean_var,CEMiTool: no visible binding for global variable
  ‘..rr.label..’
plot_ora,CEMiTool : <anonymous>: no visible global function definition
  for ‘head’
plot_qq,CEMiTool: no visible binding for global variable ‘data’
plot_sample_tree,CEMiTool: no visible global function definition for
  ‘dist’
plot_sample_tree,CEMiTool: no visible global function definition for
  ‘dev.off’
save_plots,CEMiTool : <anonymous>: no visible global function
  definition for ‘dev.off’
save_plots,CEMiTool: no visible global function definition for
  ‘dev.off’
Undefined global functions or variables:
  ..eq.label.. ..rr.label.. := Mean Variance as.dist data dev.off dist
  head modules num_genes setNames tail var
Consider adding
  importFrom("grDevices", "dev.off")
  importFrom("stats", "as.dist", "dist", "setNames", "var")
  importFrom("utils", "data", "head", "tail")
to your NAMESPACE file.
* checking Rd files ... OK
* checking Rd metadata ... OK
* checking Rd cross-references ... OK
* checking for missing documentation entries ... OK
* checking for code/documentation mismatches ... OK
* checking Rd \usage sections ... OK
* checking Rd contents ... OK
* checking for unstated dependencies in examples ... OK
* checking contents of ‘data’ directory ... OK
* checking data for non-ASCII characters ... OK
* checking LazyData ... OK
* checking data for ASCII and uncompressed saves ... OK
* checking files in ‘vignettes’ ... OK
* checking examples ... OK
Examples with CPU (user + system) or elapsed time > 5s
                   user system elapsed
cemitool          9.972  0.258  10.243
plot_interactions 9.279  0.131   9.411
* checking for unstated dependencies in ‘tests’ ... OK
* checking tests ...
  Running ‘testthat.R’
 OK
* checking for unstated dependencies in vignettes ... OK
* checking package vignettes ... OK
* checking re-building of vignette outputs ... OK
* checking PDF version of manual ... OK
* DONE

Status: 1 NOTE
See
  ‘/home/biocbuild/bbs-3.21-bioc/meat/CEMiTool.Rcheck/00check.log’
for details.


Installation output

CEMiTool.Rcheck/00install.out

##############################################################################
##############################################################################
###
### Running command:
###
###   /home/biocbuild/bbs-3.21-bioc/R/bin/R CMD INSTALL CEMiTool
###
##############################################################################
##############################################################################


* installing to library ‘/home/biocbuild/bbs-3.21-bioc/R/site-library’
* installing *source* package ‘CEMiTool’ ...
** this is package ‘CEMiTool’ version ‘1.31.0’
** using staged installation
** R
** data
*** moving datasets to lazyload DB
** exec
** inst
** byte-compile and prepare package for lazy loading
** help
*** installing help indices
** building package indices
** installing vignettes
** testing if installed package can be loaded from temporary location
** testing if installed package can be loaded from final location
** testing if installed package keeps a record of temporary installation path
* DONE (CEMiTool)

Tests output

CEMiTool.Rcheck/tests/testthat.Rout


R Under development (unstable) (2025-01-20 r87609) -- "Unsuffered Consequences"
Copyright (C) 2025 The R Foundation for Statistical Computing
Platform: x86_64-pc-linux-gnu

R is free software and comes with ABSOLUTELY NO WARRANTY.
You are welcome to redistribute it under certain conditions.
Type 'license()' or 'licence()' for distribution details.

R is a collaborative project with many contributors.
Type 'contributors()' for more information and
'citation()' on how to cite R or R packages in publications.

Type 'demo()' for some demos, 'help()' for on-line help, or
'help.start()' for an HTML browser interface to help.
Type 'q()' to quit R.

> library(testthat)
> library(CEMiTool)

> test_check('CEMiTool')
[ FAIL 0 | WARN 13 | SKIP 0 | PASS 105 ]

[ FAIL 0 | WARN 13 | SKIP 0 | PASS 105 ]
> 
> proc.time()
   user  system elapsed 
 25.600   0.882  26.431 

Example timings

CEMiTool.Rcheck/CEMiTool-Ex.timings

nameusersystemelapsed
CEMiTool-class0.0120.0010.012
adj_data0.7840.0200.804
cem0.0150.0040.019
cemitool 9.972 0.25810.243
expr00.0010.0000.001
expr_data0.0920.0030.094
filter_expr0.1480.0000.148
find_modules1.7740.0321.807
fit_data2.3590.0062.365
generate_report0.0000.0000.001
get_adj0.090.000.09
get_beta_data0.7930.0010.794
get_cemitool_r2_beta1.6280.0031.631
get_connectivity1.7860.0631.848
get_hubs0.0160.0000.015
get_merged_mods0.8320.0020.835
get_mods0.7520.0020.754
get_phi1.7340.0311.765
gsea_data3.6550.0463.702
interactions_data0.2190.0240.245
mod_colors0.0330.0060.039
mod_gene_num0.0680.0030.071
mod_gsea1.5540.0201.574
mod_names0.0120.0020.014
mod_ora2.6630.0312.695
mod_summary0.1090.0010.102
module_genes0.0160.0060.022
new_cem0.0290.0000.029
nmodules0.0130.0000.013
ora_data2.5760.0272.602
plot_beta_r20.1510.0030.154
plot_gsea1.6860.0021.687
plot_hist0.3090.0010.309
plot_interactions9.2790.1319.411
plot_mean_k0.1500.0060.157
plot_mean_var0.3360.0190.355
plot_ora3.2890.0413.330
plot_profile1.4410.0021.443
plot_qq0.3780.0050.382
plot_sample_tree0.5860.0030.589
read_gmt0.4400.0020.441
sample_annot0.0010.0010.002
sample_annotation0.0120.0010.014
save_plots0.0250.0020.027
select_genes0.1520.0030.155
show_plot0.1330.0020.135
write_files0.9800.0000.962