Back to Multiple platform build/check report for BioC 3.21:   simplified   long
AB[C]DEFGHIJKLMNOPQRSTUVWXYZ

This page was generated on 2025-02-05 11:39 -0500 (Wed, 05 Feb 2025).

HostnameOSArch (*)R versionInstalled pkgs
nebbiolo1Linux (Ubuntu 24.04.1 LTS)x86_64R Under development (unstable) (2025-01-20 r87609) -- "Unsuffered Consequences" 4717
palomino7Windows Server 2022 Datacenterx64R Under development (unstable) (2025-01-21 r87610 ucrt) -- "Unsuffered Consequences" 4478
lconwaymacOS 12.7.1 Montereyx86_64R Under development (unstable) (2025-01-22 r87618) -- "Unsuffered Consequences" 4489
kjohnson3macOS 13.7.1 Venturaarm64R Under development (unstable) (2025-01-20 r87609) -- "Unsuffered Consequences" 4442
Click on any hostname to see more info about the system (e.g. compilers)      (*) as reported by 'uname -p', except on Windows and Mac OS X

Package 336/2295HostnameOS / ArchINSTALLBUILDCHECKBUILD BIN
ChIPpeakAnno 3.41.1  (landing page)
Jianhong Ou
Snapshot Date: 2025-02-04 13:40 -0500 (Tue, 04 Feb 2025)
git_url: https://git.bioconductor.org/packages/ChIPpeakAnno
git_branch: devel
git_last_commit: cfbf335
git_last_commit_date: 2025-01-03 09:42:19 -0500 (Fri, 03 Jan 2025)
nebbiolo1Linux (Ubuntu 24.04.1 LTS) / x86_64  OK    OK    OK  UNNEEDED, same version is already published
palomino7Windows Server 2022 Datacenter / x64  OK    OK    OK    OK  UNNEEDED, same version is already published
lconwaymacOS 12.7.1 Monterey / x86_64  OK    OK    OK    OK  NO, package depends on 'rtracklayer' which is only available as a source package that needs compilation
kjohnson3macOS 13.7.1 Ventura / arm64  OK    OK    OK    OK  NO, package depends on 'rtracklayer' which is only available as a source package that needs compilation


CHECK results for ChIPpeakAnno on nebbiolo1

To the developers/maintainers of the ChIPpeakAnno package:
- Allow up to 24 hours (and sometimes 48 hours) for your latest push to git@git.bioconductor.org:packages/ChIPpeakAnno.git to reflect on this report. See Troubleshooting Build Report for more information.
- Use the following Renviron settings to reproduce errors and warnings.
- If 'R CMD check' started to fail recently on the Linux builder(s) over a missing dependency, add the missing dependency to 'Suggests:' in your DESCRIPTION file. See Renviron.bioc for more information.

raw results


Summary

Package: ChIPpeakAnno
Version: 3.41.1
Command: /home/biocbuild/bbs-3.21-bioc/R/bin/R CMD check --install=check:ChIPpeakAnno.install-out.txt --library=/home/biocbuild/bbs-3.21-bioc/R/site-library --timings ChIPpeakAnno_3.41.1.tar.gz
StartedAt: 2025-02-04 20:51:01 -0500 (Tue, 04 Feb 2025)
EndedAt: 2025-02-04 21:14:49 -0500 (Tue, 04 Feb 2025)
EllapsedTime: 1427.9 seconds
RetCode: 0
Status:   OK  
CheckDir: ChIPpeakAnno.Rcheck
Warnings: 0

Command output

##############################################################################
##############################################################################
###
### Running command:
###
###   /home/biocbuild/bbs-3.21-bioc/R/bin/R CMD check --install=check:ChIPpeakAnno.install-out.txt --library=/home/biocbuild/bbs-3.21-bioc/R/site-library --timings ChIPpeakAnno_3.41.1.tar.gz
###
##############################################################################
##############################################################################


* using log directory ‘/home/biocbuild/bbs-3.21-bioc/meat/ChIPpeakAnno.Rcheck’
* using R Under development (unstable) (2025-01-20 r87609)
* using platform: x86_64-pc-linux-gnu
* R was compiled by
    gcc (Ubuntu 13.3.0-6ubuntu2~24.04) 13.3.0
    GNU Fortran (Ubuntu 13.3.0-6ubuntu2~24.04) 13.3.0
* running under: Ubuntu 24.04.1 LTS
* using session charset: UTF-8
* checking for file ‘ChIPpeakAnno/DESCRIPTION’ ... OK
* checking extension type ... Package
* this is package ‘ChIPpeakAnno’ version ‘3.41.1’
* package encoding: UTF-8
* checking package namespace information ... OK
* checking package dependencies ... INFO
Imports includes 29 non-default packages.
Importing from so many packages makes the package vulnerable to any of
them becoming unavailable.  Move as many as possible to Suggests and
use conditionally.
* checking if this is a source package ... OK
* checking if there is a namespace ... OK
* checking for hidden files and directories ... OK
* checking for portable file names ... OK
* checking for sufficient/correct file permissions ... OK
* checking whether package ‘ChIPpeakAnno’ can be installed ... OK
* checking installed package size ... INFO
  installed size is 19.1Mb
  sub-directories of 1Mb or more:
    data     12.6Mb
    extdata   5.2Mb
* checking package directory ... OK
* checking ‘build’ directory ... OK
* checking DESCRIPTION meta-information ... OK
* checking top-level files ... OK
* checking for left-over files ... OK
* checking index information ... OK
* checking package subdirectories ... OK
* checking code files for non-ASCII characters ... OK
* checking R files for syntax errors ... OK
* checking whether the package can be loaded ... OK
* checking whether the package can be loaded with stated dependencies ... OK
* checking whether the package can be unloaded cleanly ... OK
* checking whether the namespace can be loaded with stated dependencies ... OK
* checking whether the namespace can be unloaded cleanly ... OK
* checking loading without being on the library search path ... OK
* checking dependencies in R code ... OK
* checking S3 generic/method consistency ... OK
* checking replacement functions ... OK
* checking foreign function calls ... OK
* checking R code for possible problems ... OK
* checking Rd files ... OK
* checking Rd metadata ... OK
* checking Rd cross-references ... OK
* checking for missing documentation entries ... OK
* checking for code/documentation mismatches ... OK
* checking Rd \usage sections ... OK
* checking Rd contents ... OK
* checking for unstated dependencies in examples ... OK
* checking contents of ‘data’ directory ... OK
* checking data for non-ASCII characters ... OK
* checking LazyData ... OK
* checking data for ASCII and uncompressed saves ... OK
* checking files in ‘vignettes’ ... OK
* checking examples ... OK
Examples with CPU (user + system) or elapsed time > 5s
                           user system elapsed
findEnhancers            23.009  0.921  23.934
findMotifsInPromoterSeqs 12.877  0.328  13.206
annotatePeakInBatch      12.063  1.133  13.198
summarizeOverlapsByBins   5.649  0.551   5.899
* checking for unstated dependencies in ‘tests’ ... OK
* checking tests ...
  Running ‘runTests.R’
 OK
* checking for unstated dependencies in vignettes ... OK
* checking package vignettes ... OK
* checking re-building of vignette outputs ... OK
* checking PDF version of manual ... OK
* DONE

Status: OK


Installation output

ChIPpeakAnno.Rcheck/00install.out

##############################################################################
##############################################################################
###
### Running command:
###
###   /home/biocbuild/bbs-3.21-bioc/R/bin/R CMD INSTALL ChIPpeakAnno
###
##############################################################################
##############################################################################


* installing to library ‘/home/biocbuild/bbs-3.21-bioc/R/site-library’
* installing *source* package ‘ChIPpeakAnno’ ...
** this is package ‘ChIPpeakAnno’ version ‘3.41.1’
** using staged installation
** R
** data
*** moving datasets to lazyload DB
** inst
** byte-compile and prepare package for lazy loading
** help
*** installing help indices
** building package indices
** installing vignettes
** testing if installed package can be loaded from temporary location
** testing if installed package can be loaded from final location
** testing if installed package keeps a record of temporary installation path
* DONE (ChIPpeakAnno)

Tests output

ChIPpeakAnno.Rcheck/tests/runTests.Rout


R Under development (unstable) (2025-01-20 r87609) -- "Unsuffered Consequences"
Copyright (C) 2025 The R Foundation for Statistical Computing
Platform: x86_64-pc-linux-gnu

R is free software and comes with ABSOLUTELY NO WARRANTY.
You are welcome to redistribute it under certain conditions.
Type 'license()' or 'licence()' for distribution details.

R is a collaborative project with many contributors.
Type 'contributors()' for more information and
'citation()' on how to cite R or R packages in publications.

Type 'demo()' for some demos, 'help()' for on-line help, or
'help.start()' for an HTML browser interface to help.
Type 'q()' to quit R.

> require("ChIPpeakAnno") || stop("unable to load Package:ChIPpeakAnno")
Loading required package: ChIPpeakAnno
Loading required package: IRanges
Loading required package: BiocGenerics
Loading required package: generics

Attaching package: 'generics'

The following objects are masked from 'package:base':

    as.difftime, as.factor, as.ordered, intersect, is.element, setdiff,
    setequal, union


Attaching package: 'BiocGenerics'

The following objects are masked from 'package:stats':

    IQR, mad, sd, var, xtabs

The following objects are masked from 'package:base':

    Filter, Find, Map, Position, Reduce, anyDuplicated, aperm, append,
    as.data.frame, basename, cbind, colnames, dirname, do.call,
    duplicated, eval, evalq, get, grep, grepl, is.unsorted, lapply,
    mapply, match, mget, order, paste, pmax, pmax.int, pmin, pmin.int,
    rank, rbind, rownames, sapply, saveRDS, table, tapply, unique,
    unsplit, which.max, which.min

Loading required package: S4Vectors
Loading required package: stats4

Attaching package: 'S4Vectors'

The following object is masked from 'package:utils':

    findMatches

The following objects are masked from 'package:base':

    I, expand.grid, unname

Loading required package: GenomicRanges
Loading required package: GenomeInfoDb
[1] TRUE
> require("BSgenome.Drerio.UCSC.danRer7") || stop("unable to load Package:BSgenome.Drerio.UCSC.danRer7")
Loading required package: BSgenome.Drerio.UCSC.danRer7
Loading required package: BSgenome
Loading required package: Biostrings
Loading required package: XVector

Attaching package: 'Biostrings'

The following object is masked from 'package:base':

    strsplit

Loading required package: BiocIO
Loading required package: rtracklayer

Attaching package: 'rtracklayer'

The following object is masked from 'package:BiocIO':

    FileForFormat

[1] TRUE
> require("BSgenome.Hsapiens.UCSC.hg19") || stop("unable to load Package:BSgenome.Hsapiens.UCSC.hg19")
Loading required package: BSgenome.Hsapiens.UCSC.hg19
[1] TRUE
> require("org.Hs.eg.db") || stop("unable to load Package:org.Hs.eg.db")
Loading required package: org.Hs.eg.db
Loading required package: AnnotationDbi
Loading required package: Biobase
Welcome to Bioconductor

    Vignettes contain introductory material; view with
    'browseVignettes()'. To cite Bioconductor, see
    'citation("Biobase")', and for packages 'citation("pkgname")'.


[1] TRUE
> require("org.Ce.eg.db") || stop("unable to load Package:org.Ce.eg.db")
Loading required package: org.Ce.eg.db

[1] TRUE
> require("BSgenome.Celegans.UCSC.ce10") || stop("unable to load Package:BSgenome.Celegans.UCSC.ce10")
Loading required package: BSgenome.Celegans.UCSC.ce10
[1] TRUE
> require("EnsDb.Hsapiens.v79") || stop("unable to load Package:EnsDb.Hsapiens.v79")
Loading required package: EnsDb.Hsapiens.v79
Loading required package: ensembldb
Loading required package: GenomicFeatures
Loading required package: AnnotationFilter

Attaching package: 'ensembldb'

The following object is masked from 'package:stats':

    filter

[1] TRUE
> require("TxDb.Hsapiens.UCSC.hg38.knownGene") || stop("unable to load TxDb.Hsapiens.UCSC.hg38.knownGene")
Loading required package: TxDb.Hsapiens.UCSC.hg38.knownGene
[1] TRUE
> require("biomaRt") || stop("unable to load biomaRt")
Loading required package: biomaRt
[1] TRUE
> require("reactome.db") || stop("unable to load reactome.db")
Loading required package: reactome.db
[1] TRUE
> require("testthat") || stop("unable to load testthat")
Loading required package: testthat

Attaching package: 'testthat'

The following object is masked from 'package:AnnotationFilter':

    not

[1] TRUE
> test_check("ChIPpeakAnno")
INFO [2025-02-04 21:00:44] $cat.cex
INFO [2025-02-04 21:00:44] [1] 1
INFO [2025-02-04 21:00:44] 
INFO [2025-02-04 21:00:44] $cat.col
INFO [2025-02-04 21:00:44] [1] "black"
INFO [2025-02-04 21:00:44] 
INFO [2025-02-04 21:00:44] $cat.fontface
INFO [2025-02-04 21:00:44] [1] "plain"
INFO [2025-02-04 21:00:44] 
INFO [2025-02-04 21:00:44] $cat.fontfamily
INFO [2025-02-04 21:00:44] [1] "serif"
INFO [2025-02-04 21:00:44] 
INFO [2025-02-04 21:00:44] $x
INFO [2025-02-04 21:00:44] $x$TF1
INFO [2025-02-04 21:00:44] [1] 3 4 5
INFO [2025-02-04 21:00:44] 
INFO [2025-02-04 21:00:44] $x$TF2
INFO [2025-02-04 21:00:44] [1] 1 2 3 4 5
INFO [2025-02-04 21:00:44] 
INFO [2025-02-04 21:00:44] 
INFO [2025-02-04 21:00:44] $disable.logging
INFO [2025-02-04 21:00:44] [1] TRUE
INFO [2025-02-04 21:00:44] 
INFO [2025-02-04 21:00:44] $filename
INFO [2025-02-04 21:00:44] NULL
INFO [2025-02-04 21:00:44] 
INFO [2025-02-04 21:00:44] $cat.cex
INFO [2025-02-04 21:00:44] [1] 1
INFO [2025-02-04 21:00:44] 
INFO [2025-02-04 21:00:44] $cat.col
INFO [2025-02-04 21:00:44] [1] "black"
INFO [2025-02-04 21:00:44] 
INFO [2025-02-04 21:00:44] $cat.fontface
INFO [2025-02-04 21:00:44] [1] "plain"
INFO [2025-02-04 21:00:44] 
INFO [2025-02-04 21:00:44] $cat.fontfamily
INFO [2025-02-04 21:00:44] [1] "serif"
INFO [2025-02-04 21:00:44] 
INFO [2025-02-04 21:00:44] $x
INFO [2025-02-04 21:00:44] $x$TF1
INFO [2025-02-04 21:00:44] [1] 3 4 5
INFO [2025-02-04 21:00:44] 
INFO [2025-02-04 21:00:44] $x$TF2
INFO [2025-02-04 21:00:44] [1] 1 2 4 5
INFO [2025-02-04 21:00:44] 
INFO [2025-02-04 21:00:44] $x$TF3
INFO [2025-02-04 21:00:44] [1] 3 4 5
INFO [2025-02-04 21:00:44] 
INFO [2025-02-04 21:00:44] $x$TF4
INFO [2025-02-04 21:00:44] [1] 1 2 4 5
INFO [2025-02-04 21:00:44] 
INFO [2025-02-04 21:00:44] 
INFO [2025-02-04 21:00:44] $disable.logging
INFO [2025-02-04 21:00:44] [1] TRUE
INFO [2025-02-04 21:00:44] 
INFO [2025-02-04 21:00:44] $filename
INFO [2025-02-04 21:00:44] NULL
INFO [2025-02-04 21:00:44] 
INFO [2025-02-04 21:00:45] $scaled
INFO [2025-02-04 21:00:45] [1] FALSE
INFO [2025-02-04 21:00:45] 
INFO [2025-02-04 21:00:45] $euler.d
INFO [2025-02-04 21:00:45] [1] FALSE
INFO [2025-02-04 21:00:45] 
INFO [2025-02-04 21:00:45] $cat.cex
INFO [2025-02-04 21:00:45] [1] 1
INFO [2025-02-04 21:00:45] 
INFO [2025-02-04 21:00:45] $cat.col
INFO [2025-02-04 21:00:45] [1] "black"
INFO [2025-02-04 21:00:45] 
INFO [2025-02-04 21:00:45] $cat.fontface
INFO [2025-02-04 21:00:45] [1] "plain"
INFO [2025-02-04 21:00:45] 
INFO [2025-02-04 21:00:45] $cat.fontfamily
INFO [2025-02-04 21:00:45] [1] "serif"
INFO [2025-02-04 21:00:45] 
INFO [2025-02-04 21:00:45] $x
INFO [2025-02-04 21:00:45] $x$TF1
INFO [2025-02-04 21:00:45] [1] 1 2 3
INFO [2025-02-04 21:00:45] 
INFO [2025-02-04 21:00:45] $x$TF2
INFO [2025-02-04 21:00:45] [1] 1 2 3
INFO [2025-02-04 21:00:45] 
INFO [2025-02-04 21:00:45] 
INFO [2025-02-04 21:00:45] $disable.logging
INFO [2025-02-04 21:00:45] [1] TRUE
INFO [2025-02-04 21:00:45] 
INFO [2025-02-04 21:00:45] $filename
INFO [2025-02-04 21:00:45] NULL
INFO [2025-02-04 21:00:45] 
INFO [2025-02-04 21:00:45] $scaled
INFO [2025-02-04 21:00:45] [1] FALSE
INFO [2025-02-04 21:00:45] 
INFO [2025-02-04 21:00:45] $euler.d
INFO [2025-02-04 21:00:45] [1] FALSE
INFO [2025-02-04 21:00:45] 
INFO [2025-02-04 21:00:45] $cat.cex
INFO [2025-02-04 21:00:45] [1] 1
INFO [2025-02-04 21:00:45] 
INFO [2025-02-04 21:00:45] $cat.col
INFO [2025-02-04 21:00:45] [1] "black"
INFO [2025-02-04 21:00:45] 
INFO [2025-02-04 21:00:45] $cat.fontface
INFO [2025-02-04 21:00:45] [1] "plain"
INFO [2025-02-04 21:00:45] 
INFO [2025-02-04 21:00:45] $cat.fontfamily
INFO [2025-02-04 21:00:45] [1] "serif"
INFO [2025-02-04 21:00:45] 
INFO [2025-02-04 21:00:45] $x
INFO [2025-02-04 21:00:45] $x$TF1
INFO [2025-02-04 21:00:45] [1] 4 5 6
INFO [2025-02-04 21:00:45] 
INFO [2025-02-04 21:00:45] $x$TF2
INFO [2025-02-04 21:00:45] [1] 1 2 3
INFO [2025-02-04 21:00:45] 
INFO [2025-02-04 21:00:45] 
INFO [2025-02-04 21:00:45] $disable.logging
INFO [2025-02-04 21:00:45] [1] TRUE
INFO [2025-02-04 21:00:45] 
INFO [2025-02-04 21:00:45] $filename
INFO [2025-02-04 21:00:45] NULL
INFO [2025-02-04 21:00:45] 
INFO [2025-02-04 21:00:45] $scaled
INFO [2025-02-04 21:00:45] [1] FALSE
INFO [2025-02-04 21:00:45] 
INFO [2025-02-04 21:00:45] $euler.d
INFO [2025-02-04 21:00:45] [1] FALSE
INFO [2025-02-04 21:00:45] 
INFO [2025-02-04 21:00:45] $cat.cex
INFO [2025-02-04 21:00:45] [1] 1
INFO [2025-02-04 21:00:45] 
INFO [2025-02-04 21:00:45] $cat.col
INFO [2025-02-04 21:00:45] [1] "black"
INFO [2025-02-04 21:00:45] 
INFO [2025-02-04 21:00:45] $cat.fontface
INFO [2025-02-04 21:00:45] [1] "plain"
INFO [2025-02-04 21:00:45] 
INFO [2025-02-04 21:00:45] $cat.fontfamily
INFO [2025-02-04 21:00:45] [1] "serif"
INFO [2025-02-04 21:00:45] 
INFO [2025-02-04 21:00:45] $x
INFO [2025-02-04 21:00:45] $x$TF1
INFO [2025-02-04 21:00:45] [1] 4 5 6
INFO [2025-02-04 21:00:45] 
INFO [2025-02-04 21:00:45] $x$TF2
INFO [2025-02-04 21:00:45] [1] 1 2 3
INFO [2025-02-04 21:00:45] 
INFO [2025-02-04 21:00:45] 
INFO [2025-02-04 21:00:45] $disable.logging
INFO [2025-02-04 21:00:45] [1] TRUE
INFO [2025-02-04 21:00:45] 
INFO [2025-02-04 21:00:45] $filename
INFO [2025-02-04 21:00:45] NULL
INFO [2025-02-04 21:00:45] 
INFO [2025-02-04 21:00:46] $scaled
INFO [2025-02-04 21:00:46] [1] FALSE
INFO [2025-02-04 21:00:46] 
INFO [2025-02-04 21:00:46] $euler.d
INFO [2025-02-04 21:00:46] [1] FALSE
INFO [2025-02-04 21:00:46] 
INFO [2025-02-04 21:00:46] $cat.cex
INFO [2025-02-04 21:00:46] [1] 1
INFO [2025-02-04 21:00:46] 
INFO [2025-02-04 21:00:46] $cat.col
INFO [2025-02-04 21:00:46] [1] "black"
INFO [2025-02-04 21:00:46] 
INFO [2025-02-04 21:00:46] $cat.fontface
INFO [2025-02-04 21:00:46] [1] "plain"
INFO [2025-02-04 21:00:46] 
INFO [2025-02-04 21:00:46] $cat.fontfamily
INFO [2025-02-04 21:00:46] [1] "serif"
INFO [2025-02-04 21:00:46] 
INFO [2025-02-04 21:00:46] $x
INFO [2025-02-04 21:00:46] $x$TF1
INFO [2025-02-04 21:00:46] [1] 4 5 6
INFO [2025-02-04 21:00:46] 
INFO [2025-02-04 21:00:46] $x$TF2
INFO [2025-02-04 21:00:46] [1] 1 2 3
INFO [2025-02-04 21:00:46] 
INFO [2025-02-04 21:00:46] $x$TF3
INFO [2025-02-04 21:00:46] [1] 2 3 6
INFO [2025-02-04 21:00:46] 
INFO [2025-02-04 21:00:46] 
INFO [2025-02-04 21:00:46] $disable.logging
INFO [2025-02-04 21:00:46] [1] TRUE
INFO [2025-02-04 21:00:46] 
INFO [2025-02-04 21:00:46] $filename
INFO [2025-02-04 21:00:46] NULL
INFO [2025-02-04 21:00:46] 
INFO [2025-02-04 21:00:46] $scaled
INFO [2025-02-04 21:00:46] [1] FALSE
INFO [2025-02-04 21:00:46] 
INFO [2025-02-04 21:00:46] $euler.d
INFO [2025-02-04 21:00:46] [1] FALSE
INFO [2025-02-04 21:00:46] 
INFO [2025-02-04 21:00:46] $cat.cex
INFO [2025-02-04 21:00:46] [1] 1
INFO [2025-02-04 21:00:46] 
INFO [2025-02-04 21:00:46] $cat.col
INFO [2025-02-04 21:00:46] [1] "black"
INFO [2025-02-04 21:00:46] 
INFO [2025-02-04 21:00:46] $cat.fontface
INFO [2025-02-04 21:00:46] [1] "plain"
INFO [2025-02-04 21:00:46] 
INFO [2025-02-04 21:00:46] $cat.fontfamily
INFO [2025-02-04 21:00:46] [1] "serif"
INFO [2025-02-04 21:00:46] 
INFO [2025-02-04 21:00:46] $x
INFO [2025-02-04 21:00:46] $x$TF1
INFO [2025-02-04 21:00:46] [1] 3 4 5
INFO [2025-02-04 21:00:46] 
INFO [2025-02-04 21:00:46] $x$TF2
INFO [2025-02-04 21:00:46] [1] 1 2 5
INFO [2025-02-04 21:00:46] 
INFO [2025-02-04 21:00:46] $x$TF3
INFO [2025-02-04 21:00:46] [1] 1 2 5
INFO [2025-02-04 21:00:46] 
INFO [2025-02-04 21:00:46] 
INFO [2025-02-04 21:00:46] $disable.logging
INFO [2025-02-04 21:00:46] [1] TRUE
INFO [2025-02-04 21:00:46] 
INFO [2025-02-04 21:00:46] $filename
INFO [2025-02-04 21:00:46] NULL
INFO [2025-02-04 21:00:46] 
INFO [2025-02-04 21:00:46] $scaled
INFO [2025-02-04 21:00:46] [1] FALSE
INFO [2025-02-04 21:00:46] 
INFO [2025-02-04 21:00:46] $euler.d
INFO [2025-02-04 21:00:46] [1] FALSE
INFO [2025-02-04 21:00:46] 
INFO [2025-02-04 21:00:46] $cat.cex
INFO [2025-02-04 21:00:46] [1] 1
INFO [2025-02-04 21:00:46] 
INFO [2025-02-04 21:00:46] $cat.col
INFO [2025-02-04 21:00:46] [1] "black"
INFO [2025-02-04 21:00:46] 
INFO [2025-02-04 21:00:46] $cat.fontface
INFO [2025-02-04 21:00:46] [1] "plain"
INFO [2025-02-04 21:00:46] 
INFO [2025-02-04 21:00:46] $cat.fontfamily
INFO [2025-02-04 21:00:46] [1] "serif"
INFO [2025-02-04 21:00:46] 
INFO [2025-02-04 21:00:46] $x
INFO [2025-02-04 21:00:46] $x$TF1
INFO [2025-02-04 21:00:46] [1] 3 4 5
INFO [2025-02-04 21:00:46] 
INFO [2025-02-04 21:00:46] $x$TF2
INFO [2025-02-04 21:00:46] [1] 1 2 5
INFO [2025-02-04 21:00:46] 
INFO [2025-02-04 21:00:46] $x$TF3
INFO [2025-02-04 21:00:46] [1] 1 2 5
INFO [2025-02-04 21:00:46] 
INFO [2025-02-04 21:00:46] $x$TF4
INFO [2025-02-04 21:00:46] [1] 1 2 5
INFO [2025-02-04 21:00:46] 
INFO [2025-02-04 21:00:46] 
INFO [2025-02-04 21:00:46] $disable.logging
INFO [2025-02-04 21:00:46] [1] TRUE
INFO [2025-02-04 21:00:46] 
INFO [2025-02-04 21:00:46] $filename
INFO [2025-02-04 21:00:46] NULL
INFO [2025-02-04 21:00:46] 
[ FAIL 0 | WARN 3 | SKIP 6 | PASS 320 ]

══ Skipped tests (6) ═══════════════════════════════════════════════════════════
• empty test (6): 'test_binOverGene.R:1:1', 'test_binOverRegions.R:1:1',
  'test_enrichmentPlot.R:1:1', 'test_getAnnotation.R:1:1',
  'test_reCenterPeaks.R:1:1', 'test_write2FASTA.R:1:1'

[ FAIL 0 | WARN 3 | SKIP 6 | PASS 320 ]
> 
> proc.time()
   user  system elapsed 
162.388   4.079 168.516 

Example timings

ChIPpeakAnno.Rcheck/ChIPpeakAnno-Ex.timings

nameusersystemelapsed
ChIPpeakAnno-package0.0010.0000.000
ExonPlusUtr.human.GRCh373.8840.2004.083
HOT.spots0.1320.0100.142
IDRfilter000
Peaks.Ste12.Replicate10.0470.0010.048
Peaks.Ste12.Replicate20.0100.0010.012
Peaks.Ste12.Replicate30.0110.0010.012
TSS.human.GRCh370.1680.0120.180
TSS.human.GRCh380.1430.0080.152
TSS.human.NCBI360.1060.0060.112
TSS.mouse.GRCm380.1050.0120.116
TSS.mouse.NCBIM370.0890.0120.100
TSS.rat.RGSC3.40.0750.0070.082
TSS.rat.Rnor_5.00.0660.0050.071
TSS.zebrafish.Zv80.0730.0040.077
TSS.zebrafish.Zv90.0870.0080.095
addAncestors0.9760.0571.032
addGeneIDs0.9060.0330.940
addMetadata1.0230.1261.149
annoGR0.0010.0000.000
annoPeaks3.1280.3844.533
annotatePeakInBatch12.063 1.13313.198
annotatedPeak0.0600.0050.065
assignChromosomeRegion0.0010.0000.001
bdp000
binOverFeature0.7550.0490.805
binOverGene000
binOverRegions0.0000.0000.001
condenseMatrixByColnames0.0100.0010.011
convert2EntrezID0.3140.0070.322
countPatternInSeqs0.1560.0050.161
cumulativePercentage000
downstreams0.0190.0040.023
egOrgMap0.0000.0000.001
enrichedGO0.0030.0000.002
enrichmentPlot0.4790.0250.504
estFragmentLength000
estLibSize000
featureAlignedDistribution0.2270.0160.243
featureAlignedExtendSignal0.0020.0000.001
featureAlignedHeatmap0.3150.0080.323
featureAlignedSignal0.2970.0950.394
findEnhancers23.009 0.92123.934
findMotifsInPromoterSeqs12.877 0.32813.206
findOverlappingPeaks0.0010.0000.001
findOverlapsOfPeaks1.7790.0741.853
genomicElementDistribution0.0000.0010.002
genomicElementUpSetR0.0000.0000.001
getAllPeakSequence0.5390.0160.556
getAnnotation0.0000.0010.001
getEnrichedGO0.0090.0010.010
getEnrichedPATH0.0000.0000.001
getGO0.0000.0000.001
getGeneSeq0.0020.0000.001
getUniqueGOidCount0.0000.0010.001
getVennCounts0.0010.0000.001
hyperGtest0.0000.0010.001
makeVennDiagram0.0020.0000.002
mergePlusMinusPeaks000
metagenePlot2.0440.0742.120
myPeakList0.0150.0000.014
oligoFrequency0.0980.0040.102
oligoSummary000
peakPermTest0.0020.0000.002
peaks10.0080.0010.008
peaks20.0080.0000.007
peaks30.0070.0010.007
peaksNearBDP0.0000.0010.001
pie10.0050.0000.005
plotBinOverRegions000
preparePool000
reCenterPeaks0.0200.0020.022
summarizeOverlapsByBins5.6490.5515.899
summarizePatternInPeaks1.3210.2781.599
tileCount0.1950.2050.384
tileGRanges0.1490.1390.038
toGRanges0.0730.0160.090
translatePattern000
wgEncodeTfbsV30.2170.0260.243
write2FASTA0.0160.0020.017
xget0.1120.0080.120