Back to Multiple platform build/check report for BioC 3.21:   simplified   long
AB[C]DEFGHIJKLMNOPQRSTUVWXYZ

This page was generated on 2025-02-06 11:43 -0500 (Thu, 06 Feb 2025).

HostnameOSArch (*)R versionInstalled pkgs
nebbiolo1Linux (Ubuntu 24.04.1 LTS)x86_64R Under development (unstable) (2025-01-20 r87609) -- "Unsuffered Consequences" 4719
palomino7Windows Server 2022 Datacenterx64R Under development (unstable) (2025-01-21 r87610 ucrt) -- "Unsuffered Consequences" 4480
lconwaymacOS 12.7.1 Montereyx86_64R Under development (unstable) (2025-01-22 r87618) -- "Unsuffered Consequences" 4491
kjohnson3macOS 13.7.1 Venturaarm64R Under development (unstable) (2025-01-20 r87609) -- "Unsuffered Consequences" 4444
Click on any hostname to see more info about the system (e.g. compilers)      (*) as reported by 'uname -p', except on Windows and Mac OS X

Package 400/2295HostnameOS / ArchINSTALLBUILDCHECKBUILD BIN
CoCiteStats 1.79.0  (landing page)
Bioconductor Package Maintainer
Snapshot Date: 2025-02-05 13:48 -0500 (Wed, 05 Feb 2025)
git_url: https://git.bioconductor.org/packages/CoCiteStats
git_branch: devel
git_last_commit: 51ec881
git_last_commit_date: 2024-10-29 09:23:56 -0500 (Tue, 29 Oct 2024)
nebbiolo1Linux (Ubuntu 24.04.1 LTS) / x86_64  OK    OK    OK  UNNEEDED, same version is already published
palomino7Windows Server 2022 Datacenter / x64  OK    OK    OK    OK  UNNEEDED, same version is already published
lconwaymacOS 12.7.1 Monterey / x86_64  OK    OK    OK    OK  UNNEEDED, same version is already published
kjohnson3macOS 13.7.1 Ventura / arm64  OK    OK    OK    OK  UNNEEDED, same version is already published


CHECK results for CoCiteStats on kjohnson3

To the developers/maintainers of the CoCiteStats package:
- Allow up to 24 hours (and sometimes 48 hours) for your latest push to git@git.bioconductor.org:packages/CoCiteStats.git to reflect on this report. See Troubleshooting Build Report for more information.
- Use the following Renviron settings to reproduce errors and warnings.
- If 'R CMD check' started to fail recently on the Linux builder(s) over a missing dependency, add the missing dependency to 'Suggests:' in your DESCRIPTION file. See Renviron.bioc for more information.

raw results


Summary

Package: CoCiteStats
Version: 1.79.0
Command: /Library/Frameworks/R.framework/Resources/bin/R CMD check --install=check:CoCiteStats.install-out.txt --library=/Library/Frameworks/R.framework/Resources/library --no-vignettes --timings CoCiteStats_1.79.0.tar.gz
StartedAt: 2025-02-05 18:40:24 -0500 (Wed, 05 Feb 2025)
EndedAt: 2025-02-05 18:42:07 -0500 (Wed, 05 Feb 2025)
EllapsedTime: 103.2 seconds
RetCode: 0
Status:   OK  
CheckDir: CoCiteStats.Rcheck
Warnings: 0

Command output

##############################################################################
##############################################################################
###
### Running command:
###
###   /Library/Frameworks/R.framework/Resources/bin/R CMD check --install=check:CoCiteStats.install-out.txt --library=/Library/Frameworks/R.framework/Resources/library --no-vignettes --timings CoCiteStats_1.79.0.tar.gz
###
##############################################################################
##############################################################################


* using log directory ‘/Users/biocbuild/bbs-3.21-bioc/meat/CoCiteStats.Rcheck’
* using R Under development (unstable) (2025-01-20 r87609)
* using platform: aarch64-apple-darwin20
* R was compiled by
    Apple clang version 14.0.0 (clang-1400.0.29.202)
    GNU Fortran (GCC) 14.2.0
* running under: macOS Ventura 13.7.1
* using session charset: UTF-8
* using option ‘--no-vignettes’
* checking for file ‘CoCiteStats/DESCRIPTION’ ... OK
* this is package ‘CoCiteStats’ version ‘1.79.0’
* checking package namespace information ... OK
* checking package dependencies ... OK
* checking if this is a source package ... OK
* checking if there is a namespace ... OK
* checking for hidden files and directories ... OK
* checking for portable file names ... OK
* checking for sufficient/correct file permissions ... OK
* checking whether package ‘CoCiteStats’ can be installed ... OK
* checking installed package size ... OK
* checking package directory ... OK
* checking DESCRIPTION meta-information ... NOTE
Malformed Title field: should not end in a period.
* checking top-level files ... OK
* checking for left-over files ... OK
* checking index information ... OK
* checking package subdirectories ... OK
* checking code files for non-ASCII characters ... OK
* checking R files for syntax errors ... OK
* checking whether the package can be loaded ... OK
* checking whether the package can be loaded with stated dependencies ... OK
* checking whether the package can be unloaded cleanly ... OK
* checking whether the namespace can be loaded with stated dependencies ... OK
* checking whether the namespace can be unloaded cleanly ... OK
* checking dependencies in R code ... NOTE
Package in Depends field not imported from: ‘org.Hs.eg.db’
  These packages need to be imported from (in the NAMESPACE file)
  for when this namespace is loaded but not attached.
* checking S3 generic/method consistency ... OK
* checking replacement functions ... OK
* checking foreign function calls ... OK
* checking R code for possible problems ... NOTE
gene.geneslist.sig: no visible global function definition for ‘Lkeys’
gene.geneslist.sig: no visible binding for global variable
  ‘org.Hs.egPMID’
paperLen: no visible global function definition for ‘toTable’
paperLen: no visible binding for global variable ‘org.Hs.egPMID’
paperLen: no visible global function definition for ‘nhit’
paperLen: no visible global function definition for ‘revmap’
Undefined global functions or variables:
  Lkeys nhit org.Hs.egPMID revmap toTable
* checking Rd files ... NOTE
prepare_Rd: gene.geneslist.statistic.Rd:19-21: Dropping empty section \details
* checking Rd metadata ... OK
* checking Rd cross-references ... OK
* checking for missing documentation entries ... OK
* checking for code/documentation mismatches ... OK
* checking Rd \usage sections ... OK
* checking Rd contents ... OK
* checking for unstated dependencies in examples ... OK
* checking examples ... OK
Examples with CPU (user + system) or elapsed time > 5s
                           user system elapsed
actorAdjTable            11.141  1.475  13.096
gene.geneslist.sig       12.033  0.509  12.607
gene.geneslist.statistic  8.665  0.191   8.898
gene.gene.statistic       8.528  0.093   8.633
paperLen                  8.471  0.125   8.610
twowayTable               8.316  0.135   8.464
twTStats                  8.225  0.134   8.375
* checking PDF version of manual ... OK
* DONE

Status: 4 NOTEs
See
  ‘/Users/biocbuild/bbs-3.21-bioc/meat/CoCiteStats.Rcheck/00check.log’
for details.


Installation output

CoCiteStats.Rcheck/00install.out

##############################################################################
##############################################################################
###
### Running command:
###
###   /Library/Frameworks/R.framework/Resources/bin/R CMD INSTALL CoCiteStats
###
##############################################################################
##############################################################################


* installing to library ‘/Library/Frameworks/R.framework/Versions/4.5-arm64/Resources/library’
* installing *source* package ‘CoCiteStats’ ...
** this is package ‘CoCiteStats’ version ‘1.79.0’
** using staged installation
** R
** byte-compile and prepare package for lazy loading
** help
*** installing help indices
** building package indices
** testing if installed package can be loaded from temporary location
** testing if installed package can be loaded from final location
** testing if installed package keeps a record of temporary installation path
* DONE (CoCiteStats)

Tests output


Example timings

CoCiteStats.Rcheck/CoCiteStats-Ex.timings

nameusersystemelapsed
actorAdjTable11.141 1.47513.096
gene.gene.statistic8.5280.0938.633
gene.geneslist.sig12.033 0.50912.607
gene.geneslist.statistic8.6650.1918.898
paperLen8.4710.1258.610
twTStats8.2250.1348.375
twowayTable8.3160.1358.464