Back to Multiple platform build/check report for BioC 3.21:   simplified   long
ABC[D]EFGHIJKLMNOPQRSTUVWXYZ

This page was generated on 2025-02-11 11:39 -0500 (Tue, 11 Feb 2025).

HostnameOSArch (*)R versionInstalled pkgs
nebbiolo1Linux (Ubuntu 24.04.1 LTS)x86_64R Under development (unstable) (2025-01-20 r87609) -- "Unsuffered Consequences" 4719
palomino7Windows Server 2022 Datacenterx64R Under development (unstable) (2025-01-21 r87610 ucrt) -- "Unsuffered Consequences" 4480
lconwaymacOS 12.7.1 Montereyx86_64R Under development (unstable) (2025-01-22 r87618) -- "Unsuffered Consequences" 4491
kjohnson3macOS 13.7.1 Venturaarm64R Under development (unstable) (2025-01-20 r87609) -- "Unsuffered Consequences" 4444
Click on any hostname to see more info about the system (e.g. compilers)      (*) as reported by 'uname -p', except on Windows and Mac OS X

Package 528/2295HostnameOS / ArchINSTALLBUILDCHECKBUILD BIN
DEGraph 1.59.0  (landing page)
Laurent Jacob
Snapshot Date: 2025-02-10 13:40 -0500 (Mon, 10 Feb 2025)
git_url: https://git.bioconductor.org/packages/DEGraph
git_branch: devel
git_last_commit: 6c12c51
git_last_commit_date: 2024-10-29 09:35:15 -0500 (Tue, 29 Oct 2024)
nebbiolo1Linux (Ubuntu 24.04.1 LTS) / x86_64  OK    OK    OK  UNNEEDED, same version is already published
palomino7Windows Server 2022 Datacenter / x64... NOT SUPPORTED ...
lconwaymacOS 12.7.1 Monterey / x86_64... NOT SUPPORTED ...
kjohnson3macOS 13.7.1 Ventura / arm64... NOT SUPPORTED ...


CHECK results for DEGraph on nebbiolo1

To the developers/maintainers of the DEGraph package:
- Allow up to 24 hours (and sometimes 48 hours) for your latest push to git@git.bioconductor.org:packages/DEGraph.git to reflect on this report. See Troubleshooting Build Report for more information.
- Use the following Renviron settings to reproduce errors and warnings.
- If 'R CMD check' started to fail recently on the Linux builder(s) over a missing dependency, add the missing dependency to 'Suggests:' in your DESCRIPTION file. See Renviron.bioc for more information.

raw results


Summary

Package: DEGraph
Version: 1.59.0
Command: /home/biocbuild/bbs-3.21-bioc/R/bin/R CMD check --install=check:DEGraph.install-out.txt --library=/home/biocbuild/bbs-3.21-bioc/R/site-library --timings DEGraph_1.59.0.tar.gz
StartedAt: 2025-02-10 21:42:42 -0500 (Mon, 10 Feb 2025)
EndedAt: 2025-02-10 21:44:09 -0500 (Mon, 10 Feb 2025)
EllapsedTime: 87.1 seconds
RetCode: 0
Status:   OK  
CheckDir: DEGraph.Rcheck
Warnings: 0

Command output

##############################################################################
##############################################################################
###
### Running command:
###
###   /home/biocbuild/bbs-3.21-bioc/R/bin/R CMD check --install=check:DEGraph.install-out.txt --library=/home/biocbuild/bbs-3.21-bioc/R/site-library --timings DEGraph_1.59.0.tar.gz
###
##############################################################################
##############################################################################


* using log directory ‘/home/biocbuild/bbs-3.21-bioc/meat/DEGraph.Rcheck’
* using R Under development (unstable) (2025-01-20 r87609)
* using platform: x86_64-pc-linux-gnu
* R was compiled by
    gcc (Ubuntu 13.3.0-6ubuntu2~24.04) 13.3.0
    GNU Fortran (Ubuntu 13.3.0-6ubuntu2~24.04) 13.3.0
* running under: Ubuntu 24.04.1 LTS
* using session charset: UTF-8
* checking for file ‘DEGraph/DESCRIPTION’ ... OK
* this is package ‘DEGraph’ version ‘1.59.0’
* checking package namespace information ... OK
* checking package dependencies ... OK
* checking if this is a source package ... OK
* checking if there is a namespace ... OK
* checking for hidden files and directories ... NOTE
Found the following hidden files and directories:
  .BBSoptions
These were most likely included in error. See section ‘Package
structure’ in the ‘Writing R Extensions’ manual.
* checking for portable file names ... OK
* checking for sufficient/correct file permissions ... OK
* checking whether package ‘DEGraph’ can be installed ... OK
* checking installed package size ... OK
* checking package directory ... OK
* checking ‘build’ directory ... OK
* checking DESCRIPTION meta-information ... NOTE
Packages listed in more than one of Depends, Imports, Suggests, Enhances:
  ‘graph’ ‘KEGGgraph’ ‘lattice’ ‘RBGL’ ‘rrcov’ ‘Rgraphviz’ ‘NCIgraph’
A package should be listed in only one of these fields.
* checking top-level files ... OK
* checking for left-over files ... OK
* checking index information ... OK
* checking package subdirectories ... OK
* checking code files for non-ASCII characters ... OK
* checking R files for syntax errors ... OK
* checking whether the package can be loaded ... OK
* checking whether the package can be loaded with stated dependencies ... OK
* checking whether the package can be unloaded cleanly ... OK
* checking whether the namespace can be loaded with stated dependencies ... OK
* checking whether the namespace can be unloaded cleanly ... OK
* checking loading without being on the library search path ... OK
* checking dependencies in R code ... NOTE
Package in Depends field not imported from: ‘R.utils’
  These packages need to be imported from (in the NAMESPACE file)
  for when this namespace is loaded but not attached.
Unexported object imported by a ':::' call: ‘graph:::getIndices’
  See the note in ?`:::` about the use of this operator.
* checking S3 generic/method consistency ... OK
* checking replacement functions ... OK
* checking foreign function calls ... OK
* checking R code for possible problems ... NOTE
AN.test: no visible global function definition for ‘var’
BS.test: no visible global function definition for ‘pnorm’
getConnectedComponentList: no visible binding for global variable
  ‘Arguments’
getConnectedComponentList: no visible global function definition for
  ‘pushState’
getConnectedComponentList: no visible global function definition for
  ‘popState’
getKEGGPathways: no visible binding for global variable ‘Arguments’
getKEGGPathways: no visible global function definition for ‘pushState’
getKEGGPathways: no visible global function definition for ‘popState’
getKEGGPathways: no visible global function definition for ‘str’
getKEGGPathways: no visible global function definition for
  ‘ProgressBar’
getKEGGPathways: no visible global function definition for ‘reset’
getKEGGPathways : <anonymous>: no visible global function definition
  for ‘increase’
getSignedGraph: no visible binding for global variable ‘Arguments’
getSignedGraph: no visible global function definition for ‘pushState’
getSignedGraph: no visible global function definition for ‘popState’
getSignedGraph: no visible global function definition for ‘str’
getSignedGraph: no visible global function definition for ‘enter’
getSignedGraph: no visible global function definition for ‘exit’
getSignedGraph: no visible global function definition for ‘as’
graph.T2.test: no visible global function definition for ‘as’
hyper.test: no visible binding for global variable ‘Arguments’
hyper.test: no visible global function definition for ‘pushState’
hyper.test: no visible global function definition for ‘popState’
hyper.test: no visible global function definition for ‘str’
hyper.test: no visible global function definition for ‘phyper’
plotValuedGraph: no visible global function definition for
  ‘heat.colors’
plotValuedGraph: no visible binding for global variable ‘Arguments’
plotValuedGraph: no visible global function definition for ‘pushState’
plotValuedGraph: no visible global function definition for ‘popState’
plotValuedGraph: no visible global function definition for ‘str’
plotValuedGraph: no visible global function definition for ‘quantile’
randomWAMGraph: no visible binding for global variable ‘Arguments’
randomWAMGraph: no visible global function definition for ‘pushState’
randomWAMGraph: no visible global function definition for ‘popState’
randomWAMGraph: no visible global function definition for ‘as’
testOneConnectedComponent: no visible binding for global variable
  ‘Arguments’
testOneConnectedComponent: no visible global function definition for
  ‘pushState’
testOneConnectedComponent: no visible global function definition for
  ‘popState’
testOneConnectedComponent: no visible global function definition for
  ‘enter’
testOneConnectedComponent: no visible global function definition for
  ‘exit’
testOneConnectedComponent: no visible global function definition for
  ‘as’
testOneConnectedComponent: no visible global function definition for
  ‘str’
testOneGraph: no visible binding for global variable ‘Arguments’
testOneGraph: no visible global function definition for ‘pushState’
testOneGraph: no visible global function definition for ‘popState’
testOneGraph: no visible global function definition for ‘enter’
testOneGraph: no visible global function definition for
  ‘translateNCI2GeneID’
testOneGraph: no visible global function definition for ‘str’
testOneGraph: no visible global function definition for ‘exit’
twoSampleFromGraph: no visible global function definition for ‘rnorm’
writeAdjacencyMatrix2KGML: no visible binding for global variable
  ‘Arguments’
writeAdjacencyMatrix2KGML: no visible global function definition for
  ‘pushState’
writeAdjacencyMatrix2KGML: no visible global function definition for
  ‘popState’
writeAdjacencyMatrix2KGML : <anonymous>: no visible global function
  definition for ‘na.omit’
Undefined global functions or variables:
  Arguments ProgressBar as enter exit heat.colors increase na.omit
  phyper pnorm popState pushState quantile reset rnorm str
  translateNCI2GeneID var
Consider adding
  importFrom("grDevices", "heat.colors")
  importFrom("methods", "as")
  importFrom("stats", "na.omit", "phyper", "pnorm", "quantile", "rnorm",
             "var")
  importFrom("utils", "str")
to your NAMESPACE file (and ensure that your DESCRIPTION Imports field
contains 'methods').
* checking Rd files ... OK
* checking Rd metadata ... OK
* checking Rd cross-references ... NOTE
Found the following Rd file(s) with Rd \link{} targets missing package
anchors:
  getConnectedComponentList.Rd: graph-class, connectedComp
  getKEGGPathways.Rd: graph-class, parseKGML, KEGGpathway2Graph
  getSignedGraph.Rd: graph-class
  graph.T2.test.Rd: graphAM-class, graphNEL-class, T2.test
  plotValuedGraph.Rd: graph-class, plotKEGGgraph
  randomWAMGraph.Rd: graphAM-class
  testOneConnectedComponent.Rd: graph-class
  testOneGraph.Rd: graph-class
  writeAdjacencyMatrix2KGML.Rd: parseKGML2Graph
Please provide package anchors for all Rd \link{} targets not in the
package itself and the base packages.
* checking for missing documentation entries ... OK
* checking for code/documentation mismatches ... OK
* checking Rd \usage sections ... OK
* checking Rd contents ... OK
* checking for unstated dependencies in examples ... OK
* checking contents of ‘data’ directory ... OK
* checking data for non-ASCII characters ... OK
* checking data for ASCII and uncompressed saves ... OK
* checking files in ‘vignettes’ ... OK
* checking examples ... OK
* checking for unstated dependencies in vignettes ... OK
* checking package vignettes ... OK
* checking re-building of vignette outputs ... OK
* checking PDF version of manual ... OK
* DONE

Status: 5 NOTEs
See
  ‘/home/biocbuild/bbs-3.21-bioc/meat/DEGraph.Rcheck/00check.log’
for details.


Installation output

DEGraph.Rcheck/00install.out

##############################################################################
##############################################################################
###
### Running command:
###
###   /home/biocbuild/bbs-3.21-bioc/R/bin/R CMD INSTALL DEGraph
###
##############################################################################
##############################################################################


* installing to library ‘/home/biocbuild/bbs-3.21-bioc/R/site-library’
* installing *source* package ‘DEGraph’ ...
** this is package ‘DEGraph’ version ‘1.59.0’
** using staged installation
** R
** data
** demo
** inst
** byte-compile and prepare package for lazy loading
** help
*** installing help indices
** building package indices
** installing vignettes
** testing if installed package can be loaded from temporary location
** testing if installed package can be loaded from final location
** testing if installed package keeps a record of temporary installation path
* DONE (DEGraph)

Tests output


Example timings

DEGraph.Rcheck/DEGraph-Ex.timings

nameusersystemelapsed
AN.test1.8240.1581.981
BS.test1.5780.0211.599
annLoi20080.1550.0030.157
classLoi20080.1540.0040.158
exprLoi20080.2000.0140.213
getConnectedComponentList1.1780.0041.182
getKEGGPathways2.8170.0832.903
getSignedGraph0.9580.0100.969
grListKEGG0.5160.0060.523
graph.T2.test0.1360.0010.137
hyper.test1.7870.0551.843
laplacianFromA0.1490.0060.155
plotValuedGraph2.7880.0682.856
randomWAMGraph0.1010.0040.105
testOneConnectedComponent0.1320.0010.133
testOneGraph2.1460.1022.248
twoSampleFromGraph0.0930.0040.097
writeAdjacencyMatrix2KGML0.0910.0070.098