Back to Multiple platform build/check report for BioC 3.21:   simplified   long
ABC[D]EFGHIJKLMNOPQRSTUVWXYZ

This page was generated on 2025-02-04 11:41 -0500 (Tue, 04 Feb 2025).

HostnameOSArch (*)R versionInstalled pkgs
nebbiolo1Linux (Ubuntu 24.04.1 LTS)x86_64R Under development (unstable) (2025-01-20 r87609) -- "Unsuffered Consequences" 4716
palomino7Windows Server 2022 Datacenterx64R Under development (unstable) (2025-01-21 r87610 ucrt) -- "Unsuffered Consequences" 4478
lconwaymacOS 12.7.1 Montereyx86_64R Under development (unstable) (2025-01-22 r87618) -- "Unsuffered Consequences" 4489
kjohnson3macOS 13.7.1 Venturaarm64R Under development (unstable) (2025-01-20 r87609) -- "Unsuffered Consequences" 4442
Click on any hostname to see more info about the system (e.g. compilers)      (*) as reported by 'uname -p', except on Windows and Mac OS X

Package 552/2295HostnameOS / ArchINSTALLBUILDCHECKBUILD BIN
DEScan2 1.27.0  (landing page)
Dario Righelli
Snapshot Date: 2025-02-03 13:40 -0500 (Mon, 03 Feb 2025)
git_url: https://git.bioconductor.org/packages/DEScan2
git_branch: devel
git_last_commit: b34d6d0
git_last_commit_date: 2024-10-29 10:26:19 -0500 (Tue, 29 Oct 2024)
nebbiolo1Linux (Ubuntu 24.04.1 LTS) / x86_64  OK    OK    WARNINGS  UNNEEDED, same version is already published
palomino7Windows Server 2022 Datacenter / x64  OK    OK    WARNINGS    OK  UNNEEDED, same version is already published
lconwaymacOS 12.7.1 Monterey / x86_64  OK    OK    WARNINGS    OK  NO, package depends on 'rtracklayer' which is only available as a source package that needs compilation
kjohnson3macOS 13.7.1 Ventura / arm64  OK    OK    WARNINGS    OK  NO, package depends on 'rtracklayer' which is only available as a source package that needs compilation


BUILD results for DEScan2 on palomino7

To the developers/maintainers of the DEScan2 package:
- Allow up to 24 hours (and sometimes 48 hours) for your latest push to git@git.bioconductor.org:packages/DEScan2.git to reflect on this report. See Troubleshooting Build Report for more information.
- Use the following Renviron settings to reproduce errors and warnings.
- If 'R CMD check' started to fail recently on the Linux builder(s) over a missing dependency, add the missing dependency to 'Suggests:' in your DESCRIPTION file. See Renviron.bioc for more information.

raw results


Summary

Package: DEScan2
Version: 1.27.0
Command: chmod a+r DEScan2 -R && E:\biocbuild\bbs-3.21-bioc\R\bin\R.exe CMD build --keep-empty-dirs --no-resave-data DEScan2
StartedAt: 2025-02-03 18:31:49 -0500 (Mon, 03 Feb 2025)
EndedAt: 2025-02-03 18:34:18 -0500 (Mon, 03 Feb 2025)
EllapsedTime: 148.3 seconds
RetCode: 0
Status:   OK  
PackageFile: DEScan2_1.27.0.tar.gz
PackageFileSize: 2.404 MiB

Command output

##############################################################################
##############################################################################
###
### Running command:
###
###   chmod a+r DEScan2 -R && E:\biocbuild\bbs-3.21-bioc\R\bin\R.exe CMD build --keep-empty-dirs --no-resave-data DEScan2
###
##############################################################################
##############################################################################


* checking for file 'DEScan2/DESCRIPTION' ... OK
* preparing 'DEScan2':
* checking DESCRIPTION meta-information ... OK
* cleaning src
Warning: E:/biocbuild/bbs-3.21-bioc/tmpdir/RtmpM95i6t/Rbuild489043de1c78/DEScan2/man/saveGRangesAsTsv.Rd:34: unknown macro '\t'
* installing the package to build vignettes
* creating vignettes ... OK
* cleaning src
* checking for LF line-endings in source and make files and shell scripts
* checking for empty or unneeded directories
Omitted 'LazyData' from DESCRIPTION
* building 'DEScan2_1.27.0.tar.gz'