Back to Multiple platform build/check report for BioC 3.21: simplified long |
|
This page was generated on 2025-01-28 11:47 -0500 (Tue, 28 Jan 2025).
Hostname | OS | Arch (*) | R version | Installed pkgs |
---|---|---|---|---|
nebbiolo1 | Linux (Ubuntu 24.04.1 LTS) | x86_64 | R Under development (unstable) (2025-01-20 r87609) -- "Unsuffered Consequences" | 4659 |
palomino7 | Windows Server 2022 Datacenter | x64 | R Under development (unstable) (2025-01-21 r87610 ucrt) -- "Unsuffered Consequences" | 4454 |
lconway | macOS 12.7.1 Monterey | x86_64 | R Under development (unstable) (2025-01-22 r87618) -- "Unsuffered Consequences" | 4465 |
kjohnson3 | macOS 13.7.1 Ventura | arm64 | R Under development (unstable) (2025-01-20 r87609) -- "Unsuffered Consequences" | 4419 |
kunpeng2 | Linux (openEuler 22.03 LTS-SP1) | aarch64 | R Under development (unstable) (2024-11-24 r87369) -- "Unsuffered Consequences" | 4409 |
Click on any hostname to see more info about the system (e.g. compilers) (*) as reported by 'uname -p', except on Windows and Mac OS X |
Package 648/2286 | Hostname | OS / Arch | INSTALL | BUILD | CHECK | BUILD BIN | ||||||||
EpiCompare 1.11.0 (landing page) Hiranyamaya Dash
| nebbiolo1 | Linux (Ubuntu 24.04.1 LTS) / x86_64 | OK | OK | ERROR | |||||||||
palomino7 | Windows Server 2022 Datacenter / x64 | OK | OK | ERROR | OK | |||||||||
lconway | macOS 12.7.1 Monterey / x86_64 | OK | OK | ERROR | OK | |||||||||
kjohnson3 | macOS 13.7.1 Ventura / arm64 | OK | OK | ERROR | OK | |||||||||
kunpeng2 | Linux (openEuler 22.03 LTS-SP1) / aarch64 | OK | OK | TIMEOUT | ||||||||||
To the developers/maintainers of the EpiCompare package: - Allow up to 24 hours (and sometimes 48 hours) for your latest push to git@git.bioconductor.org:packages/EpiCompare.git to reflect on this report. See Troubleshooting Build Report for more information. - Use the following Renviron settings to reproduce errors and warnings. - If 'R CMD check' started to fail recently on the Linux builder(s) over a missing dependency, add the missing dependency to 'Suggests:' in your DESCRIPTION file. See Renviron.bioc for more information. - See Martin Grigorov's blog post for how to debug Linux ARM64 related issues on a x86_64 host. |
Package: EpiCompare |
Version: 1.11.0 |
Command: /home/biocbuild/R/R/bin/R CMD check --install=check:EpiCompare.install-out.txt --library=/home/biocbuild/R/R/site-library --no-vignettes --timings EpiCompare_1.11.0.tar.gz |
StartedAt: 2025-01-28 10:19:01 -0000 (Tue, 28 Jan 2025) |
EndedAt: 2025-01-28 10:59:02 -0000 (Tue, 28 Jan 2025) |
EllapsedTime: 2400.5 seconds |
RetCode: None |
Status: TIMEOUT |
CheckDir: EpiCompare.Rcheck |
Warnings: NA |
############################################################################## ############################################################################## ### ### Running command: ### ### /home/biocbuild/R/R/bin/R CMD check --install=check:EpiCompare.install-out.txt --library=/home/biocbuild/R/R/site-library --no-vignettes --timings EpiCompare_1.11.0.tar.gz ### ############################################################################## ############################################################################## * using log directory ‘/home/biocbuild/bbs-3.21-bioc/meat/EpiCompare.Rcheck’ * using R Under development (unstable) (2024-11-24 r87369) * using platform: aarch64-unknown-linux-gnu * R was compiled by aarch64-unknown-linux-gnu-gcc (GCC) 14.2.0 GNU Fortran (GCC) 14.2.0 * running under: openEuler 24.03 (LTS) * using session charset: UTF-8 * using option ‘--no-vignettes’ * checking for file ‘EpiCompare/DESCRIPTION’ ... OK * checking extension type ... Package * this is package ‘EpiCompare’ version ‘1.11.0’ * package encoding: UTF-8 * checking package namespace information ... OK * checking package dependencies ... OK * checking if this is a source package ... OK * checking if there is a namespace ... OK * checking for hidden files and directories ... OK * checking for portable file names ... OK * checking for sufficient/correct file permissions ... OK * checking whether package ‘EpiCompare’ can be installed ... OK * checking installed package size ... OK * checking package directory ... OK * checking ‘build’ directory ... OK * checking DESCRIPTION meta-information ... OK * checking top-level files ... OK * checking for left-over files ... OK * checking index information ... OK * checking package subdirectories ...Warning: program compiled against libxml 212 using older 211 OK * checking code files for non-ASCII characters ... OK * checking R files for syntax errors ... OK * checking whether the package can be loaded ... OK * checking whether the package can be loaded with stated dependencies ... OK * checking whether the package can be unloaded cleanly ... OK * checking whether the namespace can be loaded with stated dependencies ... OK * checking whether the namespace can be unloaded cleanly ... OK * checking loading without being on the library search path ... OK * checking dependencies in R code ... OK * checking S3 generic/method consistency ... OK * checking replacement functions ... OK * checking foreign function calls ... OK * checking R code for possible problems ... OK * checking Rd files ... NOTE checkRd: (-1) EpiCompare.Rd:51-53: Lost braces in \itemize; meant \describe ? checkRd: (-1) EpiCompare.Rd:54: Lost braces in \itemize; meant \describe ? checkRd: (-1) EpiCompare.Rd:55: Lost braces in \itemize; meant \describe ? checkRd: (-1) EpiCompare.Rd:74-75: Lost braces in \itemize; meant \describe ? checkRd: (-1) EpiCompare.Rd:76-77: Lost braces in \itemize; meant \describe ? checkRd: (-1) EpiCompare.Rd:78-79: Lost braces in \itemize; meant \describe ? checkRd: (-1) EpiCompare.Rd:80-81: Lost braces in \itemize; meant \describe ? checkRd: (-1) EpiCompare.Rd:82-84: Lost braces in \itemize; meant \describe ? checkRd: (-1) EpiCompare.Rd:85-86: Lost braces in \itemize; meant \describe ? checkRd: (-1) EpiCompare.Rd:179: Lost braces in \itemize; meant \describe ? checkRd: (-1) EpiCompare.Rd:180: Lost braces in \itemize; meant \describe ? checkRd: (-1) EpiCompare.Rd:181: Lost braces in \itemize; meant \describe ? checkRd: (-1) compute_consensus_peaks.Rd:45-47: Lost braces in \itemize; meant \describe ? checkRd: (-1) compute_consensus_peaks.Rd:48-51: Lost braces in \itemize; meant \describe ? checkRd: (-1) compute_corr.Rd:62-65: Lost braces in \itemize; meant \describe ? checkRd: (-1) compute_corr.Rd:66-69: Lost braces in \itemize; meant \describe ? checkRd: (-1) compute_corr.Rd:70-72: Lost braces in \itemize; meant \describe ? checkRd: (-1) gather_files.Rd:22-23: Lost braces in \itemize; meant \describe ? checkRd: (-1) gather_files.Rd:24: Lost braces in \itemize; meant \describe ? checkRd: (-1) gather_files.Rd:25: Lost braces in \itemize; meant \describe ? checkRd: (-1) gather_files.Rd:26-27: Lost braces in \itemize; meant \describe ? checkRd: (-1) gather_files.Rd:28-29: Lost braces in \itemize; meant \describe ? checkRd: (-1) gather_files.Rd:60: Lost braces in \itemize; meant \describe ? checkRd: (-1) gather_files.Rd:61-62: Lost braces in \itemize; meant \describe ? checkRd: (-1) gather_files.Rd:63-65: Lost braces in \itemize; meant \describe ? checkRd: (-1) gather_files_names.Rd:14-15: Lost braces in \itemize; meant \describe ? checkRd: (-1) gather_files_names.Rd:16: Lost braces in \itemize; meant \describe ? checkRd: (-1) gather_files_names.Rd:17: Lost braces in \itemize; meant \describe ? checkRd: (-1) gather_files_names.Rd:18-19: Lost braces in \itemize; meant \describe ? checkRd: (-1) gather_files_names.Rd:20-21: Lost braces in \itemize; meant \describe ? checkRd: (-1) liftover_grlist.Rd:31: Lost braces in \itemize; meant \describe ? checkRd: (-1) liftover_grlist.Rd:32: Lost braces in \itemize; meant \describe ? checkRd: (-1) overlap_stat_plot.Rd:42-43: Lost braces in \itemize; \value handles \item{}{} directly checkRd: (-1) overlap_stat_plot.Rd:44: Lost braces in \itemize; \value handles \item{}{} directly checkRd: (-1) plot_corr.Rd:64-67: Lost braces in \itemize; meant \describe ? checkRd: (-1) plot_corr.Rd:68-71: Lost braces in \itemize; meant \describe ? checkRd: (-1) plot_corr.Rd:72-74: Lost braces in \itemize; meant \describe ? checkRd: (-1) plot_precision_recall.Rd:47-50: Lost braces in \itemize; meant \describe ? checkRd: (-1) plot_precision_recall.Rd:51-54: Lost braces in \itemize; meant \describe ? checkRd: (-1) plot_precision_recall.Rd:55-57: Lost braces in \itemize; meant \describe ? checkRd: (-1) precision_recall.Rd:42-45: Lost braces in \itemize; meant \describe ? checkRd: (-1) precision_recall.Rd:46-49: Lost braces in \itemize; meant \describe ? checkRd: (-1) precision_recall.Rd:50-52: Lost braces in \itemize; meant \describe ? checkRd: (-1) prepare_genome_builds.Rd:13-15: Lost braces in \itemize; meant \describe ? checkRd: (-1) prepare_genome_builds.Rd:16: Lost braces in \itemize; meant \describe ? checkRd: (-1) prepare_genome_builds.Rd:17: Lost braces in \itemize; meant \describe ? checkRd: (-1) prepare_genome_builds.Rd:32-33: Lost braces in \itemize; meant \describe ? checkRd: (-1) prepare_genome_builds.Rd:34-35: Lost braces in \itemize; meant \describe ? checkRd: (-1) prepare_genome_builds.Rd:36-37: Lost braces in \itemize; meant \describe ? checkRd: (-1) prepare_genome_builds.Rd:38-39: Lost braces in \itemize; meant \describe ? checkRd: (-1) prepare_genome_builds.Rd:40-42: Lost braces in \itemize; meant \describe ? checkRd: (-1) prepare_genome_builds.Rd:43-44: Lost braces in \itemize; meant \describe ? checkRd: (-1) read_peaks.Rd:14-15: Lost braces in \itemize; meant \describe ? checkRd: (-1) read_peaks.Rd:16: Lost braces in \itemize; meant \describe ? checkRd: (-1) read_peaks.Rd:17: Lost braces in \itemize; meant \describe ? checkRd: (-1) read_peaks.Rd:18-19: Lost braces in \itemize; meant \describe ? checkRd: (-1) read_peaks.Rd:20-21: Lost braces in \itemize; meant \describe ? checkRd: (-1) rebin_peaks.Rd:39-42: Lost braces in \itemize; meant \describe ? checkRd: (-1) rebin_peaks.Rd:43-46: Lost braces in \itemize; meant \describe ? checkRd: (-1) rebin_peaks.Rd:47-49: Lost braces in \itemize; meant \describe ? * checking Rd metadata ... OK * checking Rd cross-references ... OK * checking for missing documentation entries ... OK * checking for code/documentation mismatches ... OK * checking Rd \usage sections ... OK * checking Rd contents ... OK * checking for unstated dependencies in examples ... OK * checking contents of ‘data’ directory ... OK * checking data for non-ASCII characters ... OK * checking data for ASCII and uncompressed saves ... OK * checking files in ‘vignettes’ ... OK * checking examples ...
EpiCompare.Rcheck/00install.out
############################################################################## ############################################################################## ### ### Running command: ### ### /home/biocbuild/R/R/bin/R CMD INSTALL EpiCompare ### ############################################################################## ############################################################################## * installing to library ‘/home/biocbuild/R/R-4.5.0-devel_2024-11-24/site-library’ * installing *source* package ‘EpiCompare’ ... ** using staged installation ** R ** data ** inst ** byte-compile and prepare package for lazy loading Warning: replacing previous import ‘Biostrings::pattern’ by ‘grid::pattern’ when loading ‘genomation’ ** help *** installing help indices ** building package indices ** installing vignettes ** testing if installed package can be loaded from temporary location Warning: replacing previous import ‘Biostrings::pattern’ by ‘grid::pattern’ when loading ‘genomation’ ** testing if installed package can be loaded from final location Warning: replacing previous import ‘Biostrings::pattern’ by ‘grid::pattern’ when loading ‘genomation’ ** testing if installed package keeps a record of temporary installation path * DONE (EpiCompare)
EpiCompare.Rcheck/EpiCompare-Ex.timings
name | user | system | elapsed | |
EpiCompare | 14.000 | 1.333 | 15.827 | |
bpplapply | 0.010 | 0.060 | 0.068 | |
check_workers | 0.004 | 0.003 | 0.004 | |
compute_consensus_peaks | 0.653 | 0.229 | 0.795 | |
compute_corr | 3.814 | 1.290 | 3.299 | |
download_button | 0.007 | 0.000 | 0.008 | |
fragment_info | 0.003 | 0.000 | 0.004 | |
gather_files | 0.507 | 0.231 | 0.817 | |
group_files | 0.313 | 0.131 | 0.072 | |
liftover_grlist | 4.434 | 0.692 | 8.592 | |
overlap_heatmap | 3.488 | 0.452 | 3.963 | |
overlap_percent | 0.417 | 0.024 | 0.442 | |
overlap_stat_plot | 0.227 | 0.000 | 0.227 | |
overlap_upset_plot | 0.518 | 0.004 | 0.529 | |
peak_info | 0.983 | 0.040 | 1.025 | |
plot_ChIPseeker_annotation | 28.176 | 22.299 | 64.960 | |
plot_chromHMM | 4.625 | 0.314 | 17.189 | |
plot_corr | 11.456 | 2.368 | 11.393 | |
plot_enrichment | 58.642 | 1.725 | 63.230 | |
plot_precision_recall | 9.644 | 2.312 | 6.910 | |
precision_recall | 0.086 | 0.119 | 5.444 | |
predict_precision_recall | 12.722 | 3.013 | 5.229 | |