Back to Multiple platform build/check report for BioC 3.21:   simplified   long
ABCDE[F]GHIJKLMNOPQRSTUVWXYZ

This page was generated on 2025-02-06 11:39 -0500 (Thu, 06 Feb 2025).

HostnameOSArch (*)R versionInstalled pkgs
nebbiolo1Linux (Ubuntu 24.04.1 LTS)x86_64R Under development (unstable) (2025-01-20 r87609) -- "Unsuffered Consequences" 4719
palomino7Windows Server 2022 Datacenterx64R Under development (unstable) (2025-01-21 r87610 ucrt) -- "Unsuffered Consequences" 4480
lconwaymacOS 12.7.1 Montereyx86_64R Under development (unstable) (2025-01-22 r87618) -- "Unsuffered Consequences" 4491
kjohnson3macOS 13.7.1 Venturaarm64R Under development (unstable) (2025-01-20 r87609) -- "Unsuffered Consequences" 4444
Click on any hostname to see more info about the system (e.g. compilers)      (*) as reported by 'uname -p', except on Windows and Mac OS X

Package 715/2295HostnameOS / ArchINSTALLBUILDCHECKBUILD BIN
FindIT2 1.13.0  (landing page)
Guandong Shang
Snapshot Date: 2025-02-05 13:48 -0500 (Wed, 05 Feb 2025)
git_url: https://git.bioconductor.org/packages/FindIT2
git_branch: devel
git_last_commit: 30235ec
git_last_commit_date: 2024-10-29 11:01:40 -0500 (Tue, 29 Oct 2024)
nebbiolo1Linux (Ubuntu 24.04.1 LTS) / x86_64  OK    OK    OK  UNNEEDED, same version is already published
palomino7Windows Server 2022 Datacenter / x64  OK    OK    OK    OK  UNNEEDED, same version is already published
lconwaymacOS 12.7.1 Monterey / x86_64  OK    OK    OK    OK  YES
kjohnson3macOS 13.7.1 Ventura / arm64  OK    OK    OK    OK  YES


CHECK results for FindIT2 on nebbiolo1

To the developers/maintainers of the FindIT2 package:
- Allow up to 24 hours (and sometimes 48 hours) for your latest push to git@git.bioconductor.org:packages/FindIT2.git to reflect on this report. See Troubleshooting Build Report for more information.
- Use the following Renviron settings to reproduce errors and warnings.
- If 'R CMD check' started to fail recently on the Linux builder(s) over a missing dependency, add the missing dependency to 'Suggests:' in your DESCRIPTION file. See Renviron.bioc for more information.

raw results


Summary

Package: FindIT2
Version: 1.13.0
Command: /home/biocbuild/bbs-3.21-bioc/R/bin/R CMD check --install=check:FindIT2.install-out.txt --library=/home/biocbuild/bbs-3.21-bioc/R/site-library --timings FindIT2_1.13.0.tar.gz
StartedAt: 2025-02-05 22:21:38 -0500 (Wed, 05 Feb 2025)
EndedAt: 2025-02-05 22:28:22 -0500 (Wed, 05 Feb 2025)
EllapsedTime: 403.7 seconds
RetCode: 0
Status:   OK  
CheckDir: FindIT2.Rcheck
Warnings: 0

Command output

##############################################################################
##############################################################################
###
### Running command:
###
###   /home/biocbuild/bbs-3.21-bioc/R/bin/R CMD check --install=check:FindIT2.install-out.txt --library=/home/biocbuild/bbs-3.21-bioc/R/site-library --timings FindIT2_1.13.0.tar.gz
###
##############################################################################
##############################################################################


* using log directory ‘/home/biocbuild/bbs-3.21-bioc/meat/FindIT2.Rcheck’
* using R Under development (unstable) (2025-01-20 r87609)
* using platform: x86_64-pc-linux-gnu
* R was compiled by
    gcc (Ubuntu 13.3.0-6ubuntu2~24.04) 13.3.0
    GNU Fortran (Ubuntu 13.3.0-6ubuntu2~24.04) 13.3.0
* running under: Ubuntu 24.04.1 LTS
* using session charset: UTF-8
* checking for file ‘FindIT2/DESCRIPTION’ ... OK
* this is package ‘FindIT2’ version ‘1.13.0’
* package encoding: UTF-8
* checking package namespace information ... OK
* checking package dependencies ... INFO
Imports includes 22 non-default packages.
Importing from so many packages makes the package vulnerable to any of
them becoming unavailable.  Move as many as possible to Suggests and
use conditionally.
* checking if this is a source package ... OK
* checking if there is a namespace ... OK
* checking for hidden files and directories ... OK
* checking for portable file names ... OK
* checking for sufficient/correct file permissions ... OK
* checking whether package ‘FindIT2’ can be installed ... OK
* checking installed package size ... OK
* checking package directory ... OK
* checking ‘build’ directory ... OK
* checking DESCRIPTION meta-information ... OK
* checking top-level files ... OK
* checking for left-over files ... OK
* checking index information ... OK
* checking package subdirectories ... OK
* checking code files for non-ASCII characters ... OK
* checking R files for syntax errors ... OK
* checking whether the package can be loaded ... OK
* checking whether the package can be loaded with stated dependencies ... OK
* checking whether the package can be unloaded cleanly ... OK
* checking whether the namespace can be loaded with stated dependencies ... OK
* checking whether the namespace can be unloaded cleanly ... OK
* checking loading without being on the library search path ... OK
* checking dependencies in R code ... OK
* checking S3 generic/method consistency ... OK
* checking replacement functions ... OK
* checking foreign function calls ... OK
* checking R code for possible problems ... OK
* checking Rd files ... OK
* checking Rd metadata ... OK
* checking Rd cross-references ... OK
* checking for missing documentation entries ... OK
* checking for code/documentation mismatches ... OK
* checking Rd \usage sections ... OK
* checking Rd contents ... OK
* checking for unstated dependencies in examples ... OK
* checking contents of ‘data’ directory ... OK
* checking data for non-ASCII characters ... OK
* checking data for ASCII and uncompressed saves ... OK
* checking files in ‘vignettes’ ... OK
* checking examples ... OK
Examples with CPU (user + system) or elapsed time > 5s
                 user system elapsed
findIT_regionRP 5.431   0.02   5.453
* checking for unstated dependencies in ‘tests’ ... OK
* checking tests ...
  Running ‘testthat.R’
 OK
* checking for unstated dependencies in vignettes ... OK
* checking package vignettes ... OK
* checking re-building of vignette outputs ... OK
* checking PDF version of manual ... OK
* DONE

Status: OK


Installation output

FindIT2.Rcheck/00install.out

##############################################################################
##############################################################################
###
### Running command:
###
###   /home/biocbuild/bbs-3.21-bioc/R/bin/R CMD INSTALL FindIT2
###
##############################################################################
##############################################################################


* installing to library ‘/home/biocbuild/bbs-3.21-bioc/R/site-library’
* installing *source* package ‘FindIT2’ ...
** this is package ‘FindIT2’ version ‘1.13.0’
** using staged installation
** R
** data
** inst
** byte-compile and prepare package for lazy loading
** help
*** installing help indices
** building package indices
** installing vignettes
** testing if installed package can be loaded from temporary location
** testing if installed package can be loaded from final location
** testing if installed package keeps a record of temporary installation path
* DONE (FindIT2)

Tests output

FindIT2.Rcheck/tests/testthat.Rout


R Under development (unstable) (2025-01-20 r87609) -- "Unsuffered Consequences"
Copyright (C) 2025 The R Foundation for Statistical Computing
Platform: x86_64-pc-linux-gnu

R is free software and comes with ABSOLUTELY NO WARRANTY.
You are welcome to redistribute it under certain conditions.
Type 'license()' or 'licence()' for distribution details.

R is a collaborative project with many contributors.
Type 'contributors()' for more information and
'citation()' on how to cite R or R packages in publications.

Type 'demo()' for some demos, 'help()' for on-line help, or
'help.start()' for an HTML browser interface to help.
Type 'q()' to quit R.

> library(testthat)
> library(FindIT2)
Loading required package: GenomicRanges
Loading required package: stats4
Loading required package: BiocGenerics
Loading required package: generics

Attaching package: 'generics'

The following objects are masked from 'package:base':

    as.difftime, as.factor, as.ordered, intersect, is.element, setdiff,
    setequal, union


Attaching package: 'BiocGenerics'

The following objects are masked from 'package:stats':

    IQR, mad, sd, var, xtabs

The following objects are masked from 'package:base':

    Filter, Find, Map, Position, Reduce, anyDuplicated, aperm, append,
    as.data.frame, basename, cbind, colnames, dirname, do.call,
    duplicated, eval, evalq, get, grep, grepl, is.unsorted, lapply,
    mapply, match, mget, order, paste, pmax, pmax.int, pmin, pmin.int,
    rank, rbind, rownames, sapply, saveRDS, table, tapply, unique,
    unsplit, which.max, which.min

Loading required package: S4Vectors

Attaching package: 'S4Vectors'

The following object is masked from 'package:utils':

    findMatches

The following objects are masked from 'package:base':

    I, expand.grid, unname

Loading required package: IRanges
Loading required package: GenomeInfoDb
> if (!requireNamespace("TxDb.Athaliana.BioMart.plantsmart28")) {
+     stop("unable to load TxDb.Athaliana.BioMart.plantsmart28")
+ }
Loading required namespace: TxDb.Athaliana.BioMart.plantsmart28
> 
> test_check("FindIT2")
>> preparing gene features information...		2025-02-05 22:26:33
>> some scan range may cross Chr bound, trimming...		2025-02-05 22:26:35
>> preparing weight info...		2025-02-05 22:26:35
>> loading E50h_sampleChr5.bw info...		2025-02-05 22:26:35
------------
>> extracting and calcluating Chr5 signal...		2025-02-05 22:26:35
>> dealing with Chr5 left gene signal...		2025-02-05 22:26:38
>> norming Chr5RP accoring to the whole Chr RP...		2025-02-05 22:26:38
>> merging all Chr RP together...		2025-02-05 22:26:38
>> done		2025-02-05 22:26:38
>> checking seqlevels match...		2025-02-05 22:26:38
>> your peak_GR seqlevel:Chr5...
>> your Txdb seqlevel:Chr1 Chr2 Chr3 Chr4 Chr5 ChrM ChrC...
Good, your Chrs in peak_GR is all in Txdb
------------
annotatePeak using geneScan mode begins
>> preparing gene features information and scan region...		2025-02-05 22:26:38
>> some scan range may cross Chr bound, trimming...		2025-02-05 22:26:39
>> finding overlap peak in gene scan region...		2025-02-05 22:26:39
>> dealing with left peak not your gene scan region...		2025-02-05 22:26:39
>> merging two set peaks...		2025-02-05 22:26:39
>> calculating distance and dealing with gene strand...		2025-02-05 22:26:39
>> merging all info together ...		2025-02-05 22:26:39
>> done		2025-02-05 22:26:39
>> calculating peakCenter to TSS using peak-gene pair...		2025-02-05 22:26:39
>> pre-filling 1356 noAssoc peak gene's RP with 0...		2025-02-05 22:26:40
>> calculating RP using centerToTSS and peak score2025-02-05 22:26:40
>> merging all info together		2025-02-05 22:26:42
>> done		2025-02-05 22:26:42
>> calculating peakCenter to TSS using peak-gene pair...		2025-02-05 22:26:42
>> pre-filling 1356 noAssoc peak gene's RP with 0...		2025-02-05 22:26:43
>> calculating RP using centerToTSS and peak score2025-02-05 22:26:43
>> merging all info together		2025-02-05 22:26:45
>> done		2025-02-05 22:26:46
>> checking seqlevels match...		2025-02-05 22:26:46
>> your peak_GR seqlevel:Chr5...
>> your Txdb seqlevel:Chr1 Chr2 Chr3 Chr4 Chr5 ChrM ChrC...
Good, your Chrs in peak_GR is all in Txdb
------------
annotatePeak using geneScan mode begins
>> preparing gene features information and scan region...		2025-02-05 22:26:46
>> some scan range may cross Chr bound, trimming...		2025-02-05 22:26:47
>> finding overlap peak in gene scan region...		2025-02-05 22:26:47
>> dealing with left peak not your gene scan region...		2025-02-05 22:26:47
>> merging two set peaks...		2025-02-05 22:26:47
>> calculating distance and dealing with gene strand...		2025-02-05 22:26:47
>> merging all info together ...		2025-02-05 22:26:47
>> done		2025-02-05 22:26:47
>> calculating peakCenter to TSS using peak-gene pair...		2025-02-05 22:26:47
>> calculating RP using centerToTSS and TF hit		2025-02-05 22:26:48
>> merging all info together		2025-02-05 22:26:48
>> done		2025-02-05 22:26:48
>> calculating peakCenter to TSS using peak-gene pair...		2025-02-05 22:26:48
>> calculating RP using centerToTSS and TF hit		2025-02-05 22:26:49
>> merging all info together		2025-02-05 22:26:49
>> done		2025-02-05 22:26:49
>> checking seqlevels match...		2025-02-05 22:26:49
>> your peak_GR seqlevel:Chr5...
>> your Txdb seqlevel:Chr1 Chr2 Chr3 Chr4 Chr5 ChrM ChrC...
Good, your Chrs in peak_GR is all in Txdb
------------
annotatePeak using geneScan mode begins
>> preparing gene features information and scan region...		2025-02-05 22:26:49
>> some scan range may cross Chr bound, trimming...		2025-02-05 22:26:50
>> finding overlap peak in gene scan region...		2025-02-05 22:26:50
>> dealing with left peak not your gene scan region...		2025-02-05 22:26:50
>> merging two set peaks...		2025-02-05 22:26:50
>> calculating distance and dealing with gene strand...		2025-02-05 22:26:50
>> merging all info together ...		2025-02-05 22:26:50
>> done		2025-02-05 22:26:50
>> calculating peakCenter to TSS using peak-gene pair...		2025-02-05 22:26:50
>> pre-filling 1356 noAssoc peak gene's RP with 0...		2025-02-05 22:26:51
>> calculating RP using centerToTSS and peak score2025-02-05 22:26:51
>> merging all info together		2025-02-05 22:26:54
>> done		2025-02-05 22:26:54
>> extracting RP info from regionRP...		2025-02-05 22:26:54
>> dealing with TF_GR_databse...		2025-02-05 22:26:55
>> calculating percent and p-value...		2025-02-05 22:26:55
>> dealing withE5_0h_R1...		2025-02-05 22:26:55
>> dealing withE5_0h_R2...		2025-02-05 22:26:55
>> dealing withE5_4h_R1...		2025-02-05 22:26:55
>> dealing withE5_4h_R2...		2025-02-05 22:26:55
>> dealing withE5_8h_R1...		2025-02-05 22:26:55
>> dealing withE5_8h_R2...		2025-02-05 22:26:55
>> dealing withE5_16h_R1...		2025-02-05 22:26:55
>> dealing withE5_16h_R2...		2025-02-05 22:26:55
>> dealing withE5_24h_R1...		2025-02-05 22:26:55
>> dealing withE5_24h_R2...		2025-02-05 22:26:55
>> dealing withE5_48h_R1...		2025-02-05 22:26:55
>> dealing withE5_48h_R2...		2025-02-05 22:26:55
>> dealing withE5_48h_R3...		2025-02-05 22:26:55
>> dealing withE5_72h_R1...		2025-02-05 22:26:55
>> dealing withE5_72h_R2...		2025-02-05 22:26:55
>> dealing withE5_72h_R3...		2025-02-05 22:26:55
>> merging all info together...		2025-02-05 22:26:55
>> done		2025-02-05 22:26:55
>> preparing gene features information...		2025-02-05 22:26:55
>> some scan range may cross Chr bound, trimming...		2025-02-05 22:26:56
>> calculating p-value for each TF, which may be time consuming...		2025-02-05 22:26:56
>> merging all info together...		2025-02-05 22:26:56
>> done		2025-02-05 22:26:56
>> dealing with TF_GR_database...		2025-02-05 22:26:56
>> calculating coef and converting into z-score using INT...		2025-02-05 22:26:56
>> dealing with E5_0h_R1...		2025-02-05 22:26:56
>> dealing with E5_0h_R2...		2025-02-05 22:26:57
>> dealing with E5_4h_R1...		2025-02-05 22:26:57
>> dealing with E5_4h_R2...		2025-02-05 22:26:57
>> dealing with E5_8h_R1...		2025-02-05 22:26:57
>> dealing with E5_8h_R2...		2025-02-05 22:26:57
>> dealing with E5_16h_R1...		2025-02-05 22:26:57
>> dealing with E5_16h_R2...		2025-02-05 22:26:57
>> dealing with E5_24h_R1...		2025-02-05 22:26:57
>> dealing with E5_24h_R2...		2025-02-05 22:26:57
>> dealing with E5_48h_R1...		2025-02-05 22:26:57
>> dealing with E5_48h_R2...		2025-02-05 22:26:57
>> dealing with E5_48h_R3...		2025-02-05 22:26:57
>> dealing with E5_72h_R1...		2025-02-05 22:26:57
>> dealing with E5_72h_R2...		2025-02-05 22:26:57
>> dealing with E5_72h_R3...		2025-02-05 22:26:57
>> merging all info together...		2025-02-05 22:26:57
>> done		2025-02-05 22:26:58
>> checking seqlevels match...		2025-02-05 22:26:58
>> your peak_GR seqlevel:Chr5...
>> your Txdb seqlevel:Chr1 Chr2 Chr3 Chr4 Chr5 ChrM ChrC...
Good, your Chrs in peak_GR is all in Txdb
------------
annotatePeak using geneScan mode begins
>> preparing gene features information and scan region...		2025-02-05 22:26:58
>> some scan range may cross Chr bound, trimming...		2025-02-05 22:26:58
>> finding overlap peak in gene scan region...		2025-02-05 22:26:58
>> dealing with left peak not your gene scan region...		2025-02-05 22:26:58
>> merging two set peaks...		2025-02-05 22:26:58
>> calculating distance and dealing with gene strand...		2025-02-05 22:26:59
>> merging all info together ...		2025-02-05 22:26:59
>> done		2025-02-05 22:26:59
>> calculating peakCenter to TSS using peak-gene pair...		2025-02-05 22:26:59
>> calculating RP using centerToTSS and TF hit		2025-02-05 22:26:59
>> merging all info together		2025-02-05 22:26:59
>> done		2025-02-05 22:26:59
>> checking seqlevels match...		2025-02-05 22:27:00
>> your peak_GR seqlevel:5...
>> your Txdb seqlevel:Chr1 Chr2 Chr3 Chr4 Chr5 ChrM ChrC...
>> checking seqlevels match...		2025-02-05 22:27:00
>> your peak_GR seqlevel:Chr5 Chr6...
>> your Txdb seqlevel:Chr1 Chr2 Chr3 Chr4 Chr5 ChrM ChrC...
>> checking seqlevels match...		2025-02-05 22:27:02
>> your peak_GR seqlevel:Chr5...
>> your Txdb seqlevel:Chr1 Chr2 Chr3 Chr4 Chr5 ChrM ChrC...
Good, your Chrs in peak_GR is all in Txdb
>> checking seqlevels match...		2025-02-05 22:27:02
>> your peak_GR seqlevel:Chr5...
>> your Txdb seqlevel:Chr1 Chr2 Chr3 Chr4 Chr5 ChrM ChrC...
Good, your Chrs in peak_GR is all in Txdb
------------
annotating Peak using nearest gene mode begins
>> preparing gene features information...		2025-02-05 22:27:02
>> finding nearest gene and calculating distance...		2025-02-05 22:27:03
>> dealing with gene strand ...		2025-02-05 22:27:03
>> merging all info together ...		2025-02-05 22:27:03
>> done		2025-02-05 22:27:03
>> checking seqlevels match...		2025-02-05 22:27:03
>> your peak_GR seqlevel:Chr5...
>> your Txdb seqlevel:Chr1 Chr2 Chr3 Chr4 Chr5 ChrM ChrC...
Good, your Chrs in peak_GR is all in Txdb
>> checking seqlevels match...		2025-02-05 22:27:03
>> your peak_GR seqlevel:Chr5...
>> your Txdb seqlevel:Chr1 Chr2 Chr3 Chr4 Chr5 ChrM ChrC...
Good, your Chrs in peak_GR is all in Txdb
------------
annotating Peak using nearest gene mode begins
>> preparing gene features information...		2025-02-05 22:27:03
>> finding nearest gene and calculating distance...		2025-02-05 22:27:04
>> dealing with gene strand ...		2025-02-05 22:27:04
>> merging all info together ...		2025-02-05 22:27:04
>> done		2025-02-05 22:27:04
>> checking seqlevels match...		2025-02-05 22:27:05
>> your peak_GR seqlevel:Chr5...
>> your Txdb seqlevel:Chr1 Chr2 Chr3 Chr4 Chr5 ChrM ChrC...
Good, your Chrs in peak_GR is all in Txdb
>> checking seqlevels match...		2025-02-05 22:27:05
>> your peak_GR seqlevel:Chr5...
>> your Txdb seqlevel:Chr1 Chr2 Chr3 Chr4 Chr5 ChrM ChrC...
Good, your Chrs in peak_GR is all in Txdb
------------
annotating Peak using nearest gene mode begins
>> preparing gene features information...		2025-02-05 22:27:05
>> finding nearest gene and calculating distance...		2025-02-05 22:27:05
>> dealing with gene strand ...		2025-02-05 22:27:05
>> merging all info together ...		2025-02-05 22:27:05
>> done		2025-02-05 22:27:05
>> checking seqlevels match...		2025-02-05 22:27:06
>> your peak_GR seqlevel:Chr5...
>> your Txdb seqlevel:Chr1 Chr2 Chr3 Chr4 Chr5 ChrM ChrC...
Good, your Chrs in peak_GR is all in Txdb
>> checking seqlevels match...		2025-02-05 22:27:06
>> your peak_GR seqlevel:Chr5...
>> your Txdb seqlevel:Chr1 Chr2 Chr3 Chr4 Chr5 ChrM ChrC...
Good, your Chrs in peak_GR is all in Txdb
------------
annotating Peak using nearest gene mode begins
>> preparing gene features information...		2025-02-05 22:27:06
>> finding nearest gene and calculating distance...		2025-02-05 22:27:07
>> dealing with gene strand ...		2025-02-05 22:27:07
>> merging all info together ...		2025-02-05 22:27:07
>> done		2025-02-05 22:27:07
It seems that there 1 genes have not been annotated by nearestGene mode
>> checking seqlevels match...		2025-02-05 22:27:08
>> your peak_GR seqlevel:Chr5...
>> your Txdb seqlevel:Chr1 Chr2 Chr3 Chr4 Chr5 ChrM ChrC...
Good, your Chrs in peak_GR is all in Txdb
>> checking seqlevels match...		2025-02-05 22:27:08
>> your peak_GR seqlevel:Chr5...
>> your Txdb seqlevel:Chr1 Chr2 Chr3 Chr4 Chr5 ChrM ChrC...
Good, your Chrs in peak_GR is all in Txdb
------------
annotating Peak using nearest gene mode begins
>> preparing gene features information...		2025-02-05 22:27:08
>> finding nearest gene and calculating distance...		2025-02-05 22:27:08
>> dealing with gene strand ...		2025-02-05 22:27:08
>> merging all info together ...		2025-02-05 22:27:08
>> done		2025-02-05 22:27:08
It seems that there 1 genes have not been annotated by nearestGene mode
>> checking seqlevels match...		2025-02-05 22:27:09
>> your peak_GR seqlevel:Chr5...
>> your Txdb seqlevel:Chr1 Chr2 Chr3 Chr4 Chr5 ChrM ChrC...
Good, your Chrs in peak_GR is all in Txdb
>> checking seqlevels match...		2025-02-05 22:27:10
>> your peak_GR seqlevel:Chr5...
>> your Txdb seqlevel:Chr1 Chr2 Chr3 Chr4 Chr5 ChrM ChrC...
Good, your Chrs in peak_GR is all in Txdb
>> some scan range may cross Chr bound, trimming...		2025-02-05 22:27:11
>> checking seqlevels match...		2025-02-05 22:27:11
>> your peak_GR seqlevel:Chr5...
>> your Txdb seqlevel:Chr1 Chr2 Chr3 Chr4 Chr5 ChrM ChrC...
Good, your Chrs in peak_GR is all in Txdb
>> some scan range may cross Chr bound, trimming...		2025-02-05 22:27:12
Good, your two matrix colnames matchs
>> calculating cor and pvalue, which may be time consuming...		2025-02-05 22:27:13
>> merging all info together...		2025-02-05 22:27:13
>> done		2025-02-05 22:27:13
>> checking seqlevels match...		2025-02-05 22:27:13
>> your peak_GR seqlevel:Chr5...
>> your Txdb seqlevel:Chr1 Chr2 Chr3 Chr4 Chr5 ChrM ChrC...
Good, your Chrs in peak_GR is all in Txdb
>> using scanPromoter parameter to scan promoter for each gene...		2025-02-05 22:27:13
>> checking seqlevels match...		2025-02-05 22:27:13
>> your peak_GR seqlevel:Chr5...
>> your Txdb seqlevel:Chr1 Chr2 Chr3 Chr4 Chr5 ChrM ChrC...
Good, your Chrs in peak_GR is all in Txdb
>> some scan range may cross Chr bound, trimming...		2025-02-05 22:27:14
>> there are 85 gene have scaned promoter
>> using scanEnhancer parameter to scan Enhancer for each gene...		2025-02-05 22:27:14
>> checking seqlevels match...		2025-02-05 22:27:14
>> your peak_GR seqlevel:Chr5...
>> your Txdb seqlevel:Chr1 Chr2 Chr3 Chr4 Chr5 ChrM ChrC...
Good, your Chrs in peak_GR is all in Txdb
>> some scan range may cross Chr bound, trimming...		2025-02-05 22:27:16
>> calculating cor and pvalue, which may be time consuming...		2025-02-05 22:27:16
>> merging all info together...		2025-02-05 22:27:16
>> done		2025-02-05 22:27:16
Good, your two matrix colnames matchs
>> calculating cor and pvalue, which may be time consuming...		2025-02-05 22:27:16
>> merging all info together...		2025-02-05 22:27:16
>> done		2025-02-05 22:27:16
>> checking seqlevels match...		2025-02-05 22:27:17
>> your peak_GR seqlevel:Chr5...
>> your Txdb seqlevel:Chr1 Chr2 Chr3 Chr4 Chr5 ChrM ChrC...
Good, your Chrs in peak_GR is all in Txdb
------------
annotatePeak using geneScan mode begins
>> preparing gene features information and scan region...		2025-02-05 22:27:17
>> some scan range may cross Chr bound, trimming...		2025-02-05 22:27:17
>> finding overlap peak in gene scan region...		2025-02-05 22:27:17
>> dealing with left peak not your gene scan region...		2025-02-05 22:27:17
>> merging two set peaks...		2025-02-05 22:27:17
>> calculating distance and dealing with gene strand...		2025-02-05 22:27:17
>> merging all info together ...		2025-02-05 22:27:17
>> done		2025-02-05 22:27:17
Good, your two matrix colnames matchs
>> calculating cor and pvalue, which may be time consuming...		2025-02-05 22:27:18
>> merging all info together...		2025-02-05 22:27:18
>> done		2025-02-05 22:27:18
>> checking seqlevels match...		2025-02-05 22:27:18
>> your peak_GR seqlevel:Chr5...
>> your Txdb seqlevel:Chr1 Chr2 Chr3 Chr4 Chr5 ChrM ChrC...
Good, your Chrs in peak_GR is all in Txdb
>> using scanPromoter parameter to scan promoter for each gene...		2025-02-05 22:27:18
>> checking seqlevels match...		2025-02-05 22:27:18
>> your peak_GR seqlevel:Chr5...
>> your Txdb seqlevel:Chr1 Chr2 Chr3 Chr4 Chr5 ChrM ChrC...
Good, your Chrs in peak_GR is all in Txdb
>> some scan range may cross Chr bound, trimming...		2025-02-05 22:27:19
>> there are 85 gene have scaned promoter
>> using scanEnhancer parameter to scan Enhancer for each gene...		2025-02-05 22:27:19
>> checking seqlevels match...		2025-02-05 22:27:19
>> your peak_GR seqlevel:Chr5...
>> your Txdb seqlevel:Chr1 Chr2 Chr3 Chr4 Chr5 ChrM ChrC...
Good, your Chrs in peak_GR is all in Txdb
>> some scan range may cross Chr bound, trimming...		2025-02-05 22:27:20
>> calculating cor and pvalue, which may be time consuming...		2025-02-05 22:27:20
>> merging all info together...		2025-02-05 22:27:20
>> done		2025-02-05 22:27:20
Joining with `by = join_by(feature_id)`
Joining with `by = join_by(feature_id)`
`geom_smooth()` using formula = 'y ~ x'
Joining with `by = join_by(feature_id)`
Joining with `by = join_by(feature_id)`
`geom_smooth()` using formula = 'y ~ x'
[ FAIL 0 | WARN 0 | SKIP 0 | PASS 65 ]
> 
> proc.time()
   user  system elapsed 
 57.402   1.914  59.324 

Example timings

FindIT2.Rcheck/FindIT2-Ex.timings

nameusersystemelapsed
TF_target_database000
calcRP_TFHit3.2430.1763.434
calcRP_coverage3.1620.2793.442
calcRP_region4.2260.0434.272
enhancerPromoterCor2.3930.0322.426
findIT_MARA0.4070.0040.412
findIT_TFHit0.8030.0040.806
findIT_TTPair0.0660.0010.066
findIT_enrichFisher0.1470.0110.159
findIT_enrichWilcox0.1580.0020.161
findIT_regionRP5.4310.0205.453
getAssocPairNumber1.0100.0071.017
integrate_ChIP_RNA1.8150.0151.831
integrate_replicates0.0010.0020.002
jaccard_findIT_TTpair0.0900.0000.089
jaccard_findIT_enrichFisher0.1810.0010.182
loadPeakFile0.0520.0010.054
mm_geneBound1.0700.0091.080
mm_geneScan1.0520.0251.078
mm_nearestGene0.9760.0080.984
peakGeneCor2.1050.0092.115
plot_annoDistance1.3200.0241.344
plot_peakGeneAlias_summary1.2010.0061.207
plot_peakGeneCor2.6890.0132.703
test_geneSet0.0000.0010.000