Back to Multiple platform build/check report for BioC 3.21:   simplified   long
ABCDE[F]GHIJKLMNOPQRSTUVWXYZ

This page was generated on 2025-02-06 11:39 -0500 (Thu, 06 Feb 2025).

HostnameOSArch (*)R versionInstalled pkgs
nebbiolo1Linux (Ubuntu 24.04.1 LTS)x86_64R Under development (unstable) (2025-01-20 r87609) -- "Unsuffered Consequences" 4719
palomino7Windows Server 2022 Datacenterx64R Under development (unstable) (2025-01-21 r87610 ucrt) -- "Unsuffered Consequences" 4480
lconwaymacOS 12.7.1 Montereyx86_64R Under development (unstable) (2025-01-22 r87618) -- "Unsuffered Consequences" 4491
kjohnson3macOS 13.7.1 Venturaarm64R Under development (unstable) (2025-01-20 r87609) -- "Unsuffered Consequences" 4444
Click on any hostname to see more info about the system (e.g. compilers)      (*) as reported by 'uname -p', except on Windows and Mac OS X

Package 741/2295HostnameOS / ArchINSTALLBUILDCHECKBUILD BIN
FlowSOM 2.15.0  (landing page)
Sofie Van Gassen
Snapshot Date: 2025-02-05 13:48 -0500 (Wed, 05 Feb 2025)
git_url: https://git.bioconductor.org/packages/FlowSOM
git_branch: devel
git_last_commit: b617807
git_last_commit_date: 2024-10-29 09:57:26 -0500 (Tue, 29 Oct 2024)
nebbiolo1Linux (Ubuntu 24.04.1 LTS) / x86_64  OK    OK    OK  UNNEEDED, same version is already published
palomino7Windows Server 2022 Datacenter / x64  OK    OK    OK    OK  UNNEEDED, same version is already published
lconwaymacOS 12.7.1 Monterey / x86_64  OK    OK    OK    OK  UNNEEDED, same version is already published
kjohnson3macOS 13.7.1 Ventura / arm64  OK    OK    OK    OK  UNNEEDED, same version is already published


CHECK results for FlowSOM on nebbiolo1

To the developers/maintainers of the FlowSOM package:
- Allow up to 24 hours (and sometimes 48 hours) for your latest push to git@git.bioconductor.org:packages/FlowSOM.git to reflect on this report. See Troubleshooting Build Report for more information.
- Use the following Renviron settings to reproduce errors and warnings.
- If 'R CMD check' started to fail recently on the Linux builder(s) over a missing dependency, add the missing dependency to 'Suggests:' in your DESCRIPTION file. See Renviron.bioc for more information.

raw results


Summary

Package: FlowSOM
Version: 2.15.0
Command: /home/biocbuild/bbs-3.21-bioc/R/bin/R CMD check --install=check:FlowSOM.install-out.txt --library=/home/biocbuild/bbs-3.21-bioc/R/site-library --timings FlowSOM_2.15.0.tar.gz
StartedAt: 2025-02-05 22:26:13 -0500 (Wed, 05 Feb 2025)
EndedAt: 2025-02-05 22:35:32 -0500 (Wed, 05 Feb 2025)
EllapsedTime: 558.8 seconds
RetCode: 0
Status:   OK  
CheckDir: FlowSOM.Rcheck
Warnings: 0

Command output

##############################################################################
##############################################################################
###
### Running command:
###
###   /home/biocbuild/bbs-3.21-bioc/R/bin/R CMD check --install=check:FlowSOM.install-out.txt --library=/home/biocbuild/bbs-3.21-bioc/R/site-library --timings FlowSOM_2.15.0.tar.gz
###
##############################################################################
##############################################################################


* using log directory ‘/home/biocbuild/bbs-3.21-bioc/meat/FlowSOM.Rcheck’
* using R Under development (unstable) (2025-01-20 r87609)
* using platform: x86_64-pc-linux-gnu
* R was compiled by
    gcc (Ubuntu 13.3.0-6ubuntu2~24.04) 13.3.0
    GNU Fortran (Ubuntu 13.3.0-6ubuntu2~24.04) 13.3.0
* running under: Ubuntu 24.04.1 LTS
* using session charset: UTF-8
* checking for file ‘FlowSOM/DESCRIPTION’ ... OK
* this is package ‘FlowSOM’ version ‘2.15.0’
* package encoding: UTF-8
* checking package namespace information ... OK
* checking package dependencies ... OK
* checking if this is a source package ... OK
* checking if there is a namespace ... OK
* checking for hidden files and directories ... OK
* checking for portable file names ... OK
* checking for sufficient/correct file permissions ... OK
* checking whether package ‘FlowSOM’ can be installed ... OK
* used C compiler: ‘gcc (Ubuntu 13.3.0-6ubuntu2~24.04) 13.3.0’
* checking installed package size ... OK
* checking package directory ... OK
* checking ‘build’ directory ... OK
* checking DESCRIPTION meta-information ... OK
* checking top-level files ... OK
* checking for left-over files ... OK
* checking index information ... OK
* checking package subdirectories ... OK
* checking code files for non-ASCII characters ... OK
* checking R files for syntax errors ... OK
* checking whether the package can be loaded ... OK
* checking whether the package can be loaded with stated dependencies ... OK
* checking whether the package can be unloaded cleanly ... OK
* checking whether the namespace can be loaded with stated dependencies ... OK
* checking whether the namespace can be unloaded cleanly ... OK
* checking loading without being on the library search path ... OK
* checking whether startup messages can be suppressed ... OK
* checking dependencies in R code ... OK
* checking S3 generic/method consistency ... OK
* checking replacement functions ... OK
* checking foreign function calls ... OK
* checking R code for possible problems ... OK
* checking Rd files ... NOTE
checkRd: (-1) PlotDimRed.Rd:55: Lost braces
    55 | of the dimred default = function(dimred){dimred$Y}.}
       |                                         ^
* checking Rd metadata ... OK
* checking Rd cross-references ... OK
* checking for missing documentation entries ... OK
* checking for code/documentation mismatches ... OK
* checking Rd \usage sections ... OK
* checking Rd contents ... OK
* checking for unstated dependencies in examples ... OK
* checking line endings in C/C++/Fortran sources/headers ... OK
* checking compiled code ... NOTE
Note: information on .o files is not available
* checking files in ‘vignettes’ ... OK
* checking examples ... OK
Examples with CPU (user + system) or elapsed time > 5s
                     user system elapsed
FlowSOMmary        47.723  0.374  47.947
PlotDimRed         43.631  0.232  43.827
PlotOutliers       17.494  0.053  17.548
PlotMarker         16.045  0.047  16.093
UpdateMetaclusters 14.971  0.067  15.038
PlotStars          13.732  0.038  13.771
GroupStats         11.548  0.070  11.618
FlowSOM            11.006  0.178  11.186
PlotGroups         10.066  0.031  10.098
AddAnnotation       8.197  0.260   8.459
QueryMultiple       8.366  0.019   8.386
query_multiple      8.111  0.012   8.125
PlotManualBars      8.032  0.014   8.048
Plot2DScatters      7.183  0.029   7.201
GetFlowJoLabels     6.711  0.097   6.810
QueryStarPlot       6.668  0.009   6.677
PlotNode            6.622  0.016   6.639
PlotNumbers         6.493  0.056   6.550
PlotPies            6.494  0.025   6.519
PlotVariable        6.256  0.014   6.270
CountGroups         5.526  0.066   5.592
UpdateNodeSize      5.499  0.018   5.517
SaveClustersToFCS   5.461  0.016   5.479
GetFeatures         5.399  0.019   5.421
PlotFlowSOM         5.081  0.040   5.125
* checking for unstated dependencies in vignettes ... OK
* checking package vignettes ... OK
* checking re-building of vignette outputs ... OK
* checking PDF version of manual ... OK
* DONE

Status: 2 NOTEs
See
  ‘/home/biocbuild/bbs-3.21-bioc/meat/FlowSOM.Rcheck/00check.log’
for details.


Installation output

FlowSOM.Rcheck/00install.out

##############################################################################
##############################################################################
###
### Running command:
###
###   /home/biocbuild/bbs-3.21-bioc/R/bin/R CMD INSTALL FlowSOM
###
##############################################################################
##############################################################################


* installing to library ‘/home/biocbuild/bbs-3.21-bioc/R/site-library’
* installing *source* package ‘FlowSOM’ ...
** this is package ‘FlowSOM’ version ‘2.15.0’
** using staged installation
** libs
using C compiler: ‘gcc (Ubuntu 13.3.0-6ubuntu2~24.04) 13.3.0’
gcc -I"/home/biocbuild/bbs-3.21-bioc/R/include" -DNDEBUG   -I/usr/local/include    -fpic  -g -O2  -c som.c -o som.o
gcc -shared -L/home/biocbuild/bbs-3.21-bioc/R/lib -L/usr/local/lib -o FlowSOM.so som.o -L/home/biocbuild/bbs-3.21-bioc/R/lib -lR
installing to /home/biocbuild/bbs-3.21-bioc/R/site-library/00LOCK-FlowSOM/00new/FlowSOM/libs
** R
** inst
** byte-compile and prepare package for lazy loading
** help
*** installing help indices
** building package indices
** installing vignettes
** testing if installed package can be loaded from temporary location
** checking absolute paths in shared objects and dynamic libraries
** testing if installed package can be loaded from final location
** testing if installed package keeps a record of temporary installation path
* DONE (FlowSOM)

Tests output


Example timings

FlowSOM.Rcheck/FlowSOM-Ex.timings

nameusersystemelapsed
AddAnnotation8.1970.2608.459
AggregateFlowFrames0.0710.0060.077
BuildMST1.1250.0041.129
BuildSOM1.1220.0591.182
CountGroups5.5260.0665.592
FMeasure0.0020.0000.002
FlowSOM11.006 0.17811.186
FlowSOMSubset4.0090.0434.053
FlowSOMmary47.723 0.37447.947
GetChannels0.0270.0010.028
GetClusterMFIs3.8010.0913.892
GetClusterPercentagesPositive4.0110.0644.076
GetClusters3.8880.0523.940
GetCounts4.0370.0154.051
GetFeatures5.3990.0195.421
GetFlowJoLabels6.7110.0976.810
GetMFIs4.1840.0204.204
GetMarkers0.0290.0000.028
GetMetaclusterCVs4.4470.0124.460
GetMetaclusterMFIs4.3550.0154.371
GetMetaclusterPercentagesPositive4.1000.0124.113
GetMetaclusters4.0850.0654.151
GetPercentages4.2580.0724.329
GroupStats11.548 0.07011.618
Initialize_KWSP0.0040.0000.004
Initialize_PCA0.0010.0000.001
MetaClustering3.2040.0733.280
MetaclusterCVs4.6610.0244.685
MetaclusterMFIs4.6670.0284.696
NClusters4.7180.0244.742
NMetaclusters4.6790.0174.696
NewData3.4230.0093.431
Plot2DScatters7.1830.0297.201
PlotCenters1.0010.0311.031
PlotClusters2D1.3050.0261.331
PlotDimRed43.631 0.23243.827
PlotFileScatters0.7090.0190.728
PlotFlowSOM5.0810.0405.125
PlotGroups10.066 0.03110.098
PlotLabels4.9320.0174.949
PlotManualBars8.0320.0148.048
PlotMarker16.045 0.04716.093
PlotNode6.6220.0166.639
PlotNumbers6.4930.0566.550
PlotOutliers17.494 0.05317.548
PlotOverview2D4.7540.0094.763
PlotPies6.4940.0256.519
PlotSD2.0150.0052.022
PlotStars13.732 0.03813.771
PlotVariable6.2560.0146.270
Purity0.0020.0000.002
QueryMultiple8.3660.0198.386
QueryStarPlot6.6680.0096.677
ReadInput2.9950.0283.023
SaveClustersToFCS5.4610.0165.479
TestOutliers4.7760.0264.802
UpdateMetaclusters14.971 0.06715.038
UpdateNodeSize5.4990.0185.517
get_channels0.0270.0030.030
get_markers0.0300.0010.031
metaClustering_consensus2.4310.0112.442
plotStarLegend0.3950.0010.396
print.FlowSOM4.6890.0384.727
query_multiple8.1110.0128.125