Back to Multiple platform build/check report for BioC 3.21:   simplified   long
ABCDEF[G]HIJKLMNOPQRSTUVWXYZ

This page was generated on 2025-02-10 11:40 -0500 (Mon, 10 Feb 2025).

HostnameOSArch (*)R versionInstalled pkgs
nebbiolo1Linux (Ubuntu 24.04.1 LTS)x86_64R Under development (unstable) (2025-01-20 r87609) -- "Unsuffered Consequences" 4719
palomino7Windows Server 2022 Datacenterx64R Under development (unstable) (2025-01-21 r87610 ucrt) -- "Unsuffered Consequences" 4480
lconwaymacOS 12.7.1 Montereyx86_64R Under development (unstable) (2025-01-22 r87618) -- "Unsuffered Consequences" 4491
kjohnson3macOS 13.7.1 Venturaarm64R Under development (unstable) (2025-01-20 r87609) -- "Unsuffered Consequences" 4444
Click on any hostname to see more info about the system (e.g. compilers)      (*) as reported by 'uname -p', except on Windows and Mac OS X

Package 770/2295HostnameOS / ArchINSTALLBUILDCHECKBUILD BIN
GBScleanR 2.1.3  (landing page)
Tomoyuki Furuta
Snapshot Date: 2025-02-09 13:40 -0500 (Sun, 09 Feb 2025)
git_url: https://git.bioconductor.org/packages/GBScleanR
git_branch: devel
git_last_commit: dd9f583
git_last_commit_date: 2025-02-05 02:31:24 -0500 (Wed, 05 Feb 2025)
nebbiolo1Linux (Ubuntu 24.04.1 LTS) / x86_64  OK    OK    OK  UNNEEDED, same version is already published
palomino7Windows Server 2022 Datacenter / x64  OK    OK    OK    OK  UNNEEDED, same version is already published
lconwaymacOS 12.7.1 Monterey / x86_64  OK    OK    OK    OK  UNNEEDED, same version is already published
kjohnson3macOS 13.7.1 Ventura / arm64  OK    OK    OK    OK  UNNEEDED, same version is already published


CHECK results for GBScleanR on nebbiolo1

To the developers/maintainers of the GBScleanR package:
- Allow up to 24 hours (and sometimes 48 hours) for your latest push to git@git.bioconductor.org:packages/GBScleanR.git to reflect on this report. See Troubleshooting Build Report for more information.
- Use the following Renviron settings to reproduce errors and warnings.
- If 'R CMD check' started to fail recently on the Linux builder(s) over a missing dependency, add the missing dependency to 'Suggests:' in your DESCRIPTION file. See Renviron.bioc for more information.

raw results


Summary

Package: GBScleanR
Version: 2.1.3
Command: /home/biocbuild/bbs-3.21-bioc/R/bin/R CMD check --install=check:GBScleanR.install-out.txt --library=/home/biocbuild/bbs-3.21-bioc/R/site-library --timings GBScleanR_2.1.3.tar.gz
StartedAt: 2025-02-09 22:26:56 -0500 (Sun, 09 Feb 2025)
EndedAt: 2025-02-09 22:30:32 -0500 (Sun, 09 Feb 2025)
EllapsedTime: 216.2 seconds
RetCode: 0
Status:   OK  
CheckDir: GBScleanR.Rcheck
Warnings: 0

Command output

##############################################################################
##############################################################################
###
### Running command:
###
###   /home/biocbuild/bbs-3.21-bioc/R/bin/R CMD check --install=check:GBScleanR.install-out.txt --library=/home/biocbuild/bbs-3.21-bioc/R/site-library --timings GBScleanR_2.1.3.tar.gz
###
##############################################################################
##############################################################################


* using log directory ‘/home/biocbuild/bbs-3.21-bioc/meat/GBScleanR.Rcheck’
* using R Under development (unstable) (2025-01-20 r87609)
* using platform: x86_64-pc-linux-gnu
* R was compiled by
    gcc (Ubuntu 13.3.0-6ubuntu2~24.04) 13.3.0
    GNU Fortran (Ubuntu 13.3.0-6ubuntu2~24.04) 13.3.0
* running under: Ubuntu 24.04.1 LTS
* using session charset: UTF-8
* checking for file ‘GBScleanR/DESCRIPTION’ ... OK
* checking extension type ... Package
* this is package ‘GBScleanR’ version ‘2.1.3’
* package encoding: UTF-8
* checking package namespace information ... OK
* checking package dependencies ... OK
* checking if this is a source package ... OK
* checking if there is a namespace ... OK
* checking for hidden files and directories ... OK
* checking for portable file names ... OK
* checking for sufficient/correct file permissions ... OK
* checking whether package ‘GBScleanR’ can be installed ... OK
* used C++ compiler: ‘g++ (Ubuntu 13.3.0-6ubuntu2~24.04) 13.3.0’
* checking C++ specification ... NOTE
  Specified C++11: please drop specification unless essential
* checking installed package size ... OK
* checking package directory ... OK
* checking ‘build’ directory ... OK
* checking DESCRIPTION meta-information ... OK
* checking top-level files ... OK
* checking for left-over files ... OK
* checking index information ... OK
* checking package subdirectories ... OK
* checking code files for non-ASCII characters ... OK
* checking R files for syntax errors ... OK
* checking whether the package can be loaded ... OK
* checking whether the package can be loaded with stated dependencies ... OK
* checking whether the package can be unloaded cleanly ... OK
* checking whether the namespace can be loaded with stated dependencies ... OK
* checking whether the namespace can be unloaded cleanly ... OK
* checking loading without being on the library search path ... OK
* checking dependencies in R code ... OK
* checking S3 generic/method consistency ... OK
* checking replacement functions ... OK
* checking foreign function calls ... OK
* checking R code for possible problems ... OK
* checking Rd files ... OK
* checking Rd metadata ... OK
* checking Rd cross-references ... NOTE
Found the following Rd file(s) with Rd \link{} targets missing package
anchors:
  GbsrGenotypeData-class.Rd: SeqArray
  loadGDS.Rd: SeqArray
Please provide package anchors for all Rd \link{} targets not in the
package itself and the base packages.
* checking for missing documentation entries ... OK
* checking for code/documentation mismatches ... OK
* checking Rd \usage sections ... OK
* checking Rd contents ... OK
* checking for unstated dependencies in examples ... OK
* checking line endings in C/C++/Fortran sources/headers ... OK
* checking line endings in Makefiles ... OK
* checking compilation flags in Makevars ... OK
* checking for GNU extensions in Makefiles ... INFO
GNU make is a SystemRequirements.
* checking for portable use of $(BLAS_LIBS) and $(LAPACK_LIBS) ... OK
* checking use of PKG_*FLAGS in Makefiles ... OK
* checking compiled code ... NOTE
Note: information on .o files is not available
File ‘/home/biocbuild/bbs-3.21-bioc/R/site-library/GBScleanR/libs/GBScleanR.so’:
  Found ‘_ZSt4cout’, possibly from ‘std::cout’ (C++)

Compiled code should not call entry points which might terminate R nor
write to stdout/stderr instead of to the console, nor use Fortran I/O
nor system RNGs nor [v]sprintf. The detected symbols are linked into
the code but might come from libraries and not actually be called.

See ‘Writing portable packages’ in the ‘Writing R Extensions’ manual.
* checking files in ‘vignettes’ ... OK
* checking examples ... OK
* checking for unstated dependencies in ‘tests’ ... OK
* checking tests ...
  Running ‘testthat.R’
 OK
* checking for unstated dependencies in vignettes ... OK
* checking package vignettes ... OK
* checking re-building of vignette outputs ... OK
* checking PDF version of manual ... OK
* DONE

Status: 3 NOTEs
See
  ‘/home/biocbuild/bbs-3.21-bioc/meat/GBScleanR.Rcheck/00check.log’
for details.


Installation output

GBScleanR.Rcheck/00install.out

##############################################################################
##############################################################################
###
### Running command:
###
###   /home/biocbuild/bbs-3.21-bioc/R/bin/R CMD INSTALL GBScleanR
###
##############################################################################
##############################################################################


* installing to library ‘/home/biocbuild/bbs-3.21-bioc/R/site-library’
* installing *source* package ‘GBScleanR’ ...
** this is package ‘GBScleanR’ version ‘2.1.3’
** using staged installation
** libs
using C++ compiler: ‘g++ (Ubuntu 13.3.0-6ubuntu2~24.04) 13.3.0’
using C++11
g++ -std=gnu++11 -I"/home/biocbuild/bbs-3.21-bioc/R/include" -DNDEBUG  -I'/home/biocbuild/bbs-3.21-bioc/R/site-library/Rcpp/include' -I'/home/biocbuild/bbs-3.21-bioc/R/site-library/RcppParallel/include' -I/usr/local/include    -fpic  -g -O2  -DR_NO_REMAP -c RcppExports.cpp -o RcppExports.o
g++ -std=gnu++11 -I"/home/biocbuild/bbs-3.21-bioc/R/include" -DNDEBUG  -I'/home/biocbuild/bbs-3.21-bioc/R/site-library/Rcpp/include' -I'/home/biocbuild/bbs-3.21-bioc/R/site-library/RcppParallel/include' -I/usr/local/include    -fpic  -g -O2  -DR_NO_REMAP -c gbsrCalcProb.cpp -o gbsrCalcProb.o
g++ -std=gnu++11 -I"/home/biocbuild/bbs-3.21-bioc/R/include" -DNDEBUG  -I'/home/biocbuild/bbs-3.21-bioc/R/site-library/Rcpp/include' -I'/home/biocbuild/bbs-3.21-bioc/R/site-library/RcppParallel/include' -I/usr/local/include    -fpic  -g -O2  -DR_NO_REMAP -c gbsrFB.cpp -o gbsrFB.o
g++ -std=gnu++11 -I"/home/biocbuild/bbs-3.21-bioc/R/include" -DNDEBUG  -I'/home/biocbuild/bbs-3.21-bioc/R/site-library/Rcpp/include' -I'/home/biocbuild/bbs-3.21-bioc/R/site-library/RcppParallel/include' -I/usr/local/include    -fpic  -g -O2  -DR_NO_REMAP -c gbsrIPO.cpp -o gbsrIPO.o
g++ -std=gnu++11 -I"/home/biocbuild/bbs-3.21-bioc/R/include" -DNDEBUG  -I'/home/biocbuild/bbs-3.21-bioc/R/site-library/Rcpp/include' -I'/home/biocbuild/bbs-3.21-bioc/R/site-library/RcppParallel/include' -I/usr/local/include    -fpic  -g -O2  -DR_NO_REMAP -c gbsrStats.cpp -o gbsrStats.o
g++ -std=gnu++11 -I"/home/biocbuild/bbs-3.21-bioc/R/include" -DNDEBUG  -I'/home/biocbuild/bbs-3.21-bioc/R/site-library/Rcpp/include' -I'/home/biocbuild/bbs-3.21-bioc/R/site-library/RcppParallel/include' -I/usr/local/include    -fpic  -g -O2  -DR_NO_REMAP -c gbsrViterbi.cpp -o gbsrViterbi.o
g++ -std=gnu++11 -I"/home/biocbuild/bbs-3.21-bioc/R/include" -DNDEBUG  -I'/home/biocbuild/bbs-3.21-bioc/R/site-library/Rcpp/include' -I'/home/biocbuild/bbs-3.21-bioc/R/site-library/RcppParallel/include' -I/usr/local/include    -fpic  -g -O2  -DR_NO_REMAP -c gbsrutil.cpp -o gbsrutil.o
g++ -std=gnu++11 -shared -L/home/biocbuild/bbs-3.21-bioc/R/lib -L/usr/local/lib -o GBScleanR.so RcppExports.o gbsrCalcProb.o gbsrFB.o gbsrIPO.o gbsrStats.o gbsrViterbi.o gbsrutil.o -L/home/biocbuild/bbs-3.21-bioc/R/lib -lR
installing to /home/biocbuild/bbs-3.21-bioc/R/site-library/00LOCK-GBScleanR/00new/GBScleanR/libs
** R
** inst
** byte-compile and prepare package for lazy loading
** help
*** installing help indices
** building package indices
** installing vignettes
** testing if installed package can be loaded from temporary location
** checking absolute paths in shared objects and dynamic libraries
** testing if installed package can be loaded from final location
** testing if installed package keeps a record of temporary installation path
* DONE (GBScleanR)

Tests output

GBScleanR.Rcheck/tests/testthat.Rout


R Under development (unstable) (2025-01-20 r87609) -- "Unsuffered Consequences"
Copyright (C) 2025 The R Foundation for Statistical Computing
Platform: x86_64-pc-linux-gnu

R is free software and comes with ABSOLUTELY NO WARRANTY.
You are welcome to redistribute it under certain conditions.
Type 'license()' or 'licence()' for distribution details.

R is a collaborative project with many contributors.
Type 'contributors()' for more information and
'citation()' on how to cite R or R packages in publications.

Type 'demo()' for some demos, 'help()' for on-line help, or
'help.start()' for an HTML browser interface to help.
Type 'q()' to quit R.

> library(testthat)
> library(GBScleanR)
Loading required package: SeqArray
Loading required package: gdsfmt
> 
> test_check("GBScleanR")
Loading GDS file.
Working on 'genotype' ...
Working on 'phase' ...
Working on 'annotation/format/AD' ...
Clean up the fragments of GDS file:
    open the file '/tmp/RtmpehLBkA/sample2f20c922620754.gds' (95.5K)
    # of fragments: 69
    save to '/tmp/RtmpehLBkA/sample2f20c922620754.gds.tmp'
    rename '/tmp/RtmpehLBkA/sample2f20c922620754.gds.tmp' (95.4K, reduced: 108B)
    # of fragments: 60
The connection to the GDS file was closed.
Loading GDS file.
The connection to the GDS file was closed.
Loading GDS file.
The connection to the GDS file was closed.
Loading GDS file.
The connection to the GDS file was closed.
Loading GDS file.
The connection to the GDS file was closed.
Loading GDS file.
The connection to the GDS file was closed.
Loading GDS file.
The connection to the GDS file was closed.
Loading GDS file.
The connection to the GDS file was closed.
Loading GDS file.
The connection to the GDS file was closed.
Loading GDS file.
The connection to the GDS file was closed.
Loading GDS file.
Working on 'genotype' ...
Working on 'phase' ...
Working on 'annotation/format/AD' ...
Clean up the fragments of GDS file:
    open the file '/tmp/RtmpehLBkA/sample2f20c9a16b936.gds' (95.5K)
    # of fragments: 69
    save to '/tmp/RtmpehLBkA/sample2f20c9a16b936.gds.tmp'
    rename '/tmp/RtmpehLBkA/sample2f20c9a16b936.gds.tmp' (95.4K, reduced: 108B)
    # of fragments: 60
The connection to the GDS file was closed.
Loading GDS file.
The connection to the GDS file was closed.
Loading GDS file.
Overwrite the previous parents information.
The connection to the GDS file was closed.
Loading GDS file.
Overwrite the previous parents information.
Overwrite the previous parents information.
The connection to the GDS file was closed.
Loading GDS file.
Overwrite the previous parents information.
Overwrite the previous parents information.
The connection to the GDS file was closed.
Loading GDS file.
Overwrite the previous parents information.
The connection to the GDS file was closed.
Loading GDS file.
Working on 'genotype' ...
Working on 'phase' ...
Working on 'annotation/format/AD' ...
Clean up the fragments of GDS file:
    open the file '/tmp/RtmpehLBkA/sample2f20c9745892ab.gds' (95.5K)
    # of fragments: 69
    save to '/tmp/RtmpehLBkA/sample2f20c9745892ab.gds.tmp'
    rename '/tmp/RtmpehLBkA/sample2f20c9745892ab.gds.tmp' (95.4K, reduced: 108B)
    # of fragments: 60
The connection to the GDS file was closed.
Loading GDS file.
The connection to the GDS file was closed.
Loading GDS file.
The connection to the GDS file was closed.
Loading GDS file.
The connection to the GDS file was closed.
Loading GDS file.
The connection to the GDS file was closed.
Loading GDS file.
The connection to the GDS file was closed.
Loading GDS file.
The connection to the GDS file was closed.
Loading GDS file.
The connection to the GDS file was closed.
Loading GDS file.
The connection to the GDS file was closed.
Sun Feb  9 22:29:30 2025
Variant Call Format (VCF) Import:
    file:
        sample.vcf (210.3K)
    file format: VCFv4.2
    genome reference: <unknown>
    # of sets of chromosomes (ploidy): 2
    # of samples: 102
    genotype field: GT
    genotype storage: bit2
    compression method: customized
    # of samples: 102
    INFO:
    FORMAT: AD
Output:
    /tmp/RtmpehLBkA/sample2f20c9342ea638.gds
    [Progress Info: sample2f20c9342ea638.gds.progress]
Parsing 'sample.vcf':
+ genotype/data   { Bit2 2x102x242 ZIP_ra, 16B }
Digests:
    sample.id  [md5: 338086c89cac9760256e9d1ec0a77327]
    variant.id  [md5: 6f6b771cc6816e18766cd7b202765193]
    position  [md5: f3033fec247b8ec6980e81005e257bd8]
    chromosome  [md5: 891ee7d299e1dba9146b8ae33476741c]
    allele  [md5: 9fc3f097ae98a7ebff52fac77379926e]
    genotype  [md5: b83af5eb9818d83c2ccaa40d494f15a8]
    phase  [md5: 9d686e01959b61df5fdc1a4684bd72b3]
    annotation/id  [md5: 021994c12424cab1e907740e364c7c24]
    annotation/qual  [md5: 5a566f4332739a2b28d23b215163b70a]
    annotation/filter  [md5: cb74cdb22966d99a9290a2c804a10580]
    annotation/format/AD  [md5: f8b130e5e4e497ee162cf32b15b0ac3a]
Done.
Sun Feb  9 22:29:30 2025
Optimize the access efficiency ...
Clean up the fragments of GDS file:
    open the file '/tmp/RtmpehLBkA/sample2f20c9342ea638.gds' (53.4K)
    # of fragments: 108
    save to '/tmp/RtmpehLBkA/sample2f20c9342ea638.gds.tmp'
    rename '/tmp/RtmpehLBkA/sample2f20c9342ea638.gds.tmp' (52.8K, reduced: 648B)
    # of fragments: 54
Sun Feb  9 22:29:30 2025
Loading GDS file.
Working on 'genotype' ...
Working on 'phase' ...
Working on 'annotation/format/AD' ...
Clean up the fragments of GDS file:
    open the file '/tmp/RtmpehLBkA/sample2f20c9342ea638.gds' (95.5K)
    # of fragments: 69
    save to '/tmp/RtmpehLBkA/sample2f20c9342ea638.gds.tmp'
    rename '/tmp/RtmpehLBkA/sample2f20c9342ea638.gds.tmp' (95.4K, reduced: 108B)
    # of fragments: 60
The connection to the GDS file was closed.
Loading GDS file.
The connection to the GDS file was closed.
Loading GDS file.
The connection to the GDS file was closed.
Loading GDS file.
Working on 'genotype' ...
Working on 'phase' ...
Working on 'annotation/format/AD' ...
Clean up the fragments of GDS file:
    open the file '/tmp/RtmpehLBkA/sample2f20c94692656d.gds' (95.5K)
    # of fragments: 69
    save to '/tmp/RtmpehLBkA/sample2f20c94692656d.gds.tmp'
    rename '/tmp/RtmpehLBkA/sample2f20c94692656d.gds.tmp' (95.4K, reduced: 108B)
    # of fragments: 60
The connection to the GDS file was closed.
Loading GDS file.
The connection to the GDS file was closed.
Loading GDS file.
The connection to the GDS file was closed.
Loading GDS file.
The connection to the GDS file was closed.
Loading GDS file.
Reformatting FGT
The connection to the GDS file was closed.
Loading GDS file.
Reformatting FGT
The connection to the GDS file was closed.
Sun Feb  9 22:29:41 2025
Variant Call Format (VCF) Import:
    file:
        sample.vcf (210.3K)
    file format: VCFv4.2
    genome reference: <unknown>
    # of sets of chromosomes (ploidy): 2
    # of samples: 102
    genotype field: GT
    genotype storage: bit2
    compression method: customized
    # of samples: 102
    INFO:
    FORMAT: AD
Output:
    /tmp/RtmpehLBkA/sample2f20c93950d6f9.gds
    [Progress Info: sample2f20c93950d6f9.gds.progress]
Parsing 'sample.vcf':
+ genotype/data   { Bit2 2x102x242 ZIP_ra, 16B }
Digests:
    sample.id  [md5: 338086c89cac9760256e9d1ec0a77327]
    variant.id  [md5: 6f6b771cc6816e18766cd7b202765193]
    position  [md5: f3033fec247b8ec6980e81005e257bd8]
    chromosome  [md5: 891ee7d299e1dba9146b8ae33476741c]
    allele  [md5: 9fc3f097ae98a7ebff52fac77379926e]
    genotype  [md5: b83af5eb9818d83c2ccaa40d494f15a8]
    phase  [md5: 9d686e01959b61df5fdc1a4684bd72b3]
    annotation/id  [md5: 021994c12424cab1e907740e364c7c24]
    annotation/qual  [md5: 5a566f4332739a2b28d23b215163b70a]
    annotation/filter  [md5: cb74cdb22966d99a9290a2c804a10580]
    annotation/format/AD  [md5: f8b130e5e4e497ee162cf32b15b0ac3a]
Done.
Sun Feb  9 22:29:41 2025
Optimize the access efficiency ...
Clean up the fragments of GDS file:
    open the file '/tmp/RtmpehLBkA/sample2f20c93950d6f9.gds' (53.4K)
    # of fragments: 108
    save to '/tmp/RtmpehLBkA/sample2f20c93950d6f9.gds.tmp'
    rename '/tmp/RtmpehLBkA/sample2f20c93950d6f9.gds.tmp' (52.8K, reduced: 648B)
    # of fragments: 54
Sun Feb  9 22:29:41 2025
Loading GDS file.
Working on 'genotype' ...
Working on 'phase' ...
Working on 'annotation/format/AD' ...
Clean up the fragments of GDS file:
    open the file '/tmp/RtmpehLBkA/sample2f20c93950d6f9.gds' (95.5K)
    # of fragments: 69
    save to '/tmp/RtmpehLBkA/sample2f20c93950d6f9.gds.tmp'
    rename '/tmp/RtmpehLBkA/sample2f20c93950d6f9.gds.tmp' (95.4K, reduced: 108B)
    # of fragments: 60
No parents info.
Sun Feb  9 22:29:41 2025
Variant Call Format (VCF) Import:
    file:
        out2f20c91778ae95.vcf (47.3K)
    file format: VCFv4.2
    genome reference: <unknown>
    # of sets of chromosomes (ploidy): 2
    # of samples: 47
    genotype field: GT
    genotype storage: bit2
    compression method: customized
    # of samples: 47
    INFO:
    FORMAT: AD
Output:
    /tmp/RtmpehLBkA/newgds2f20c95be4d964.gds
    [Progress Info: newgds2f20c95be4d964.gds.progress]
Parsing 'out2f20c91778ae95.vcf':
+ genotype/data   { Bit2 2x47x111 ZIP_ra, 16B }
Digests:
    sample.id  [md5: 7301db1036386d3b13a5cc0598f500f3]
    variant.id  [md5: f79e1f5f4a7c10bdf6a96a00ec11d7c8]
    position  [md5: e18a8e0a89684c69855540dc06e8c388]
    chromosome  [md5: 4368e2d3a310a4a1c3122543ac540cd2]
    allele  [md5: 1b6a23c3f8d1901925dc4643eadc3a05]
    genotype  [md5: f84ec93ed671a7c3927c7d77f7a2277c]
    phase  [md5: b377f8f30530b9cf828ed8190e4f8884]
    annotation/id  [md5: d741aa76b2d35c1eea62fe7b234b530d]
    annotation/qual  [md5: 1cd8807aa016bd1f4ad2054dfe2aefcb]
    annotation/filter  [md5: 1bb91b7dcd738cc3c1cf4e5936ebf788]
    annotation/format/AD  [md5: 055c2cb63cbfe3453632a5834502e6d7]
Done.
Sun Feb  9 22:29:41 2025
Optimize the access efficiency ...
Clean up the fragments of GDS file:
    open the file '/tmp/RtmpehLBkA/newgds2f20c95be4d964.gds' (18.0K)
    # of fragments: 107
    save to '/tmp/RtmpehLBkA/newgds2f20c95be4d964.gds.tmp'
    rename '/tmp/RtmpehLBkA/newgds2f20c95be4d964.gds.tmp' (17.3K, reduced: 636B)
    # of fragments: 54
Sun Feb  9 22:29:41 2025
Loading GDS file.
Working on 'genotype' ...
Working on 'phase' ...
Working on 'annotation/format/AD' ...
Clean up the fragments of GDS file:
    open the file '/tmp/RtmpehLBkA/newgds2f20c95be4d964.gds' (27.1K)
    # of fragments: 69
    save to '/tmp/RtmpehLBkA/newgds2f20c95be4d964.gds.tmp'
    rename '/tmp/RtmpehLBkA/newgds2f20c95be4d964.gds.tmp' (27.0K, reduced: 108B)
    # of fragments: 60
No parents info.
Sun Feb  9 22:29:42 2025
Variant Call Format (VCF) Import:
    file:
        out2f20c930c97a17.vcf (89.3K)
    file format: VCFv4.2
    genome reference: <unknown>
    # of sets of chromosomes (ploidy): 2
    # of samples: 47
    genotype field: GT
    genotype storage: bit2
    compression method: customized
    # of samples: 47
    INFO:
    FORMAT: AD,FAD,FGT
Output:
    /tmp/RtmpehLBkA/newgds2f20c968d25213.gds
    [Progress Info: newgds2f20c968d25213.gds.progress]
Parsing 'out2f20c930c97a17.vcf':
+ genotype/data   { Bit2 2x47x111 ZIP_ra, 16B }
Digests:
    sample.id  [md5: 7301db1036386d3b13a5cc0598f500f3]
    variant.id  [md5: f79e1f5f4a7c10bdf6a96a00ec11d7c8]
    position  [md5: e18a8e0a89684c69855540dc06e8c388]
    chromosome  [md5: 4368e2d3a310a4a1c3122543ac540cd2]
    allele  [md5: 1b6a23c3f8d1901925dc4643eadc3a05]
    genotype  [md5: f84ec93ed671a7c3927c7d77f7a2277c]
    phase  [md5: b377f8f30530b9cf828ed8190e4f8884]
    annotation/id  [md5: d741aa76b2d35c1eea62fe7b234b530d]
    annotation/qual  [md5: 1cd8807aa016bd1f4ad2054dfe2aefcb]
    annotation/filter  [md5: 1bb91b7dcd738cc3c1cf4e5936ebf788]
    annotation/format/AD  [md5: 055c2cb63cbfe3453632a5834502e6d7]
    annotation/format/FAD  [md5: 44012bf87b8a42c094fc91db5f61c637]
    annotation/format/FGT  [md5: facbe4222c81c88a56abb9a1fa200823]
Done.
Sun Feb  9 22:29:42 2025
Optimize the access efficiency ...
Clean up the fragments of GDS file:
    open the file '/tmp/RtmpehLBkA/newgds2f20c968d25213.gds' (25.7K)
    # of fragments: 129
    save to '/tmp/RtmpehLBkA/newgds2f20c968d25213.gds.tmp'
    rename '/tmp/RtmpehLBkA/newgds2f20c968d25213.gds.tmp' (25.0K, reduced: 780B)
    # of fragments: 64
Sun Feb  9 22:29:42 2025
Loading GDS file.
Reformatting FGT
Working on 'genotype' ...
Working on 'phase' ...
Working on 'annotation/format/AD' ...
Working on 'annotation/format/FAD' ...
Working on 'annotation/format/FGT' ...
Clean up the fragments of GDS file:
    open the file '/tmp/RtmpehLBkA/newgds2f20c968d25213.gds' (43.0K)
    # of fragments: 86
    save to '/tmp/RtmpehLBkA/newgds2f20c968d25213.gds.tmp'
    rename '/tmp/RtmpehLBkA/newgds2f20c968d25213.gds.tmp' (41.9K, reduced: 1.1K)
    # of fragments: 74
The connection to the GDS file was closed.
The connection to the GDS file was closed.
Loading GDS file.
Working on 'genotype' ...
Working on 'phase' ...
Working on 'annotation/format/AD' ...
Clean up the fragments of GDS file:
    open the file '/tmp/RtmpehLBkA/sample2f20c932ba9732.gds' (95.5K)
    # of fragments: 69
    save to '/tmp/RtmpehLBkA/sample2f20c932ba9732.gds.tmp'
    rename '/tmp/RtmpehLBkA/sample2f20c932ba9732.gds.tmp' (95.4K, reduced: 108B)
    # of fragments: 60
As `mating` was not specified, set the following mating design.
     [,1]
[1,]    3
[2,]    3
Member IDs were not assigned to samples.
Assign 4 to all samples as member ID.
Set the number of threads: 1
Start cleaning...
Preparing genotype and haplotype pattern table...
Possible allele dosages: 0 1 2
Number of possible founder genotypes: 2
Member ID(s) to be processed: 4
Number of offspring haplotypes: 4

Now cleaning chr 1...

Cycle 1: 

Forward round of genotype estimation ...

Founder genotype probability calculation ...                                                                      
Founder genotype probability calculation at marker#: 10                                                                      
Founder genotype probability calculation at marker#: 20                                                                      
Founder genotype probability calculation at marker#: 30                                                                      
Founder genotype probability calculation at marker#: 40                                                                      
Founder genotype probability calculation at marker#: 50                                                                      
Founder genotype probability calculation at marker#: 60                                                                      
Founder genotype probability calculation at marker#: 70                                                                      
Founder genotype probability calculation at marker#: 80                                                                      
Founder genotype probability calculation at marker#: 90                                                                      
Founder genotype probability calculation at marker#: 100                                                                      
Founder genotype probability calculation at marker#: 110                                                                      
Founder genotype probability calculation at marker#: 120                                                                      
Founder genotype probability calculation at marker#: 130                                                                      
Founder genotype probability calculation at marker#: 140                                                                      
Founder genotype probability calculation at marker#: 150                                                                      
Founder genotype probability calculation at marker#: 160                                                                      
Founder genotype probability calculation at marker#: 170                                                                      
Founder genotype probability calculation at marker#: 180                                                                      
Founder genotype probability calculation at marker#: 190                                                                      
Founder genotype probability calculation at marker#: 200                                                                      
Founder genotype probability calculation at marker#: 210                                                                      
Founder genotype probability calculation at marker#: 220                                                                      
Founder genotype probability calculation at marker#: 230                                                                      
Founder genotype probability calculation at marker#: 240                                                                      
Backtracking best genotype sequences at marker#: 240                                                                      
Backtracking best genotype sequences at marker#: 230                                                                      
Backtracking best genotype sequences at marker#: 220                                                                      
Backtracking best genotype sequences at marker#: 210                                                                      
Backtracking best genotype sequences at marker#: 200                                                                      
Backtracking best genotype sequences at marker#: 190                                                                      
Backtracking best genotype sequences at marker#: 180                                                                      
Backtracking best genotype sequences at marker#: 170                                                                      
Backtracking best genotype sequences at marker#: 160                                                                      
Backtracking best genotype sequences at marker#: 150                                                                      
Backtracking best genotype sequences at marker#: 140                                                                      
Backtracking best genotype sequences at marker#: 130                                                                      
Backtracking best genotype sequences at marker#: 120                                                                      
Backtracking best genotype sequences at marker#: 110                                                                      
Backtracking best genotype sequences at marker#: 100                                                                      
Backtracking best genotype sequences at marker#: 90                                                                      
Backtracking best genotype sequences at marker#: 80                                                                      
Backtracking best genotype sequences at marker#: 70                                                                      
Backtracking best genotype sequences at marker#: 60                                                                      
Backtracking best genotype sequences at marker#: 50                                                                      
Backtracking best genotype sequences at marker#: 40                                                                      
Backtracking best genotype sequences at marker#: 30                                                                      
Backtracking best genotype sequences at marker#: 20                                                                      
Backtracking best genotype sequences at marker#: 10                                                                      
Backtracking best genotype sequences: Done!                                                                      
Offspring genotype probability calculation ...                                                                      
                                                                      
Backward round of genotype estimation  ...

Founder genotype probability calculation ...                                                                      
Founder genotype probability calculation at marker#: 10                                                                      
Founder genotype probability calculation at marker#: 20                                                                      
Founder genotype probability calculation at marker#: 30                                                                      
Founder genotype probability calculation at marker#: 40                                                                      
Founder genotype probability calculation at marker#: 50                                                                      
Founder genotype probability calculation at marker#: 60                                                                      
Founder genotype probability calculation at marker#: 70                                                                      
Founder genotype probability calculation at marker#: 80                                                                      
Founder genotype probability calculation at marker#: 90                                                                      
Founder genotype probability calculation at marker#: 100                                                                      
Founder genotype probability calculation at marker#: 110                                                                      
Founder genotype probability calculation at marker#: 120                                                                      
Founder genotype probability calculation at marker#: 130                                                                      
Founder genotype probability calculation at marker#: 140                                                                      
Founder genotype probability calculation at marker#: 150                                                                      
Founder genotype probability calculation at marker#: 160                                                                      
Founder genotype probability calculation at marker#: 170                                                                      
Founder genotype probability calculation at marker#: 180                                                                      
Founder genotype probability calculation at marker#: 190                                                                      
Founder genotype probability calculation at marker#: 200                                                                      
Founder genotype probability calculation at marker#: 210                                                                      
Founder genotype probability calculation at marker#: 220                                                                      
Founder genotype probability calculation at marker#: 230                                                                      
Founder genotype probability calculation at marker#: 240                                                                      
Backtracking best genotype sequences at marker#: 240                                                                      
Backtracking best genotype sequences at marker#: 230                                                                      
Backtracking best genotype sequences at marker#: 220                                                                      
Backtracking best genotype sequences at marker#: 210                                                                      
Backtracking best genotype sequences at marker#: 200                                                                      
Backtracking best genotype sequences at marker#: 190                                                                      
Backtracking best genotype sequences at marker#: 180                                                                      
Backtracking best genotype sequences at marker#: 170                                                                      
Backtracking best genotype sequences at marker#: 160                                                                      
Backtracking best genotype sequences at marker#: 150                                                                      
Backtracking best genotype sequences at marker#: 140                                                                      
Backtracking best genotype sequences at marker#: 130                                                                      
Backtracking best genotype sequences at marker#: 120                                                                      
Backtracking best genotype sequences at marker#: 110                                                                      
Backtracking best genotype sequences at marker#: 100                                                                      
Backtracking best genotype sequences at marker#: 90                                                                      
Backtracking best genotype sequences at marker#: 80                                                                      
Backtracking best genotype sequences at marker#: 70                                                                      
Backtracking best genotype sequences at marker#: 60                                                                      
Backtracking best genotype sequences at marker#: 50                                                                      
Backtracking best genotype sequences at marker#: 40                                                                      
Backtracking best genotype sequences at marker#: 30                                                                      
Backtracking best genotype sequences at marker#: 20                                                                      
Backtracking best genotype sequences at marker#: 10                                                                      
Backtracking best genotype sequences: Done!                                                                      
Offspring genotype probability calculation ...                                                                      
                                                                      
Paramter optimization ...

Cycle 2: 

Forward round of genotype estimation ...

Founder genotype probability calculation ...                                                                      
Founder genotype probability calculation at marker#: 10                                                                      
Founder genotype probability calculation at marker#: 20                                                                      
Founder genotype probability calculation at marker#: 30                                                                      
Founder genotype probability calculation at marker#: 40                                                                      
Founder genotype probability calculation at marker#: 50                                                                      
Founder genotype probability calculation at marker#: 60                                                                      
Founder genotype probability calculation at marker#: 70                                                                      
Founder genotype probability calculation at marker#: 80                                                                      
Founder genotype probability calculation at marker#: 90                                                                      
Founder genotype probability calculation at marker#: 100                                                                      
Founder genotype probability calculation at marker#: 110                                                                      
Founder genotype probability calculation at marker#: 120                                                                      
Founder genotype probability calculation at marker#: 130                                                                      
Founder genotype probability calculation at marker#: 140                                                                      
Founder genotype probability calculation at marker#: 150                                                                      
Founder genotype probability calculation at marker#: 160                                                                      
Founder genotype probability calculation at marker#: 170                                                                      
Founder genotype probability calculation at marker#: 180                                                                      
Founder genotype probability calculation at marker#: 190                                                                      
Founder genotype probability calculation at marker#: 200                                                                      
Founder genotype probability calculation at marker#: 210                                                                      
Founder genotype probability calculation at marker#: 220                                                                      
Founder genotype probability calculation at marker#: 230                                                                      
Founder genotype probability calculation at marker#: 240                                                                      
Backtracking best genotype sequences at marker#: 240                                                                      
Backtracking best genotype sequences at marker#: 230                                                                      
Backtracking best genotype sequences at marker#: 220                                                                      
Backtracking best genotype sequences at marker#: 210                                                                      
Backtracking best genotype sequences at marker#: 200                                                                      
Backtracking best genotype sequences at marker#: 190                                                                      
Backtracking best genotype sequences at marker#: 180                                                                      
Backtracking best genotype sequences at marker#: 170                                                                      
Backtracking best genotype sequences at marker#: 160                                                                      
Backtracking best genotype sequences at marker#: 150                                                                      
Backtracking best genotype sequences at marker#: 140                                                                      
Backtracking best genotype sequences at marker#: 130                                                                      
Backtracking best genotype sequences at marker#: 120                                                                      
Backtracking best genotype sequences at marker#: 110                                                                      
Backtracking best genotype sequences at marker#: 100                                                                      
Backtracking best genotype sequences at marker#: 90                                                                      
Backtracking best genotype sequences at marker#: 80                                                                      
Backtracking best genotype sequences at marker#: 70                                                                      
Backtracking best genotype sequences at marker#: 60                                                                      
Backtracking best genotype sequences at marker#: 50                                                                      
Backtracking best genotype sequences at marker#: 40                                                                      
Backtracking best genotype sequences at marker#: 30                                                                      
Backtracking best genotype sequences at marker#: 20                                                                      
Backtracking best genotype sequences at marker#: 10                                                                      
Backtracking best genotype sequences: Done!                                                                      
Offspring genotype probability calculation ...                                                                      
                                                                      
Backward round of genotype estimation  ...

Founder genotype probability calculation ...                                                                      
Founder genotype probability calculation at marker#: 10                                                                      
Founder genotype probability calculation at marker#: 20                                                                      
Founder genotype probability calculation at marker#: 30                                                                      
Founder genotype probability calculation at marker#: 40                                                                      
Founder genotype probability calculation at marker#: 50                                                                      
Founder genotype probability calculation at marker#: 60                                                                      
Founder genotype probability calculation at marker#: 70                                                                      
Founder genotype probability calculation at marker#: 80                                                                      
Founder genotype probability calculation at marker#: 90                                                                      
Founder genotype probability calculation at marker#: 100                                                                      
Founder genotype probability calculation at marker#: 110                                                                      
Founder genotype probability calculation at marker#: 120                                                                      
Founder genotype probability calculation at marker#: 130                                                                      
Founder genotype probability calculation at marker#: 140                                                                      
Founder genotype probability calculation at marker#: 150                                                                      
Founder genotype probability calculation at marker#: 160                                                                      
Founder genotype probability calculation at marker#: 170                                                                      
Founder genotype probability calculation at marker#: 180                                                                      
Founder genotype probability calculation at marker#: 190                                                                      
Founder genotype probability calculation at marker#: 200                                                                      
Founder genotype probability calculation at marker#: 210                                                                      
Founder genotype probability calculation at marker#: 220                                                                      
Founder genotype probability calculation at marker#: 230                                                                      
Founder genotype probability calculation at marker#: 240                                                                      
Backtracking best genotype sequences at marker#: 240                                                                      
Backtracking best genotype sequences at marker#: 230                                                                      
Backtracking best genotype sequences at marker#: 220                                                                      
Backtracking best genotype sequences at marker#: 210                                                                      
Backtracking best genotype sequences at marker#: 200                                                                      
Backtracking best genotype sequences at marker#: 190                                                                      
Backtracking best genotype sequences at marker#: 180                                                                      
Backtracking best genotype sequences at marker#: 170                                                                      
Backtracking best genotype sequences at marker#: 160                                                                      
Backtracking best genotype sequences at marker#: 150                                                                      
Backtracking best genotype sequences at marker#: 140                                                                      
Backtracking best genotype sequences at marker#: 130                                                                      
Backtracking best genotype sequences at marker#: 120                                                                      
Backtracking best genotype sequences at marker#: 110                                                                      
Backtracking best genotype sequences at marker#: 100                                                                      
Backtracking best genotype sequences at marker#: 90                                                                      
Backtracking best genotype sequences at marker#: 80                                                                      
Backtracking best genotype sequences at marker#: 70                                                                      
Backtracking best genotype sequences at marker#: 60                                                                      
Backtracking best genotype sequences at marker#: 50                                                                      
Backtracking best genotype sequences at marker#: 40                                                                      
Backtracking best genotype sequences at marker#: 30                                                                      
Backtracking best genotype sequences at marker#: 20                                                                      
Backtracking best genotype sequences at marker#: 10                                                                      
Backtracking best genotype sequences: Done!                                                                      
Offspring genotype probability calculation ...                                                                      
                                                                      
Summarizing output ...

Done!
The connection to the GDS file was closed.
[ FAIL 0 | WARN 0 | SKIP 0 | PASS 271 ]
> 
> proc.time()
   user  system elapsed 
 29.032   0.982  30.006 

Example timings

GBScleanR.Rcheck/GBScleanR-Ex.timings

nameusersystemelapsed
GbsrGenotypeData-class0.0060.0070.014
GbsrScheme-class0.0090.0030.011
addScheme0.0060.0030.009
assignScheme0.0710.0190.090
boxplotGBSR0.8090.0160.827
closeGDS0.0030.0030.006
countGenotype0.7010.0460.747
countRead0.7240.0420.767
estGeno1.7820.0471.832
gbsrGDS2CSV0.0160.0010.017
gbsrGDS2VCF0.0040.0010.005
gbsrVCF2GDS0.0770.0090.087
getAllele0.0060.0010.007
getChromosome0.0040.0030.007
getCountAlleleAlt0.4700.0650.535
getCountAlleleMissing0.5090.0030.512
getCountAlleleRef0.4160.0030.419
getCountGenoAlt0.4070.0020.409
getCountGenoHet0.4330.0050.438
getCountGenoMissing0.4910.0020.494
getCountGenoRef0.4530.0460.499
getCountRead0.4360.0050.441
getCountReadAlt0.4520.0030.455
getCountReadRef0.4910.0030.494
getFixedBias0.0670.0090.076
getGenotype0.0330.0010.034
getHaplotype2.3800.0782.462
getInfo0.0050.0010.006
getMAC0.4880.0030.491
getMAF0.4860.0030.490
getMarID0.0030.0040.008
getMeanReadAlt0.4910.0540.545
getMeanReadRef0.4910.0020.492
getMedianReadAlt0.4720.0030.476
getMedianReadRef0.4440.0030.447
getParents0.0080.0010.009
getPosition0.0050.0020.007
getRead0.0070.0010.008
getReplicates0.0050.0030.008
getSDReadAlt0.4800.0020.483
getSDReadRef0.4710.0040.476
getSamID0.0060.0010.007
histGBSR0.7180.0050.725
initScheme0.0070.0020.009
isOpenGDS0.0040.0030.007
loadGDS0.0710.0080.079
makeScheme0.0080.0020.009
nmar0.0050.0000.005
nsam0.0030.0020.006
pairsGBSR0.6190.0030.623
plotDosage0.2260.0050.231
plotGBSR0.6920.0000.693
plotReadRatio0.1980.0160.213
reopenGDS0.0090.0030.012
resetCallFilter0.5520.0840.636
resetFilter1.6360.0111.648
resetMarFilter0.9220.0610.982
resetSamFilter1.0460.0071.055
setCallFilter1.1330.0171.150
setFixedBias0.0680.0050.072
setInfoFilter0.0050.0010.006
setMarFilter0.8640.0030.867
setParents1.7830.0201.803
setReplicates0.0060.0010.007
setSamFilter0.9680.0040.972
showScheme0.0080.0010.008
thinMarker0.5380.0020.539
validMar0.0050.0030.007
validSam0.0040.0020.006