Back to Multiple platform build/check report for BioC 3.21:   simplified   long
ABCDEF[G]HIJKLMNOPQRSTUVWXYZ

This page was generated on 2025-02-04 11:41 -0500 (Tue, 04 Feb 2025).

HostnameOSArch (*)R versionInstalled pkgs
nebbiolo1Linux (Ubuntu 24.04.1 LTS)x86_64R Under development (unstable) (2025-01-20 r87609) -- "Unsuffered Consequences" 4716
palomino7Windows Server 2022 Datacenterx64R Under development (unstable) (2025-01-21 r87610 ucrt) -- "Unsuffered Consequences" 4478
lconwaymacOS 12.7.1 Montereyx86_64R Under development (unstable) (2025-01-22 r87618) -- "Unsuffered Consequences" 4489
kjohnson3macOS 13.7.1 Venturaarm64R Under development (unstable) (2025-01-20 r87609) -- "Unsuffered Consequences" 4442
Click on any hostname to see more info about the system (e.g. compilers)      (*) as reported by 'uname -p', except on Windows and Mac OS X

Package 790/2295HostnameOS / ArchINSTALLBUILDCHECKBUILD BIN
GeneBreak 1.37.0  (landing page)
Evert van den Broek
Snapshot Date: 2025-02-03 13:40 -0500 (Mon, 03 Feb 2025)
git_url: https://git.bioconductor.org/packages/GeneBreak
git_branch: devel
git_last_commit: 3793a7c
git_last_commit_date: 2024-10-29 10:04:34 -0500 (Tue, 29 Oct 2024)
nebbiolo1Linux (Ubuntu 24.04.1 LTS) / x86_64  OK    OK    OK  UNNEEDED, same version is already published
palomino7Windows Server 2022 Datacenter / x64  OK    OK    OK    OK  UNNEEDED, same version is already published
lconwaymacOS 12.7.1 Monterey / x86_64  OK    OK    OK    OK  UNNEEDED, same version is already published
kjohnson3macOS 13.7.1 Ventura / arm64  OK    OK    OK    OK  UNNEEDED, same version is already published


CHECK results for GeneBreak on palomino7

To the developers/maintainers of the GeneBreak package:
- Allow up to 24 hours (and sometimes 48 hours) for your latest push to git@git.bioconductor.org:packages/GeneBreak.git to reflect on this report. See Troubleshooting Build Report for more information.
- Use the following Renviron settings to reproduce errors and warnings.
- If 'R CMD check' started to fail recently on the Linux builder(s) over a missing dependency, add the missing dependency to 'Suggests:' in your DESCRIPTION file. See Renviron.bioc for more information.

raw results


Summary

Package: GeneBreak
Version: 1.37.0
Command: E:\biocbuild\bbs-3.21-bioc\R\bin\R.exe CMD check --no-multiarch --install=check:GeneBreak.install-out.txt --library=E:\biocbuild\bbs-3.21-bioc\R\library --no-vignettes --timings GeneBreak_1.37.0.tar.gz
StartedAt: 2025-02-04 01:48:39 -0500 (Tue, 04 Feb 2025)
EndedAt: 2025-02-04 01:51:55 -0500 (Tue, 04 Feb 2025)
EllapsedTime: 196.3 seconds
RetCode: 0
Status:   OK  
CheckDir: GeneBreak.Rcheck
Warnings: 0

Command output

##############################################################################
##############################################################################
###
### Running command:
###
###   E:\biocbuild\bbs-3.21-bioc\R\bin\R.exe CMD check --no-multiarch --install=check:GeneBreak.install-out.txt --library=E:\biocbuild\bbs-3.21-bioc\R\library --no-vignettes --timings GeneBreak_1.37.0.tar.gz
###
##############################################################################
##############################################################################


* using log directory 'E:/biocbuild/bbs-3.21-bioc/meat/GeneBreak.Rcheck'
* using R Under development (unstable) (2025-01-21 r87610 ucrt)
* using platform: x86_64-w64-mingw32
* R was compiled by
    gcc.exe (GCC) 13.3.0
    GNU Fortran (GCC) 13.3.0
* running under: Windows Server 2022 x64 (build 20348)
* using session charset: UTF-8
* using option '--no-vignettes'
* checking for file 'GeneBreak/DESCRIPTION' ... OK
* checking extension type ... Package
* this is package 'GeneBreak' version '1.37.0'
* checking package namespace information ... OK
* checking package dependencies ... OK
* checking if this is a source package ... OK
* checking if there is a namespace ... OK
* checking for hidden files and directories ... OK
* checking for portable file names ... OK
* checking whether package 'GeneBreak' can be installed ... OK
* checking installed package size ... OK
* checking package directory ... OK
* checking 'build' directory ... OK
* checking DESCRIPTION meta-information ... OK
* checking top-level files ... OK
* checking for left-over files ... OK
* checking index information ... OK
* checking package subdirectories ... OK
* checking code files for non-ASCII characters ... OK
* checking R files for syntax errors ... OK
* checking whether the package can be loaded ... OK
* checking whether the package can be loaded with stated dependencies ... OK
* checking whether the package can be unloaded cleanly ... OK
* checking whether the namespace can be loaded with stated dependencies ... OK
* checking whether the namespace can be unloaded cleanly ... OK
* checking dependencies in R code ... OK
* checking S3 generic/method consistency ... OK
* checking replacement functions ... OK
* checking foreign function calls ... OK
* checking R code for possible problems ... NOTE
.glmbreak: no visible global function definition for 'glm'
.glmbreak: no visible global function definition for 'predict'
addGeneAnnotation,CopyNumberBreakPoints: no visible global function
  definition for 'head'
bpStats,CopyNumberBreakPoints: no visible global function definition
  for 'sd'
bpStats,CopyNumberBreakPoints: no visible global function definition
  for 'p.adjust'
Undefined global functions or variables:
  glm head p.adjust predict sd
Consider adding
  importFrom("stats", "glm", "p.adjust", "predict", "sd")
  importFrom("utils", "head")
to your NAMESPACE file.
* checking Rd files ... OK
* checking Rd metadata ... OK
* checking Rd cross-references ... OK
* checking for missing documentation entries ... OK
* checking for code/documentation mismatches ... OK
* checking Rd \usage sections ... OK
* checking Rd contents ... OK
* checking for unstated dependencies in examples ... OK
* checking contents of 'data' directory ... OK
* checking data for non-ASCII characters ... OK
* checking data for ASCII and uncompressed saves ... OK
* checking sizes of PDF files under 'inst/doc' ... OK
* checking files in 'vignettes' ... OK
* checking examples ... OK
Examples with CPU (user + system) or elapsed time > 5s
                                                user system elapsed
CopyNumberBreakPointGenes-class                 7.11   1.30    8.41
bpStats-CopyNumberBreakPoints-method            5.80   1.37    7.17
recurrentGenes-CopyNumberBreakPointGenes-method 6.03   1.03    7.06
bpPlot-CopyNumberBreakPoints-method             5.28   0.91    6.19
* checking for unstated dependencies in vignettes ... OK
* checking package vignettes ... OK
* checking running R code from vignettes ... SKIPPED
* checking re-building of vignette outputs ... SKIPPED
* checking PDF version of manual ... OK
* DONE

Status: 1 NOTE
See
  'E:/biocbuild/bbs-3.21-bioc/meat/GeneBreak.Rcheck/00check.log'
for details.


Installation output

GeneBreak.Rcheck/00install.out

##############################################################################
##############################################################################
###
### Running command:
###
###   E:\biocbuild\bbs-3.21-bioc\R\bin\R.exe CMD INSTALL GeneBreak
###
##############################################################################
##############################################################################


* installing to library 'E:/biocbuild/bbs-3.21-bioc/R/library'
* installing *source* package 'GeneBreak' ...
** this is package 'GeneBreak' version '1.37.0'
** using staged installation
** R
** data
** byte-compile and prepare package for lazy loading
Creating a new generic function for 'segmentData' in package 'GeneBreak'
** help
*** installing help indices
** building package indices
** installing vignettes
** testing if installed package can be loaded from temporary location
** testing if installed package can be loaded from final location
** testing if installed package keeps a record of temporary installation path
* DONE (GeneBreak)

Tests output


Example timings

GeneBreak.Rcheck/GeneBreak-Ex.timings

nameusersystemelapsed
CopyNumberBreakPointGenes-class7.111.308.41
CopyNumberBreakPoints-class1.500.191.79
accessOptions-CopyNumberBreakPoints-method0.730.170.91
addGeneAnnotation-CopyNumberBreakPoints-method1.410.311.72
bpFilter-CopyNumberBreakPoints-method1.480.331.81
bpGenes-CopyNumberBreakPointGenes-method1.500.371.87
bpPlot-CopyNumberBreakPoints-method5.280.916.19
bpStats-CopyNumberBreakPoints-method5.801.377.17
breakpointData-CopyNumberBreakPoints-method1.200.461.66
breakpointsPerGene-CopyNumberBreakPointGenes-method2.020.642.65
callData-CopyNumberBreakPoints-method1.040.441.49
featureChromosomes-CopyNumberBreakPoints-method0.850.110.95
featureInfo-CopyNumberBreakPoints-method1.750.422.17
featuresPerGene-CopyNumberBreakPointGenes-method1.800.332.13
geneChromosomes-CopyNumberBreakPointGenes-method2.030.342.37
geneInfo-CopyNumberBreakPointGenes-method1.480.311.80
getBreakpoints1.380.251.63
namesFeatures-CopyNumberBreakPoints-method0.840.171.01
recurrentGenes-CopyNumberBreakPointGenes-method6.031.037.06
sampleNames-CopyNumberBreakPoints-method0.880.110.99
segmentData-CopyNumberBreakPoints-method1.290.571.87