Back to Multiple platform build/check report for BioC 3.21:   simplified   long
ABCDEF[G]HIJKLMNOPQRSTUVWXYZ

This page was generated on 2025-02-04 11:40 -0500 (Tue, 04 Feb 2025).

HostnameOSArch (*)R versionInstalled pkgs
nebbiolo1Linux (Ubuntu 24.04.1 LTS)x86_64R Under development (unstable) (2025-01-20 r87609) -- "Unsuffered Consequences" 4716
palomino7Windows Server 2022 Datacenterx64R Under development (unstable) (2025-01-21 r87610 ucrt) -- "Unsuffered Consequences" 4478
lconwaymacOS 12.7.1 Montereyx86_64R Under development (unstable) (2025-01-22 r87618) -- "Unsuffered Consequences" 4489
kjohnson3macOS 13.7.1 Venturaarm64R Under development (unstable) (2025-01-20 r87609) -- "Unsuffered Consequences" 4442
Click on any hostname to see more info about the system (e.g. compilers)      (*) as reported by 'uname -p', except on Windows and Mac OS X

Package 829/2295HostnameOS / ArchINSTALLBUILDCHECKBUILD BIN
GenomicRanges 1.59.1  (landing page)
Hervé Pagès
Snapshot Date: 2025-02-03 13:40 -0500 (Mon, 03 Feb 2025)
git_url: https://git.bioconductor.org/packages/GenomicRanges
git_branch: devel
git_last_commit: efa80fa
git_last_commit_date: 2024-11-15 06:05:50 -0500 (Fri, 15 Nov 2024)
nebbiolo1Linux (Ubuntu 24.04.1 LTS) / x86_64  OK    OK    OK  UNNEEDED, same version is already published
palomino7Windows Server 2022 Datacenter / x64  OK    OK    OK    OK  UNNEEDED, same version is already published
lconwaymacOS 12.7.1 Monterey / x86_64  OK    OK    OK    OK  UNNEEDED, same version is already published
kjohnson3macOS 13.7.1 Ventura / arm64  OK    OK    OK    OK  UNNEEDED, same version is already published


CHECK results for GenomicRanges on nebbiolo1

To the developers/maintainers of the GenomicRanges package:
- Allow up to 24 hours (and sometimes 48 hours) for your latest push to git@git.bioconductor.org:packages/GenomicRanges.git to reflect on this report. See Troubleshooting Build Report for more information.
- Use the following Renviron settings to reproduce errors and warnings.
- If 'R CMD check' started to fail recently on the Linux builder(s) over a missing dependency, add the missing dependency to 'Suggests:' in your DESCRIPTION file. See Renviron.bioc for more information.

raw results


Summary

Package: GenomicRanges
Version: 1.59.1
Command: /home/biocbuild/bbs-3.21-bioc/R/bin/R CMD check --install=check:GenomicRanges.install-out.txt --library=/home/biocbuild/bbs-3.21-bioc/R/site-library --timings GenomicRanges_1.59.1.tar.gz
StartedAt: 2025-02-03 22:45:38 -0500 (Mon, 03 Feb 2025)
EndedAt: 2025-02-03 22:52:55 -0500 (Mon, 03 Feb 2025)
EllapsedTime: 436.5 seconds
RetCode: 0
Status:   OK  
CheckDir: GenomicRanges.Rcheck
Warnings: 0

Command output

##############################################################################
##############################################################################
###
### Running command:
###
###   /home/biocbuild/bbs-3.21-bioc/R/bin/R CMD check --install=check:GenomicRanges.install-out.txt --library=/home/biocbuild/bbs-3.21-bioc/R/site-library --timings GenomicRanges_1.59.1.tar.gz
###
##############################################################################
##############################################################################


* using log directory ‘/home/biocbuild/bbs-3.21-bioc/meat/GenomicRanges.Rcheck’
* using R Under development (unstable) (2025-01-20 r87609)
* using platform: x86_64-pc-linux-gnu
* R was compiled by
    gcc (Ubuntu 13.3.0-6ubuntu2~24.04) 13.3.0
    GNU Fortran (Ubuntu 13.3.0-6ubuntu2~24.04) 13.3.0
* running under: Ubuntu 24.04.1 LTS
* using session charset: UTF-8
* checking for file ‘GenomicRanges/DESCRIPTION’ ... OK
* this is package ‘GenomicRanges’ version ‘1.59.1’
* package encoding: UTF-8
* checking package namespace information ... OK
* checking package dependencies ... OK
* checking if this is a source package ... OK
* checking if there is a namespace ... OK
* checking for hidden files and directories ... OK
* checking for portable file names ... OK
* checking for sufficient/correct file permissions ... OK
* checking whether package ‘GenomicRanges’ can be installed ... OK
* used C compiler: ‘gcc (Ubuntu 13.3.0-6ubuntu2~24.04) 13.3.0’
* checking installed package size ... OK
* checking package directory ... OK
* checking ‘build’ directory ... OK
* checking DESCRIPTION meta-information ... OK
* checking top-level files ... OK
* checking for left-over files ... OK
* checking index information ... OK
* checking package subdirectories ... NOTE
Problems with news in ‘NEWS’:
  Cannot process chunk/lines:
    SIGNIFICANT USER-VISIBLE CHANGES
  Cannot process chunk/lines:
    DEPRECATED AND DEFUNCT
* checking code files for non-ASCII characters ... OK
* checking R files for syntax errors ... OK
* checking whether the package can be loaded ... OK
* checking whether the package can be loaded with stated dependencies ... OK
* checking whether the package can be unloaded cleanly ... OK
* checking whether the namespace can be loaded with stated dependencies ... OK
* checking whether the namespace can be unloaded cleanly ... OK
* checking loading without being on the library search path ... OK
* checking dependencies in R code ... OK
* checking S3 generic/method consistency ... OK
* checking replacement functions ... OK
* checking foreign function calls ... OK
* checking R code for possible problems ... OK
* checking Rd files ... OK
* checking Rd metadata ... OK
* checking Rd cross-references ... NOTE
Found the following Rd file(s) with Rd \link{} targets missing package
anchors:
  GPos-class.Rd: IRanges, IntegerRanges
  GRanges-class.Rd: strand, Seqinfo, DataFrame, seqlevels, List
  GRangesList-class.Rd: RleList, CharacterList, CompressedIRangesList,
    IntegerRangesList, DataFrame, Seqinfo, seqlevels, Rle, AtomicList
  absoluteRanges.Rd: IntegerRanges, Seqinfo, seqlengths
  findOverlaps-methods.Rd: Hits
  strand-utils.Rd: RleList
  tileGenome.Rd: Seqinfo, seqlengths
Please provide package anchors for all Rd \link{} targets not in the
package itself and the base packages.
* checking for missing documentation entries ... OK
* checking for code/documentation mismatches ... OK
* checking Rd \usage sections ... OK
* checking Rd contents ... OK
* checking for unstated dependencies in examples ... OK
* checking line endings in C/C++/Fortran sources/headers ... OK
* checking compiled code ... NOTE
Note: information on .o files is not available
* checking files in ‘vignettes’ ... OK
* checking examples ... OK
Examples with CPU (user + system) or elapsed time > 5s
                           user system elapsed
genomicvars              45.589  4.216  49.809
GPos-class               40.609  5.274  45.888
makeGRangesFromDataFrame  0.905  0.102   5.204
* checking for unstated dependencies in ‘tests’ ... OK
* checking tests ...
  Running ‘run_unitTests.R’
 OK
* checking for unstated dependencies in vignettes ... OK
* checking package vignettes ... OK
* checking re-building of vignette outputs ... OK
* checking PDF version of manual ... OK
* DONE

Status: 3 NOTEs
See
  ‘/home/biocbuild/bbs-3.21-bioc/meat/GenomicRanges.Rcheck/00check.log’
for details.


Installation output

GenomicRanges.Rcheck/00install.out

##############################################################################
##############################################################################
###
### Running command:
###
###   /home/biocbuild/bbs-3.21-bioc/R/bin/R CMD INSTALL GenomicRanges
###
##############################################################################
##############################################################################


* installing to library ‘/home/biocbuild/bbs-3.21-bioc/R/site-library’
* installing *source* package ‘GenomicRanges’ ...
** this is package ‘GenomicRanges’ version ‘1.59.1’
** using staged installation
** libs
using C compiler: ‘gcc (Ubuntu 13.3.0-6ubuntu2~24.04) 13.3.0’
gcc -I"/home/biocbuild/bbs-3.21-bioc/R/include" -DNDEBUG  -I'/home/biocbuild/bbs-3.21-bioc/R/site-library/S4Vectors/include' -I'/home/biocbuild/bbs-3.21-bioc/R/site-library/IRanges/include' -I/usr/local/include    -fpic  -g -O2  -c IRanges_stubs.c -o IRanges_stubs.o
gcc -I"/home/biocbuild/bbs-3.21-bioc/R/include" -DNDEBUG  -I'/home/biocbuild/bbs-3.21-bioc/R/site-library/S4Vectors/include' -I'/home/biocbuild/bbs-3.21-bioc/R/site-library/IRanges/include' -I/usr/local/include    -fpic  -g -O2  -c R_init_GenomicRanges.c -o R_init_GenomicRanges.o
gcc -I"/home/biocbuild/bbs-3.21-bioc/R/include" -DNDEBUG  -I'/home/biocbuild/bbs-3.21-bioc/R/site-library/S4Vectors/include' -I'/home/biocbuild/bbs-3.21-bioc/R/site-library/IRanges/include' -I/usr/local/include    -fpic  -g -O2  -c S4Vectors_stubs.c -o S4Vectors_stubs.o
gcc -I"/home/biocbuild/bbs-3.21-bioc/R/include" -DNDEBUG  -I'/home/biocbuild/bbs-3.21-bioc/R/site-library/S4Vectors/include' -I'/home/biocbuild/bbs-3.21-bioc/R/site-library/IRanges/include' -I/usr/local/include    -fpic  -g -O2  -c transcript_utils.c -o transcript_utils.o
gcc -shared -L/home/biocbuild/bbs-3.21-bioc/R/lib -L/usr/local/lib -o GenomicRanges.so IRanges_stubs.o R_init_GenomicRanges.o S4Vectors_stubs.o transcript_utils.o -L/home/biocbuild/bbs-3.21-bioc/R/lib -lR
installing to /home/biocbuild/bbs-3.21-bioc/R/site-library/00LOCK-GenomicRanges/00new/GenomicRanges/libs
** R
** inst
** byte-compile and prepare package for lazy loading
** help
*** installing help indices
** building package indices
** installing vignettes
** testing if installed package can be loaded from temporary location
** checking absolute paths in shared objects and dynamic libraries
** testing if installed package can be loaded from final location
** testing if installed package keeps a record of temporary installation path
* DONE (GenomicRanges)

Tests output

GenomicRanges.Rcheck/tests/run_unitTests.Rout


R Under development (unstable) (2025-01-20 r87609) -- "Unsuffered Consequences"
Copyright (C) 2025 The R Foundation for Statistical Computing
Platform: x86_64-pc-linux-gnu

R is free software and comes with ABSOLUTELY NO WARRANTY.
You are welcome to redistribute it under certain conditions.
Type 'license()' or 'licence()' for distribution details.

R is a collaborative project with many contributors.
Type 'contributors()' for more information and
'citation()' on how to cite R or R packages in publications.

Type 'demo()' for some demos, 'help()' for on-line help, or
'help.start()' for an HTML browser interface to help.
Type 'q()' to quit R.

> require("GenomicRanges") || stop("unable to load GenomicRanges package")
Loading required package: GenomicRanges
Loading required package: stats4
Loading required package: BiocGenerics
Loading required package: generics

Attaching package: 'generics'

The following objects are masked from 'package:base':

    as.difftime, as.factor, as.ordered, intersect, is.element, setdiff,
    setequal, union


Attaching package: 'BiocGenerics'

The following objects are masked from 'package:stats':

    IQR, mad, sd, var, xtabs

The following objects are masked from 'package:base':

    Filter, Find, Map, Position, Reduce, anyDuplicated, aperm, append,
    as.data.frame, basename, cbind, colnames, dirname, do.call,
    duplicated, eval, evalq, get, grep, grepl, is.unsorted, lapply,
    mapply, match, mget, order, paste, pmax, pmax.int, pmin, pmin.int,
    rank, rbind, rownames, sapply, saveRDS, table, tapply, unique,
    unsplit, which.max, which.min

Loading required package: S4Vectors

Attaching package: 'S4Vectors'

The following object is masked from 'package:utils':

    findMatches

The following objects are masked from 'package:base':

    I, expand.grid, unname

Loading required package: IRanges
Loading required package: GenomeInfoDb
[1] TRUE
> GenomicRanges:::.test()


RUNIT TEST PROTOCOL -- Mon Feb  3 22:49:23 2025 
*********************************************** 
Number of test functions: 74 
Number of errors: 0 
Number of failures: 0 

 
1 Test Suite : 
GenomicRanges RUnit Tests - 74 test functions, 0 errors, 0 failures
Number of test functions: 74 
Number of errors: 0 
Number of failures: 0 
> 
> proc.time()
   user  system elapsed 
 40.935   0.206  41.140 

Example timings

GenomicRanges.Rcheck/GenomicRanges-Ex.timings

nameusersystemelapsed
GNCList-class0.6060.0220.627
GPos-class40.609 5.27445.888
GRanges-class0.7620.0100.772
GRangesFactor-class0.4530.0070.460
GRangesList-class0.4230.0070.429
GenomicRanges-comparison0.2210.0040.225
absoluteRanges1.5860.1101.697
constraint0.8270.0070.835
coverage-methods0.2710.0010.271
findOverlaps-methods1.7790.0141.792
genomic-range-squeezers0.0010.0000.000
genomicvars45.589 4.21649.809
inter-range-methods2.4100.1162.527
intra-range-methods0.5640.0130.577
makeGRangesFromDataFrame0.9050.1025.204
makeGRangesListFromDataFrame0.0890.0050.093
nearest-methods1.5130.1421.655
phicoef0.0010.0010.001
setops-methods3.0730.2373.310
strand-utils0.0940.0080.102
subtract-methods0.2330.0270.261
tile-methods0.1130.0260.139
tileGenome0.2860.0340.320