Back to Multiple platform build/check report for BioC 3.21:   simplified   long
ABCDEFG[H]IJKLMNOPQRSTUVWXYZ

This page was generated on 2025-02-10 11:40 -0500 (Mon, 10 Feb 2025).

HostnameOSArch (*)R versionInstalled pkgs
nebbiolo1Linux (Ubuntu 24.04.1 LTS)x86_64R Under development (unstable) (2025-01-20 r87609) -- "Unsuffered Consequences" 4719
palomino7Windows Server 2022 Datacenterx64R Under development (unstable) (2025-01-21 r87610 ucrt) -- "Unsuffered Consequences" 4480
lconwaymacOS 12.7.1 Montereyx86_64R Under development (unstable) (2025-01-22 r87618) -- "Unsuffered Consequences" 4491
kjohnson3macOS 13.7.1 Venturaarm64R Under development (unstable) (2025-01-20 r87609) -- "Unsuffered Consequences" 4444
Click on any hostname to see more info about the system (e.g. compilers)      (*) as reported by 'uname -p', except on Windows and Mac OS X

Package 955/2295HostnameOS / ArchINSTALLBUILDCHECKBUILD BIN
HiCBricks 1.25.0  (landing page)
Koustav Pal
Snapshot Date: 2025-02-09 13:40 -0500 (Sun, 09 Feb 2025)
git_url: https://git.bioconductor.org/packages/HiCBricks
git_branch: devel
git_last_commit: 51b1cc8
git_last_commit_date: 2024-10-29 10:32:24 -0500 (Tue, 29 Oct 2024)
nebbiolo1Linux (Ubuntu 24.04.1 LTS) / x86_64  OK    OK    OK  UNNEEDED, same version is already published
palomino7Windows Server 2022 Datacenter / x64  OK    OK    OK    OK  UNNEEDED, same version is already published
lconwaymacOS 12.7.1 Monterey / x86_64  OK    OK    OK    OK  UNNEEDED, same version is already published
kjohnson3macOS 13.7.1 Ventura / arm64  OK    OK    OK    OK  UNNEEDED, same version is already published


CHECK results for HiCBricks on nebbiolo1

To the developers/maintainers of the HiCBricks package:
- Allow up to 24 hours (and sometimes 48 hours) for your latest push to git@git.bioconductor.org:packages/HiCBricks.git to reflect on this report. See Troubleshooting Build Report for more information.
- Use the following Renviron settings to reproduce errors and warnings.
- If 'R CMD check' started to fail recently on the Linux builder(s) over a missing dependency, add the missing dependency to 'Suggests:' in your DESCRIPTION file. See Renviron.bioc for more information.

raw results


Summary

Package: HiCBricks
Version: 1.25.0
Command: /home/biocbuild/bbs-3.21-bioc/R/bin/R CMD check --install=check:HiCBricks.install-out.txt --library=/home/biocbuild/bbs-3.21-bioc/R/site-library --timings HiCBricks_1.25.0.tar.gz
StartedAt: 2025-02-09 23:06:08 -0500 (Sun, 09 Feb 2025)
EndedAt: 2025-02-09 23:09:26 -0500 (Sun, 09 Feb 2025)
EllapsedTime: 198.2 seconds
RetCode: 0
Status:   OK  
CheckDir: HiCBricks.Rcheck
Warnings: 0

Command output

##############################################################################
##############################################################################
###
### Running command:
###
###   /home/biocbuild/bbs-3.21-bioc/R/bin/R CMD check --install=check:HiCBricks.install-out.txt --library=/home/biocbuild/bbs-3.21-bioc/R/site-library --timings HiCBricks_1.25.0.tar.gz
###
##############################################################################
##############################################################################


* using log directory ‘/home/biocbuild/bbs-3.21-bioc/meat/HiCBricks.Rcheck’
* using R Under development (unstable) (2025-01-20 r87609)
* using platform: x86_64-pc-linux-gnu
* R was compiled by
    gcc (Ubuntu 13.3.0-6ubuntu2~24.04) 13.3.0
    GNU Fortran (Ubuntu 13.3.0-6ubuntu2~24.04) 13.3.0
* running under: Ubuntu 24.04.1 LTS
* using session charset: UTF-8
* checking for file ‘HiCBricks/DESCRIPTION’ ... OK
* checking extension type ... Package
* this is package ‘HiCBricks’ version ‘1.25.0’
* package encoding: UTF-8
* checking package namespace information ... OK
* checking package dependencies ... OK
* checking if this is a source package ... OK
* checking if there is a namespace ... OK
* checking for hidden files and directories ... OK
* checking for portable file names ... OK
* checking for sufficient/correct file permissions ... OK
* checking whether package ‘HiCBricks’ can be installed ... OK
* checking installed package size ... OK
* checking package directory ... OK
* checking ‘build’ directory ... OK
* checking DESCRIPTION meta-information ... OK
* checking top-level files ... OK
* checking for left-over files ... OK
* checking index information ... OK
* checking package subdirectories ... OK
* checking code files for non-ASCII characters ... OK
* checking R files for syntax errors ... OK
* checking whether the package can be loaded ... OK
* checking whether the package can be loaded with stated dependencies ... OK
* checking whether the package can be unloaded cleanly ... OK
* checking whether the namespace can be loaded with stated dependencies ... OK
* checking whether the namespace can be unloaded cleanly ... OK
* checking loading without being on the library search path ... OK
* checking dependencies in R code ... OK
* checking S3 generic/method consistency ... OK
* checking replacement functions ... OK
* checking foreign function calls ... OK
* checking R code for possible problems ... OK
* checking Rd files ... OK
* checking Rd metadata ... OK
* checking Rd cross-references ... OK
* checking for missing documentation entries ... OK
* checking for code/documentation mismatches ... OK
* checking Rd \usage sections ... OK
* checking Rd contents ... OK
* checking for unstated dependencies in examples ... OK
* checking files in ‘vignettes’ ... OK
* checking examples ... OK
* checking for unstated dependencies in vignettes ... OK
* checking package vignettes ... OK
* checking re-building of vignette outputs ... OK
* checking PDF version of manual ... OK
* DONE

Status: OK


Installation output

HiCBricks.Rcheck/00install.out

##############################################################################
##############################################################################
###
### Running command:
###
###   /home/biocbuild/bbs-3.21-bioc/R/bin/R CMD INSTALL HiCBricks
###
##############################################################################
##############################################################################


* installing to library ‘/home/biocbuild/bbs-3.21-bioc/R/site-library’
* installing *source* package ‘HiCBricks’ ...
** this is package ‘HiCBricks’ version ‘1.25.0’
** using staged installation
** R
** inst
** byte-compile and prepare package for lazy loading
** help
*** installing help indices
** building package indices
** installing vignettes
** testing if installed package can be loaded from temporary location
** testing if installed package can be loaded from final location
** testing if installed package keeps a record of temporary installation path
* DONE (HiCBricks)

Tests output


Example timings

HiCBricks.Rcheck/HiCBricks-Ex.timings

nameusersystemelapsed
BrickContainer_change_experiment_name1.0650.0631.128
BrickContainer_change_output_directory0.9440.0280.972
BrickContainer_get_path_to_file0.8080.0410.850
BrickContainer_list_chromosomes0.8690.0170.889
BrickContainer_list_experiment_name0.8060.0150.820
BrickContainer_list_files0.8640.0150.945
BrickContainer_list_output_directory0.7680.0150.783
BrickContainer_list_resolutions0.7570.0140.771
BrickContainer_unlink_resolution1.6990.0381.907
Brick_add_ranges1.8800.0391.918
Brick_call_compartments1.2890.0491.342
Brick_export_to_sparse2.6790.0562.793
Brick_fetch_range_index1.0240.0581.083
Brick_fetch_row_vector1.4590.0241.485
Brick_get_bintable0.8980.0400.939
Brick_get_chrominfo0.8760.0180.895
Brick_get_entire_matrix1.2300.0391.269
Brick_get_matrix1.2360.0241.261
Brick_get_matrix_mcols1.6020.0431.645
Brick_get_matrix_within_coords1.5170.0131.587
Brick_get_ranges0.8050.0170.821
Brick_get_values_by_distance1.1590.0371.197
Brick_get_vector_values1.0970.0211.118
Brick_list_matrices0.8420.0120.859
Brick_list_matrix_mcols0.7920.0070.798
Brick_list_mcool_normalisations0.0010.0000.000
Brick_list_mcool_resolutions000
Brick_list_rangekeys0.7360.0570.793
Brick_list_ranges_mcols0.7630.0090.772
Brick_load_cis_matrix_till_distance0.9660.0180.984
Brick_load_data_from_mcool0.0000.0010.000
Brick_load_data_from_sparse0.0000.0010.000
Brick_load_matrix1.0250.0211.046
Brick_local_score_differentiator1.6400.0931.734
Brick_make_ranges0.0090.0000.009
Brick_matrix_dimensions1.0090.0221.031
Brick_matrix_exists1.0750.0181.156
Brick_matrix_filename0.9930.0201.014
Brick_matrix_isdone1.1100.0171.128
Brick_matrix_issparse1.0290.0241.053
Brick_matrix_maxdist1.1110.0301.142
Brick_matrix_minmax1.0500.0611.175
Brick_mcool_normalisation_exists0.0010.0000.001
Brick_rangekey_exists0.7190.0080.728
Brick_return_region_position0.8110.0070.818
Brick_vizart_plot_heatmap1.7920.0301.823
Create_many_Bricks0.7250.0310.756
Create_many_Bricks_from_mcool000
load_BrickContainer0.8300.0200.915