Back to Multiple platform build/check report for BioC 3.21:   simplified   long
ABCDEFGHIJKL[M]NOPQRSTUVWXYZ

This page was generated on 2025-02-06 11:41 -0500 (Thu, 06 Feb 2025).

HostnameOSArch (*)R versionInstalled pkgs
nebbiolo1Linux (Ubuntu 24.04.1 LTS)x86_64R Under development (unstable) (2025-01-20 r87609) -- "Unsuffered Consequences" 4719
palomino7Windows Server 2022 Datacenterx64R Under development (unstable) (2025-01-21 r87610 ucrt) -- "Unsuffered Consequences" 4480
lconwaymacOS 12.7.1 Montereyx86_64R Under development (unstable) (2025-01-22 r87618) -- "Unsuffered Consequences" 4491
kjohnson3macOS 13.7.1 Venturaarm64R Under development (unstable) (2025-01-20 r87609) -- "Unsuffered Consequences" 4444
Click on any hostname to see more info about the system (e.g. compilers)      (*) as reported by 'uname -p', except on Windows and Mac OS X

Package 1173/2295HostnameOS / ArchINSTALLBUILDCHECKBUILD BIN
MBECS 1.11.0  (landing page)
Michael Olbrich
Snapshot Date: 2025-02-05 13:48 -0500 (Wed, 05 Feb 2025)
git_url: https://git.bioconductor.org/packages/MBECS
git_branch: devel
git_last_commit: f568758
git_last_commit_date: 2024-10-29 11:08:55 -0500 (Tue, 29 Oct 2024)
nebbiolo1Linux (Ubuntu 24.04.1 LTS) / x86_64  OK    OK    OK  UNNEEDED, same version is already published
palomino7Windows Server 2022 Datacenter / x64  OK    OK    OK    OK  UNNEEDED, same version is already published
lconwaymacOS 12.7.1 Monterey / x86_64  OK    OK    OK    OK  UNNEEDED, same version is already published
kjohnson3macOS 13.7.1 Ventura / arm64  OK    OK    OK    OK  UNNEEDED, same version is already published


BUILD BIN results for MBECS on palomino7

To the developers/maintainers of the MBECS package:
- Allow up to 24 hours (and sometimes 48 hours) for your latest push to git@git.bioconductor.org:packages/MBECS.git to reflect on this report. See Troubleshooting Build Report for more information.
- Use the following Renviron settings to reproduce errors and warnings.
- If 'R CMD check' started to fail recently on the Linux builder(s) over a missing dependency, add the missing dependency to 'Suggests:' in your DESCRIPTION file. See Renviron.bioc for more information.

raw results


Summary

Package: MBECS
Version: 1.11.0
Command: rm -rf MBECS.buildbin-libdir && mkdir MBECS.buildbin-libdir && E:\biocbuild\bbs-3.21-bioc\R\bin\R.exe CMD INSTALL --build --library=MBECS.buildbin-libdir MBECS_1.11.0.tar.gz
StartedAt: 2025-02-06 08:23:23 -0500 (Thu, 06 Feb 2025)
EndedAt: 2025-02-06 08:24:15 -0500 (Thu, 06 Feb 2025)
EllapsedTime: 52.0 seconds
RetCode: 0
Status:   OK  
PackageFile: MBECS_1.11.0.zip
PackageFileSize: 531 KiB

Command output

##############################################################################
##############################################################################
###
### Running command:
###
###   rm -rf MBECS.buildbin-libdir && mkdir MBECS.buildbin-libdir && E:\biocbuild\bbs-3.21-bioc\R\bin\R.exe CMD INSTALL --build --library=MBECS.buildbin-libdir MBECS_1.11.0.tar.gz
###
##############################################################################
##############################################################################


* installing *source* package 'MBECS' ...
** this is package 'MBECS' version '1.11.0'
** using staged installation
** R
** data
** inst
** byte-compile and prepare package for lazy loading
** help
*** installing help indices
** building package indices
** installing vignettes
** testing if installed package can be loaded from temporary location
** testing if installed package can be loaded from final location
** testing if installed package keeps a record of temporary installation path
* MD5 sums
packaged installation of 'MBECS' as MBECS_1.11.0.zip
* DONE (MBECS)