Back to Multiple platform build/check report for BioC 3.21:   simplified   long
ABCDEFGHIJKL[M]NOPQRSTUVWXYZ

This page was generated on 2025-02-04 11:44 -0500 (Tue, 04 Feb 2025).

HostnameOSArch (*)R versionInstalled pkgs
nebbiolo1Linux (Ubuntu 24.04.1 LTS)x86_64R Under development (unstable) (2025-01-20 r87609) -- "Unsuffered Consequences" 4716
palomino7Windows Server 2022 Datacenterx64R Under development (unstable) (2025-01-21 r87610 ucrt) -- "Unsuffered Consequences" 4478
lconwaymacOS 12.7.1 Montereyx86_64R Under development (unstable) (2025-01-22 r87618) -- "Unsuffered Consequences" 4489
kjohnson3macOS 13.7.1 Venturaarm64R Under development (unstable) (2025-01-20 r87609) -- "Unsuffered Consequences" 4442
Click on any hostname to see more info about the system (e.g. compilers)      (*) as reported by 'uname -p', except on Windows and Mac OS X

Package 1348/2295HostnameOS / ArchINSTALLBUILDCHECKBUILD BIN
MSnbase 2.33.2  (landing page)
Laurent Gatto
Snapshot Date: 2025-02-03 13:40 -0500 (Mon, 03 Feb 2025)
git_url: https://git.bioconductor.org/packages/MSnbase
git_branch: devel
git_last_commit: 7fad86f7
git_last_commit_date: 2024-11-12 03:09:21 -0500 (Tue, 12 Nov 2024)
nebbiolo1Linux (Ubuntu 24.04.1 LTS) / x86_64  OK    OK    ERROR  
palomino7Windows Server 2022 Datacenter / x64  OK    OK    ERROR    OK  
lconwaymacOS 12.7.1 Monterey / x86_64  OK    OK    ERROR    OK  
kjohnson3macOS 13.7.1 Ventura / arm64  OK    OK    ERROR    OK  


CHECK results for MSnbase on kjohnson3

To the developers/maintainers of the MSnbase package:
- Allow up to 24 hours (and sometimes 48 hours) for your latest push to git@git.bioconductor.org:packages/MSnbase.git to reflect on this report. See Troubleshooting Build Report for more information.
- Use the following Renviron settings to reproduce errors and warnings.
- If 'R CMD check' started to fail recently on the Linux builder(s) over a missing dependency, add the missing dependency to 'Suggests:' in your DESCRIPTION file. See Renviron.bioc for more information.

raw results


Summary

Package: MSnbase
Version: 2.33.2
Command: /Library/Frameworks/R.framework/Resources/bin/R CMD check --install=check:MSnbase.install-out.txt --library=/Library/Frameworks/R.framework/Resources/library --no-vignettes --timings MSnbase_2.33.2.tar.gz
StartedAt: 2025-02-03 20:55:15 -0500 (Mon, 03 Feb 2025)
EndedAt: 2025-02-03 21:01:24 -0500 (Mon, 03 Feb 2025)
EllapsedTime: 369.7 seconds
RetCode: 1
Status:   ERROR  
CheckDir: MSnbase.Rcheck
Warnings: NA

Command output

##############################################################################
##############################################################################
###
### Running command:
###
###   /Library/Frameworks/R.framework/Resources/bin/R CMD check --install=check:MSnbase.install-out.txt --library=/Library/Frameworks/R.framework/Resources/library --no-vignettes --timings MSnbase_2.33.2.tar.gz
###
##############################################################################
##############################################################################


* using log directory ‘/Users/biocbuild/bbs-3.21-bioc/meat/MSnbase.Rcheck’
* using R Under development (unstable) (2025-01-20 r87609)
* using platform: aarch64-apple-darwin20
* R was compiled by
    Apple clang version 14.0.0 (clang-1400.0.29.202)
    GNU Fortran (GCC) 14.2.0
* running under: macOS Ventura 13.7.1
* using session charset: UTF-8
* using option ‘--no-vignettes’
* checking for file ‘MSnbase/DESCRIPTION’ ... OK
* this is package ‘MSnbase’ version ‘2.33.2’
* package encoding: UTF-8
* checking package namespace information ... OK
* checking package dependencies ... OK
* checking if this is a source package ... OK
* checking if there is a namespace ... OK
* checking for hidden files and directories ... OK
* checking for portable file names ... OK
* checking for sufficient/correct file permissions ... OK
* checking whether package ‘MSnbase’ can be installed ... OK
* used C compiler: ‘Apple clang version 15.0.0 (clang-1500.1.0.2.5)’
* used C++ compiler: ‘Apple clang version 15.0.0 (clang-1500.1.0.2.5)’
* used SDK: ‘MacOSX11.3.sdk’
* checking installed package size ... INFO
  installed size is  6.3Mb
  sub-directories of 1Mb or more:
    R      3.1Mb
    data   1.7Mb
* checking package directory ... OK
* checking ‘build’ directory ... OK
* checking DESCRIPTION meta-information ... NOTE
Authors@R field gives more than one person with maintainer role:
  Laurent Gatto <laurent.gatto@uclouvain.be> [aut, cre] (ORCID: <https://orcid.org/0000-0002-1520-2268>)
  Johannes Rainer <Johannes.Rainer@eurac.edu> [aut, cre] (ORCID: <https://orcid.org/0000-0002-6977-7147>)
  Sebastian Gibb <mail@sebastiangibb.de> [aut, cre] (ORCID: <https://orcid.org/0000-0001-7406-4443>)
* checking top-level files ... OK
* checking for left-over files ... OK
* checking index information ... OK
* checking package subdirectories ... OK
* checking code files for non-ASCII characters ... OK
* checking R files for syntax errors ... OK
* checking whether the package can be loaded ... OK
* checking whether the package can be loaded with stated dependencies ... OK
* checking whether the package can be unloaded cleanly ... OK
* checking whether the namespace can be loaded with stated dependencies ... OK
* checking whether the namespace can be unloaded cleanly ... OK
* checking whether startup messages can be suppressed ... OK
* checking dependencies in R code ... NOTE
':::' calls which should be '::':
  ‘S4Vectors:::makeClassinfoRowForCompactPrinting’
  ‘S4Vectors:::makePrettyMatrixForCompactPrinting’
  See the note in ?`:::` about the use of this operator.
Unexported objects imported by ':::' calls:
  ‘Biobase:::.showAnnotatedDataFrame’ ‘MALDIquant:::.estimateNoise’
  ‘MALDIquant:::.localMaxima’ ‘MALDIquant:::.movingAverage’
  ‘MALDIquant:::.savitzkyGolay’ ‘mzR:::.hasChromatograms’
  ‘mzR:::.hasSpectra’
  See the note in ?`:::` about the use of this operator.
* checking S3 generic/method consistency ... OK
* checking replacement functions ... OK
* checking foreign function calls ... OK
* checking R code for possible problems ... OK
* checking Rd files ... OK
* checking Rd metadata ... OK
* checking Rd cross-references ... NOTE
Found the following Rd file(s) with Rd \link{} targets missing package
anchors:
  Chromatogram-class.Rd: closest
  FeaturesOfInterest-class.Rd: Versioned-class
  MIAPE-class.Rd: MIAME-class, MIAxE-class, Versioned-class
  MSnExp-class.Rd: AnnotatedDataFrame-class, phenoData, eSet-class,
    featureData, experimentData, protocolData, Versions-class,
    VersionedBiobase-class, Versioned-class, isolationWindow
  MSnProcess-class.Rd: Versioned-class
  MSnSet-class.Rd: eSet-class, ExpressionSet-class,
    AnnotatedDataFrame-class, AssayData-class, exprs, assayData,
    phenoData, featureData, experimentData, protocolData,
    Versions-class, VersionedBiobase-class, Versioned-class, impute,
    meanSdPlot, ma.plot, mva.pairs
  MSnSetList-class.Rd: AnnotatedDataFrame-class
  MSpectra.Rd: mcols, DataFrame, SimpleList
  OnDiskMSnExp-class.Rd: AnnotatedDataFrame-class, phenoData,
    featureData, experimentData, eSet-class, protocolData,
    Versions-class, VersionedBiobase-class, Versioned-class
  ProcessingStep-class.Rd: Versioned-class
  ReporterIons-class.Rd: Versioned-class
  Spectrum-class.Rd: Versioned-class
  Spectrum1-class.Rd: Versioned-class
  Spectrum2-class.Rd: Versioned-class
  combineFeatures.Rd: impute
  combineSpectra.Rd: bpparam
  extractSpectraData.Rd: DataFrame
  normToReference.Rd: exprs
  normalise-methods.Rd: vsn2
  pSet-class.Rd: eSet-class, AnnotatedDataFrame-class, phenoData,
    featureData, experimentData, protocolData, Versions-class,
    VersionedBiobase-class, Versioned-class
  plotMzDelta-methods.Rd: geom_histogram
  readMSData.Rd: AnnotatedDataFrame-class
  readMSnSet.Rd: readExpressionSet, read.AnnotatedDataFrame, read.MIAME
  readMgfData.Rd: AnnotatedDataFrame-class
Please provide package anchors for all Rd \link{} targets not in the
package itself and the base packages.
* checking for missing documentation entries ... OK
* checking for code/documentation mismatches ... OK
* checking Rd \usage sections ... OK
* checking Rd contents ... OK
* checking for unstated dependencies in examples ... OK
* checking contents of ‘data’ directory ... OK
* checking data for non-ASCII characters ... OK
* checking LazyData ... OK
* checking data for ASCII and uncompressed saves ... OK
* checking line endings in C/C++/Fortran sources/headers ... OK
* checking compiled code ... NOTE
Note: information on .o files is not available
* checking files in ‘vignettes’ ... OK
* checking examples ... OK
* checking for unstated dependencies in ‘tests’ ... OK
* checking tests ...
  Running ‘testthat.R’
 ERROR
Running the tests in ‘tests/testthat.R’ failed.
Last 13 lines of output:
  ── Error ('test_MSmap.R:6:1'): (code run outside of `test_that()`) ─────────────
  Error in `fix_issue_17(x)`: Can't access URL(s):
   
  Backtrace:
      ▆
   1. └─rpx::PXDataset("PXD000001") at test_MSmap.R:6:1
   2.   └─rpx:::get_url(px_metadata[["_links"]]$datasetFtpUrl$href)
   3.     └─rpx:::fix_issue_17(x)
  
  [ FAIL 1 | WARN 1092 | SKIP 12 | PASS 2355 ]
  Error: Test failures
  In addition: Warning message:
  In for (i in seq_along(slotTypes)) { :
    closing unused connection 4 (/var/folders/r0/l4fjk6cj5xj0j3brt4bplpl40000gt/T//RtmpHpdae5/fileda8a52fa7aa8)
  Execution halted
* checking for unstated dependencies in vignettes ... OK
* checking package vignettes ... OK
* checking running R code from vignettes ... SKIPPED
* checking re-building of vignette outputs ... SKIPPED
* checking PDF version of manual ... OK
* DONE

Status: 1 ERROR, 4 NOTEs
See
  ‘/Users/biocbuild/bbs-3.21-bioc/meat/MSnbase.Rcheck/00check.log’
for details.


Installation output

MSnbase.Rcheck/00install.out

##############################################################################
##############################################################################
###
### Running command:
###
###   /Library/Frameworks/R.framework/Resources/bin/R CMD INSTALL MSnbase
###
##############################################################################
##############################################################################


* installing to library ‘/Library/Frameworks/R.framework/Versions/4.5-arm64/Resources/library’
* installing *source* package ‘MSnbase’ ...
** this is package ‘MSnbase’ version ‘2.33.2’
** using staged installation
** libs
using C compiler: ‘Apple clang version 15.0.0 (clang-1500.1.0.2.5)’
using C++ compiler: ‘Apple clang version 15.0.0 (clang-1500.1.0.2.5)’
using SDK: ‘MacOSX11.3.sdk’
clang++ -arch arm64 -std=gnu++17 -I"/Library/Frameworks/R.framework/Resources/include" -DNDEBUG  -I'/Library/Frameworks/R.framework/Versions/4.5-arm64/Resources/library/Rcpp/include' -I/opt/R/arm64/include    -fPIC  -falign-functions=64 -Wall -g -O2  -DR_NO_REMAP -c RcppExports.cpp -o RcppExports.o
clang -arch arm64 -I"/Library/Frameworks/R.framework/Resources/include" -DNDEBUG  -I'/Library/Frameworks/R.framework/Versions/4.5-arm64/Resources/library/Rcpp/include' -I/opt/R/arm64/include    -fPIC  -falign-functions=64 -Wall -g -O2  -c Spectrum1_class.c -o Spectrum1_class.o
Spectrum1_class.c:8:13: warning: unused function '_new_Spectrum1' [-Wunused-function]
static SEXP _new_Spectrum1(SEXP msLevel, SEXP peaksCount, SEXP rt,
            ^
1 warning generated.
clang -arch arm64 -I"/Library/Frameworks/R.framework/Resources/include" -DNDEBUG  -I'/Library/Frameworks/R.framework/Versions/4.5-arm64/Resources/library/Rcpp/include' -I/opt/R/arm64/include    -fPIC  -falign-functions=64 -Wall -g -O2  -c Spectrum2_class.c -o Spectrum2_class.o
Spectrum2_class.c:9:13: warning: unused function '_new_Spectrum2' [-Wunused-function]
static SEXP _new_Spectrum2(SEXP msLevel, SEXP peaksCount, SEXP rt,
            ^
1 warning generated.
clang++ -arch arm64 -std=gnu++17 -I"/Library/Frameworks/R.framework/Resources/include" -DNDEBUG  -I'/Library/Frameworks/R.framework/Versions/4.5-arm64/Resources/library/Rcpp/include' -I/opt/R/arm64/include    -fPIC  -falign-functions=64 -Wall -g -O2  -DR_NO_REMAP -c imp_neighbour_avg.cpp -o imp_neighbour_avg.o
clang -arch arm64 -I"/Library/Frameworks/R.framework/Resources/include" -DNDEBUG  -I'/Library/Frameworks/R.framework/Versions/4.5-arm64/Resources/library/Rcpp/include' -I/opt/R/arm64/include    -fPIC  -falign-functions=64 -Wall -g -O2  -c utils.c -o utils.o
utils.c:92:15: warning: unused variable 'ret' [-Wunused-variable]
  int i1, i2, ret;
              ^
utils.c:107:15: warning: unused variable 'ret' [-Wunused-variable]
  int i1, i2, ret;
              ^
utils.c:123:18: warning: unused variable 'ret' [-Wunused-variable]
  double d1, d2, ret;
                 ^
utils.c:133:18: warning: unused variable 'ret' [-Wunused-variable]
  double d1, d2, ret;
                 ^
utils.c:121:12: warning: unused function 'compar_double_asc_order' [-Wunused-function]
static int compar_double_asc_order(const void *p1, const void *p2)
           ^
utils.c:131:12: warning: unused function 'compar_double_desc_order' [-Wunused-function]
static int compar_double_desc_order(const void *p1, const void *p2)
           ^
6 warnings generated.
clang++ -arch arm64 -std=gnu++17 -dynamiclib -Wl,-headerpad_max_install_names -undefined dynamic_lookup -L/Library/Frameworks/R.framework/Resources/lib -L/opt/R/arm64/lib -o MSnbase.so RcppExports.o Spectrum1_class.o Spectrum2_class.o imp_neighbour_avg.o utils.o -F/Library/Frameworks/R.framework/.. -framework R -Wl,-framework -Wl,CoreFoundation
installing to /Library/Frameworks/R.framework/Versions/4.5-arm64/Resources/library/00LOCK-MSnbase/00new/MSnbase/libs
** R
** data
*** moving datasets to lazyload DB
Creating a new generic function for ‘trimws’ in package ‘MSnbase’
in method for ‘coerce’ with signature ‘"IBSpectra","MSnSet"’: no definition for class “IBSpectra”
in method for ‘coerce’ with signature ‘"Spectra","MSpectra"’: no definition for class “Spectra”
in method for ‘plotMzDelta’ with signature ‘"mzRramp"’: no definition for class “mzRramp”
** inst
** byte-compile and prepare package for lazy loading
Creating a new generic function for ‘trimws’ in package ‘MSnbase’
in method for ‘coerce’ with signature ‘"IBSpectra","MSnSet"’: no definition for class “IBSpectra”
in method for ‘coerce’ with signature ‘"Spectra","MSpectra"’: no definition for class “Spectra”
in method for ‘plotMzDelta’ with signature ‘"mzRramp"’: no definition for class “mzRramp”
** help
*** installing help indices
** building package indices
** installing vignettes
** testing if installed package can be loaded from temporary location
** checking absolute paths in shared objects and dynamic libraries
** testing if installed package can be loaded from final location
** testing if installed package keeps a record of temporary installation path
* DONE (MSnbase)

Tests output

MSnbase.Rcheck/tests/testthat.Rout.fail


R Under development (unstable) (2025-01-20 r87609) -- "Unsuffered Consequences"
Copyright (C) 2025 The R Foundation for Statistical Computing
Platform: aarch64-apple-darwin20

R is free software and comes with ABSOLUTELY NO WARRANTY.
You are welcome to redistribute it under certain conditions.
Type 'license()' or 'licence()' for distribution details.

R is a collaborative project with many contributors.
Type 'contributors()' for more information and
'citation()' on how to cite R or R packages in publications.

Type 'demo()' for some demos, 'help()' for on-line help, or
'help.start()' for an HTML browser interface to help.
Type 'q()' to quit R.

> # setting R_TESTS to empty string because of
> # https://github.com/hadley/testthat/issues/144
> # revert this when that issue in R is fixed.
> Sys.setenv("R_TESTS" = "")
> library("testthat")
> library("MSnbase")
Loading required package: BiocGenerics
Loading required package: generics

Attaching package: 'generics'

The following objects are masked from 'package:base':

    as.difftime, as.factor, as.ordered, intersect, is.element, setdiff,
    setequal, union


Attaching package: 'BiocGenerics'

The following objects are masked from 'package:stats':

    IQR, mad, sd, var, xtabs

The following objects are masked from 'package:base':

    Filter, Find, Map, Position, Reduce, anyDuplicated, aperm, append,
    as.data.frame, basename, cbind, colnames, dirname, do.call,
    duplicated, eval, evalq, get, grep, grepl, is.unsorted, lapply,
    mapply, match, mget, order, paste, pmax, pmax.int, pmin, pmin.int,
    rank, rbind, rownames, sapply, saveRDS, table, tapply, unique,
    unsplit, which.max, which.min

Loading required package: Biobase
Welcome to Bioconductor

    Vignettes contain introductory material; view with
    'browseVignettes()'. To cite Bioconductor, see
    'citation("Biobase")', and for packages 'citation("pkgname")'.

Loading required package: mzR
Loading required package: Rcpp
Loading required package: S4Vectors
Loading required package: stats4

Attaching package: 'S4Vectors'

The following object is masked from 'package:utils':

    findMatches

The following objects are masked from 'package:base':

    I, expand.grid, unname

Loading required package: ProtGenerics

Attaching package: 'ProtGenerics'

The following object is masked from 'package:stats':

    smooth


This is MSnbase version 2.33.2 
  Visit https://lgatto.github.io/MSnbase/ to get started.
 Consider switching to the 'R for Mass Spectrometry'
 packages - see https://RforMassSpectrometry.org for details.


Attaching package: 'MSnbase'

The following object is masked from 'package:base':

    trimws

> setMSnbaseVerbose(FALSE)
> ## register(SerialParam()) ## see issue 205
> 
> ## Erwinia
> f <- msdata::proteomics(full.names = TRUE,
+                         pattern = "TMT_Erwinia_1uLSike_Top10HCD_isol2_45stepped_60min_01.mzML.gz")
> tmt_erwinia_in_mem_ms1 <- readMSData(f, msLevel = 1)
> tmt_erwinia_in_mem_ms2 <- readMSData(f, msLevel = 2)
> tmt_erwinia_on_disk <- readMSData(f, mode = "onDisk")
> tmt_erwinia_on_disk_ms1 <- readMSData(f, msLevel = 1, mode = "onDisk")
> tmt_erwinia_on_disk_ms2 <- readMSData(f, msLevel = 2, mode = "onDisk")
> ## subset by rt
> tmt_im_ms1_sub <- filterRt(tmt_erwinia_in_mem_ms1, c(1200, 1250))
> tmt_im_ms2_sub <- filterRt(tmt_erwinia_in_mem_ms2, c(1200, 1250))
> tmt_od_sub <- filterRt(tmt_erwinia_on_disk, c(1200, 1250))
> tmt_od_ms1_sub <- filterRt(tmt_erwinia_on_disk_ms1, c(1200, 1250))
> tmt_od_ms2_sub <- filterRt(tmt_erwinia_on_disk_ms2, c(1200, 1250))
> 
> ## microtofq
> f <- c(system.file("microtofq/MM14.mzML", package = "msdata"),
+        system.file("microtofq/MM8.mzML", package = "msdata"))
> microtofq_in_mem_ms1 <- readMSData(f, msLevel = 1)
> microtofq_on_disk_ms1 <- readMSData(f, msLevel = 1, mode = "onDisk")
> microtofq_on_disk <- readMSData(f, mode = "onDisk")
> 
> ## extdata mzML
> f <- dir(system.file(package = "MSnbase", dir = "extdata"),
+          full.name = TRUE, pattern = "mzXML$")
> extdata_mzXML_in_mem_ms2 <- readMSData(f, verbose = FALSE, centroided. = FALSE)
> extdata_mzXML_on_disk <- readMSData(f, centroided. = FALSE, mode = "onDisk")
> extdata_mzXML_on_disk_ms2 <- readMSData(f, msLevel = 2, centroided. = FALSE, mode = "onDisk")
> 
> sf <- dir(system.file("sciex", package = "msdata"), full.names = TRUE)
> sciex <- readMSData(sf, mode = "onDisk")
> 
> test_check("MSnbase")
Experiment data
  Experimenter name: Laurent Gatto 
  Laboratory: Cambridge Centre for Proteomics (CCP) 
  Contact information: Laurent Gatto 
  Contact email: lg390@cam.ac.uk 
  Title: Example 'MSnExp' data set 
  URL:  
  PMIDs:  
  No abstract available.
Instrument : 
  Model: test (1) 
  Manufacturer:  
  Customisations:  
  Use 'msInfo(object)' for more MIAPE-MS information.
Experiment data
  Experimenter name: Laurent Gatto 
  Laboratory: Cambridge Centre for Proteomics (CCP) 
  Contact information: Laurent Gatto 
  Contact email: lg390@cam.ac.uk 
  Title: Example 'MSnExp' data set 
  URL:  
  PMIDs:  
  No abstract available.
  notes:
   Note1:
First note
MIAPE-MS information:
 1. General features:
  Date stamp:  
  Contact: Laurent Gatto 
  Name: Laurent Gatto 
  Laboratory: Cambridge Centre for Proteomics (CCP) 
  Instument model: test 
  Manufacturer:  
  Customisations:  
  Software:  
  Version:  
  Switching:  
  Param file:  
 2. Ion source
  Source:  
  Source details:  
 3. Post-source componentry
  Analyzer:  
  Analyzer details:  
  Collision gas:  
  Pressure:   bars
  Energy:  
  Detector type:  
  Sensitivity:  
Object of class "MzTab".
 Description: mzTab example file for reporting a summary report of
 quantification data quantified on the protein level
 Mode: Complete 
 Type: Quantification 
 Available data: Proteins  PSMs  
Object of class "MzTab".
 Description:
 Mode: 
 Type: 
 Available data: SmallMolecules  
Object of class "MzTab".
 Description:
 Mode: 
 Type: 
 Available data: SmallMolecules  
Instance of class 'MSnSetList' containig 3 objects.
MSn experiment data ("OnDiskMSnExp")
Object size in memory: 0.26 Mb
- - - Spectra data - - -
 MS level(s): 1 2 
 Number of spectra: 509 
 MSn retention times: 18:28 - 22:03 minutes
- - - Processing information - - -
Data loaded [Mon Feb  3 20:57:50 2025] 
 MSnbase version: 2.33.2 
- - - Meta data  - - -
phenoData
  rowNames:
    TMT_Erwinia_1uLSike_Top10HCD_isol2_45stepped_60min_01.mzML.gz
  varLabels: sampleNames
  varMetadata: labelDescription
Loaded from:
  TMT_Erwinia_1uLSike_Top10HCD_isol2_45stepped_60min_01.mzML.gz 
protocolData: none
featureData
  featureNames: F1.S001 F1.S002 ... F1.S509 (509 total)
  fvarLabels: fileIdx spIdx ... spectrum (35 total)
  fvarMetadata: labelDescription
experimentData: use 'experimentData(object)'
Object of class "ReporterIons"
TMT10HCD: '10-plex TMT HCD' with 10 reporter ions
 - [126] 126.1277 +/- 0.002 (#8DD3C7)
 - [127N] 127.1248 +/- 0.002 (#FFFFB3)
 - [127C] 127.1311 +/- 0.002 (#BEBADA)
 - [128N] 128.1281 +/- 0.002 (#FB8072)
 - [128C] 128.1344 +/- 0.002 (#80B1D3)
 - [129N] 129.1315 +/- 0.002 (#FDB462)
 - [129C] 129.1378 +/- 0.002 (#B3DE69)
 - [130N] 130.1348 +/- 0.002 (#FCCDE5)
 - [130C] 130.1411 +/- 0.002 (#D9D9D9)
 - [131] 131.1382 +/- 0.002 (#BC80BD)
Object of class "Spectrum1"
 Retention time: 0:00 
 MSn level: 1 
 Total ion count: 684 
 Polarity: 1 
MSn experiment data ("MSnExp")
Object size in memory: 0.18 Mb
- - - Spectra data - - -
 MS level(s): 2 
 Number of spectra: 5 
 MSn retention times: 25:01 - 25:02 minutes
- - - Processing information - - -
Data loaded: Mon Feb  3 20:59:36 2025 
 MSnbase version: 2.33.2 
- - - Meta data  - - -
phenoData
  rowNames: dummyiTRAQ.mzXML
  varLabels: sampleNames
  varMetadata: labelDescription
Loaded from:
  dummyiTRAQ.mzXML 
protocolData: none
featureData
  featureNames: F1.S1 F1.S2 ... F1.S5 (5 total)
  fvarLabels: spectrum
  fvarMetadata: labelDescription
experimentData: use 'experimentData(object)'
MSn experiment data ("MSnExp")
Object size in memory: 0.2 Mb
- - - Spectra data - - -
 MS level(s): 2 
 Number of spectra: 5 
 MSn retention times: 25:01 - 25:02 minutes
- - - Processing information - - -
Data loaded: Mon Feb  3 20:59:37 2025 
 MSnbase version: 2.33.2 
- - - Meta data  - - -
phenoData
  rowNames: dummyiTRAQ.mzXML
  varLabels: sampleNames
  varMetadata: labelDescription
Loaded from:
  dummyiTRAQ.mzXML 
protocolData: none
featureData
  featureNames: F1.S1 F1.S2 ... F1.S5 (5 total)
  fvarLabels: spectrum
  fvarMetadata: labelDescription
experimentData: use 'experimentData(object)'
Object of class "FeaturesOfInterest"
 Created on Mon Feb  3 20:59:44 2025 
 Description:
  small foi
 3 features of interest:
   P20353, P53501, Q7KU78
Traceable object of class "FeaturesOfInterest"
 Created on Mon Feb  3 20:59:44 2025 
 Description:
  my description
 10 features of interest:
   P20353, P53501  ...  Q9VCK0, Q9VIU7
A collection of 1 features of interest.
A collection of 10 features of interest.
MSpectra with 3 spectra and 1 metadata column(s):
  msLevel   rtime peaksCount | id
1       2      NA          3 |  1
2       2 1.23245          4 |  2
3       1 1.23245          5 |  3
MSpectra with 3 spectra and 1 metadata column(s):
    msLevel     rtime peaksCount |        id
  <integer> <numeric>  <integer> | <integer>
1         2        NA          3 |         1
2         2   1.23245          4 |         2
3         1   1.23245          5 |         3
MSpectra with 3 spectra and 1 metadata column(s):
      msLevel     rtime peaksCount |        id
    <integer> <numeric>  <integer> | <integer>
  1         2        NA          3 |         1
  2         2   1.23245          4 |         2
  3         1   1.23245          5 |         3
reading dummyiTRAQ.mzid... DONE!
[ FAIL 1 | WARN 1092 | SKIP 12 | PASS 2355 ]

══ Skipped tests (12) ══════════════════════════════════════════════════════════
• empty test (12): 'test_MzTab.R:108:1', 'test_MzTab.R:123:1',
  'test_OnDiskMSnExp2.R:132:1', 'test_fdata-selection.R:71:1',
  'test_functions-Chromatogram.R:39:1', 'test_functions-MSpectra.R:72:1',
  'test_functions-plotting.R:1:1', 'test_io.R:3:1',
  'test_methods-MChromatograms.R:155:1', 'test_readMSData2.R:51:1',
  'test_readMSData2.R:63:1', 'test_readMSData2.R:80:1'

══ Failed tests ════════════════════════════════════════════════════════════════
── Error ('test_MSmap.R:6:1'): (code run outside of `test_that()`) ─────────────
Error in `fix_issue_17(x)`: Can't access URL(s):
 
Backtrace:
    ▆
 1. └─rpx::PXDataset("PXD000001") at test_MSmap.R:6:1
 2.   └─rpx:::get_url(px_metadata[["_links"]]$datasetFtpUrl$href)
 3.     └─rpx:::fix_issue_17(x)

[ FAIL 1 | WARN 1092 | SKIP 12 | PASS 2355 ]
Error: Test failures
In addition: Warning message:
In for (i in seq_along(slotTypes)) { :
  closing unused connection 4 (/var/folders/r0/l4fjk6cj5xj0j3brt4bplpl40000gt/T//RtmpHpdae5/fileda8a52fa7aa8)
Execution halted

Example timings

MSnbase.Rcheck/MSnbase-Ex.timings

nameusersystemelapsed
Chromatogram-class0.0930.0030.097
FeatComp-class0.0690.0050.077
FeaturesOfInterest-class0.0190.0020.021
MChromatograms-class0.0500.0020.053
MSmap-class000
MSnExp-class0.4380.0030.455
MSnProcess-class0.0010.0000.001
MSnSet-class1.2890.0641.375
MSnSetList-class0.2950.0170.324
MSpectra0.0230.0020.025
MzTab-class0.1910.0192.314
OnDiskMSnExp-class2.7730.0792.861
ProcessingStep-class0.0000.0010.001
ReporterIons-class0.0030.0000.003
TMT60.0020.0010.002
addIdentificationData-methods0.3910.0040.395
aggvar1.2600.0271.355
averageMSnSet2.0910.1092.267
bin-methods0.0820.0050.086
calculateFragments-methods0.5130.0080.527
chromatogram-MSnExp-method4.3740.0774.453
clean-methods0.0340.0030.037
combineFeatures0.2610.0050.265
combineSpectra1.6530.0621.729
combineSpectraMovingWindow0.9920.0201.020
commonFeatureNames0.0750.0040.079
compareSpectra-methods0.0510.0030.054
consensusSpectrum0.0080.0000.008
estimateMzResolution2.6850.1502.842
estimateMzScattering0.6110.0200.633
estimateNoise-method0.0030.0000.003
extractPrecSpectra-methods0.5110.0060.519
extractSpectraData1.0340.0421.086
fData-utils0.1080.0080.117
factorsAsStrings0.0030.0020.005
featureCV0.0130.0010.014
fillUp0.0010.0000.001
formatRt000
getVariableName0.0010.0000.001
hasSpectraOrChromatograms0.1930.0060.200
iPQF0.0750.0050.080
iTRAQ40.0040.0000.004
imageNA20.7750.0830.862
impute0.3240.0190.357
isCentroidedFromFile1.2680.0301.306
itraqdata0.0150.0030.018
listOf0.0010.0000.000
makeCamelCase000
makeNaData0.0950.0020.097
meanMzInts0.0170.0010.017
missing-data0.6940.0760.780
mzRident2dfr0.0080.0010.009
nFeatures0.2520.0050.257
nQuants0.0300.0010.030
naplot0.0210.0020.024
navMS1.2170.0321.284
normToReference0.0430.0020.045
normalise-methods0.0040.0010.006
npcv0.0020.0000.001
pSet-class0.0000.0000.001
pickPeaks-method0.0850.0080.094
plot-methods1.5810.0511.646
plot2d-methods0.1410.0090.153
plotDensity-methods0.1980.0180.215
plotMzDelta-methods0.2270.0100.238
plotNA-methods0.1080.0030.111
plotSpectrumSpectrum-methods0.6290.0180.648
precSelection0.0020.0010.003
purityCorrect-methods0.0050.0020.008
quantify-methods0.9480.0310.979
readMSData1.0500.0141.064
readMSnSet0.0230.0020.026
readMgfData0.5810.0120.595
readMzIdData0.3000.1830.485
readMzTabData0.3080.0190.439
readMzTabData_v0.90.0460.0040.413
readSRMData0.4330.0140.447
reduce-data.frame-method0.0040.0000.004
removeNoId-methods0.5780.0130.606
removePeaks-methods0.1530.0030.157
removeReporters-methods0.1380.0000.138
selectFeatureData0.6160.0170.638
smooth-methods0.0510.0020.053
trimMz-methods0.0470.0020.050
writeMgfData-methods0.5830.0120.595