Back to Multiple platform build/check report for BioC 3.21: simplified long |
|
This page was generated on 2025-02-10 11:40 -0500 (Mon, 10 Feb 2025).
Hostname | OS | Arch (*) | R version | Installed pkgs |
---|---|---|---|---|
nebbiolo1 | Linux (Ubuntu 24.04.1 LTS) | x86_64 | R Under development (unstable) (2025-01-20 r87609) -- "Unsuffered Consequences" | 4719 |
palomino7 | Windows Server 2022 Datacenter | x64 | R Under development (unstable) (2025-01-21 r87610 ucrt) -- "Unsuffered Consequences" | 4480 |
lconway | macOS 12.7.1 Monterey | x86_64 | R Under development (unstable) (2025-01-22 r87618) -- "Unsuffered Consequences" | 4491 |
kjohnson3 | macOS 13.7.1 Ventura | arm64 | R Under development (unstable) (2025-01-20 r87609) -- "Unsuffered Consequences" | 4444 |
Click on any hostname to see more info about the system (e.g. compilers) (*) as reported by 'uname -p', except on Windows and Mac OS X |
Package 1258/2295 | Hostname | OS / Arch | INSTALL | BUILD | CHECK | BUILD BIN | ||||||||
MicrobiomeProfiler 1.13.0 (landing page) Guangchuang Yu
| nebbiolo1 | Linux (Ubuntu 24.04.1 LTS) / x86_64 | OK | OK | OK | ![]() | ||||||||
palomino7 | Windows Server 2022 Datacenter / x64 | OK | OK | OK | OK | ![]() | ||||||||
lconway | macOS 12.7.1 Monterey / x86_64 | OK | OK | OK | OK | ![]() | ||||||||
kjohnson3 | macOS 13.7.1 Ventura / arm64 | OK | OK | OK | OK | ![]() | ||||||||
To the developers/maintainers of the MicrobiomeProfiler package: - Allow up to 24 hours (and sometimes 48 hours) for your latest push to git@git.bioconductor.org:packages/MicrobiomeProfiler.git to reflect on this report. See Troubleshooting Build Report for more information. - Use the following Renviron settings to reproduce errors and warnings. - If 'R CMD check' started to fail recently on the Linux builder(s) over a missing dependency, add the missing dependency to 'Suggests:' in your DESCRIPTION file. See Renviron.bioc for more information. |
Package: MicrobiomeProfiler |
Version: 1.13.0 |
Command: /home/biocbuild/bbs-3.21-bioc/R/bin/R CMD check --install=check:MicrobiomeProfiler.install-out.txt --library=/home/biocbuild/bbs-3.21-bioc/R/site-library --timings MicrobiomeProfiler_1.13.0.tar.gz |
StartedAt: 2025-02-10 00:08:24 -0500 (Mon, 10 Feb 2025) |
EndedAt: 2025-02-10 00:11:10 -0500 (Mon, 10 Feb 2025) |
EllapsedTime: 166.2 seconds |
RetCode: 0 |
Status: OK |
CheckDir: MicrobiomeProfiler.Rcheck |
Warnings: 0 |
############################################################################## ############################################################################## ### ### Running command: ### ### /home/biocbuild/bbs-3.21-bioc/R/bin/R CMD check --install=check:MicrobiomeProfiler.install-out.txt --library=/home/biocbuild/bbs-3.21-bioc/R/site-library --timings MicrobiomeProfiler_1.13.0.tar.gz ### ############################################################################## ############################################################################## * using log directory ‘/home/biocbuild/bbs-3.21-bioc/meat/MicrobiomeProfiler.Rcheck’ * using R Under development (unstable) (2025-01-20 r87609) * using platform: x86_64-pc-linux-gnu * R was compiled by gcc (Ubuntu 13.3.0-6ubuntu2~24.04) 13.3.0 GNU Fortran (Ubuntu 13.3.0-6ubuntu2~24.04) 13.3.0 * running under: Ubuntu 24.04.1 LTS * using session charset: UTF-8 * checking for file ‘MicrobiomeProfiler/DESCRIPTION’ ... OK * this is package ‘MicrobiomeProfiler’ version ‘1.13.0’ * package encoding: UTF-8 * checking package namespace information ... OK * checking package dependencies ... OK * checking if this is a source package ... OK * checking if there is a namespace ... OK * checking for hidden files and directories ... OK * checking for portable file names ... OK * checking for sufficient/correct file permissions ... OK * checking whether package ‘MicrobiomeProfiler’ can be installed ... OK * checking installed package size ... OK * checking package directory ... OK * checking ‘build’ directory ... OK * checking DESCRIPTION meta-information ... OK * checking top-level files ... OK * checking for left-over files ... OK * checking index information ... OK * checking package subdirectories ... OK * checking code files for non-ASCII characters ... OK * checking R files for syntax errors ... OK * checking whether the package can be loaded ... OK * checking whether the package can be loaded with stated dependencies ... OK * checking whether the package can be unloaded cleanly ... OK * checking whether the namespace can be loaded with stated dependencies ... OK * checking whether the namespace can be unloaded cleanly ... OK * checking loading without being on the library search path ... OK * checking dependencies in R code ... OK * checking S3 generic/method consistency ... OK * checking replacement functions ... OK * checking foreign function calls ... OK * checking R code for possible problems ... OK * checking Rd files ... OK * checking Rd metadata ... OK * checking Rd cross-references ... OK * checking for missing documentation entries ... OK * checking for code/documentation mismatches ... OK * checking Rd \usage sections ... OK * checking Rd contents ... OK * checking for unstated dependencies in examples ... OK * checking contents of ‘data’ directory ... OK * checking data for non-ASCII characters ... OK * checking data for ASCII and uncompressed saves ... OK * checking R/sysdata.rda ... OK * checking files in ‘vignettes’ ... OK * checking examples ... OK * checking for unstated dependencies in ‘tests’ ... OK * checking tests ... Running ‘testthat.R’ OK * checking for unstated dependencies in vignettes ... OK * checking package vignettes ... OK * checking re-building of vignette outputs ... OK * checking PDF version of manual ... OK * DONE Status: OK
MicrobiomeProfiler.Rcheck/00install.out
############################################################################## ############################################################################## ### ### Running command: ### ### /home/biocbuild/bbs-3.21-bioc/R/bin/R CMD INSTALL MicrobiomeProfiler ### ############################################################################## ############################################################################## * installing to library ‘/home/biocbuild/bbs-3.21-bioc/R/site-library’ * installing *source* package ‘MicrobiomeProfiler’ ... ** this is package ‘MicrobiomeProfiler’ version ‘1.13.0’ ** using staged installation ** R ** data ** inst ** byte-compile and prepare package for lazy loading ** help *** installing help indices ** building package indices ** installing vignettes ** testing if installed package can be loaded from temporary location ** testing if installed package can be loaded from final location ** testing if installed package keeps a record of temporary installation path * DONE (MicrobiomeProfiler)
MicrobiomeProfiler.Rcheck/tests/testthat.Rout
R Under development (unstable) (2025-01-20 r87609) -- "Unsuffered Consequences" Copyright (C) 2025 The R Foundation for Statistical Computing Platform: x86_64-pc-linux-gnu R is free software and comes with ABSOLUTELY NO WARRANTY. You are welcome to redistribute it under certain conditions. Type 'license()' or 'licence()' for distribution details. R is a collaborative project with many contributors. Type 'contributors()' for more information and 'citation()' on how to cite R or R packages in publications. Type 'demo()' for some demos, 'help()' for on-line help, or 'help.start()' for an HTML browser interface to help. Type 'q()' to quit R. > library(testthat) > library(MicrobiomeProfiler) > test_check("MicrobiomeProfiler") --> No gene can be mapped.... --> Expected input gene ID: 1.2.1.89,1.1.3.5,1.1.1.359,2.3.1.61,2.7.9.2,1.2.4.1 --> return NULL... --> No gene can be mapped.... --> Expected input gene ID: COG0031,COG0075,COG0054,COG0008,COG0002,COG0049 --> return NULL... --> No gene can be mapped.... --> Expected input gene ID: 28037,33033,40518,544,216851,39491 --> return NULL... --> No gene can be mapped.... --> Expected input gene ID: PW_C000105,PW_C000071,PW_C000915,PW_C000110,PW_C000914,PW_C000174 --> return NULL... --> No gene can be mapped.... --> Expected input gene ID: C16255,C00668,C01218,C00121,C00029,C00149 --> return NULL... --> No gene can be mapped.... --> Expected input gene ID: HMDB0000119,HMDB0000812,HMDB0001491,HMDB0000595,HMDB0000536,HMDB0000052 --> return NULL... [ FAIL 0 | WARN 0 | SKIP 0 | PASS 12 ] > > > proc.time() user system elapsed 7.825 0.454 8.269
MicrobiomeProfiler.Rcheck/MicrobiomeProfiler-Ex.timings
name | user | system | elapsed | |
Psoriasis_data | 0.001 | 0.000 | 0.002 | |
Rat_data | 0.001 | 0.000 | 0.001 | |
enrichCOG | 0.067 | 0.001 | 0.069 | |
enrichHMDB | 0.040 | 0.001 | 0.041 | |
enrichKO | 0.474 | 0.010 | 0.483 | |
enrichMBKEGG | 0.132 | 0.001 | 0.134 | |
enrichMDA | 0.171 | 0.001 | 0.171 | |
enrichModule | 0.051 | 0.001 | 0.053 | |
enrichSMPDB | 0.125 | 0.000 | 0.126 | |
microbiota_taxlist | 0.000 | 0.001 | 0.001 | |
run_MicrobiomeProfiler | 0.001 | 0.000 | 0.000 | |