Back to Multiple platform build/check report for BioC 3.21:   simplified   long
ABCDEFGHIJKL[M]NOPQRSTUVWXYZ

This page was generated on 2025-02-06 11:39 -0500 (Thu, 06 Feb 2025).

HostnameOSArch (*)R versionInstalled pkgs
nebbiolo1Linux (Ubuntu 24.04.1 LTS)x86_64R Under development (unstable) (2025-01-20 r87609) -- "Unsuffered Consequences" 4719
palomino7Windows Server 2022 Datacenterx64R Under development (unstable) (2025-01-21 r87610 ucrt) -- "Unsuffered Consequences" 4480
lconwaymacOS 12.7.1 Montereyx86_64R Under development (unstable) (2025-01-22 r87618) -- "Unsuffered Consequences" 4491
kjohnson3macOS 13.7.1 Venturaarm64R Under development (unstable) (2025-01-20 r87609) -- "Unsuffered Consequences" 4444
Click on any hostname to see more info about the system (e.g. compilers)      (*) as reported by 'uname -p', except on Windows and Mac OS X

Package 1323/2295HostnameOS / ArchINSTALLBUILDCHECKBUILD BIN
MotifPeeker 0.99.13  (landing page)
Hiranyamaya Dash
Snapshot Date: 2025-02-05 13:48 -0500 (Wed, 05 Feb 2025)
git_url: https://git.bioconductor.org/packages/MotifPeeker
git_branch: devel
git_last_commit: 665ef16
git_last_commit_date: 2025-01-06 06:01:59 -0500 (Mon, 06 Jan 2025)
nebbiolo1Linux (Ubuntu 24.04.1 LTS) / x86_64  OK    OK    OK  UNNEEDED, same version is already published
palomino7Windows Server 2022 Datacenter / x64... NOT SUPPORTED ...
lconwaymacOS 12.7.1 Monterey / x86_64  OK    OK    OK    OK  YES
kjohnson3macOS 13.7.1 Ventura / arm64  OK    OK    OK    OK  YES


CHECK results for MotifPeeker on nebbiolo1

To the developers/maintainers of the MotifPeeker package:
- Allow up to 24 hours (and sometimes 48 hours) for your latest push to git@git.bioconductor.org:packages/MotifPeeker.git to reflect on this report. See Troubleshooting Build Report for more information.
- Use the following Renviron settings to reproduce errors and warnings.
- If 'R CMD check' started to fail recently on the Linux builder(s) over a missing dependency, add the missing dependency to 'Suggests:' in your DESCRIPTION file. See Renviron.bioc for more information.

raw results


Summary

Package: MotifPeeker
Version: 0.99.13
Command: /home/biocbuild/bbs-3.21-bioc/R/bin/R CMD check --install=check:MotifPeeker.install-out.txt --library=/home/biocbuild/bbs-3.21-bioc/R/site-library --timings MotifPeeker_0.99.13.tar.gz
StartedAt: 2025-02-06 00:27:57 -0500 (Thu, 06 Feb 2025)
EndedAt: 2025-02-06 00:33:25 -0500 (Thu, 06 Feb 2025)
EllapsedTime: 328.4 seconds
RetCode: 0
Status:   OK  
CheckDir: MotifPeeker.Rcheck
Warnings: 0

Command output

##############################################################################
##############################################################################
###
### Running command:
###
###   /home/biocbuild/bbs-3.21-bioc/R/bin/R CMD check --install=check:MotifPeeker.install-out.txt --library=/home/biocbuild/bbs-3.21-bioc/R/site-library --timings MotifPeeker_0.99.13.tar.gz
###
##############################################################################
##############################################################################


* using log directory ‘/home/biocbuild/bbs-3.21-bioc/meat/MotifPeeker.Rcheck’
* using R Under development (unstable) (2025-01-20 r87609)
* using platform: x86_64-pc-linux-gnu
* R was compiled by
    gcc (Ubuntu 13.3.0-6ubuntu2~24.04) 13.3.0
    GNU Fortran (Ubuntu 13.3.0-6ubuntu2~24.04) 13.3.0
* running under: Ubuntu 24.04.1 LTS
* using session charset: UTF-8
* checking for file ‘MotifPeeker/DESCRIPTION’ ... OK
* checking extension type ... Package
* this is package ‘MotifPeeker’ version ‘0.99.13’
* package encoding: UTF-8
* checking package namespace information ... OK
* checking package dependencies ... INFO
Imports includes 25 non-default packages.
Importing from so many packages makes the package vulnerable to any of
them becoming unavailable.  Move as many as possible to Suggests and
use conditionally.
* checking if this is a source package ... OK
* checking if there is a namespace ... OK
* checking for hidden files and directories ... OK
* checking for portable file names ... OK
* checking for sufficient/correct file permissions ... OK
* checking whether package ‘MotifPeeker’ can be installed ... OK
* checking installed package size ... OK
* checking package directory ... OK
* checking ‘build’ directory ... OK
* checking DESCRIPTION meta-information ... OK
* checking top-level files ... OK
* checking for left-over files ... OK
* checking index information ... OK
* checking package subdirectories ... OK
* checking code files for non-ASCII characters ... OK
* checking R files for syntax errors ... OK
* checking whether the package can be loaded ... OK
* checking whether the package can be loaded with stated dependencies ... OK
* checking whether the package can be unloaded cleanly ... OK
* checking whether the namespace can be loaded with stated dependencies ... OK
* checking whether the namespace can be unloaded cleanly ... OK
* checking loading without being on the library search path ... OK
* checking dependencies in R code ... OK
* checking S3 generic/method consistency ... OK
* checking replacement functions ... OK
* checking foreign function calls ... OK
* checking R code for possible problems ... OK
* checking Rd files ... OK
* checking Rd metadata ... OK
* checking Rd cross-references ... NOTE
Found the following Rd file(s) with Rd \link{} targets missing package
anchors:
  motif_enrichment.Rd: memes
  plot_motif_comparison.Rd: compare_motifs
Please provide package anchors for all Rd \link{} targets not in the
package itself and the base packages.
* checking for missing documentation entries ... OK
* checking for code/documentation mismatches ... OK
* checking Rd \usage sections ... OK
* checking Rd contents ... OK
* checking for unstated dependencies in examples ... OK
* checking contents of ‘data’ directory ... OK
* checking data for non-ASCII characters ... OK
* checking data for ASCII and uncompressed saves ... OK
* checking files in ‘vignettes’ ... OK
* checking examples ... OK
Examples with CPU (user + system) or elapsed time > 5s
              user system elapsed
check_JASPAR 0.502  0.081   6.939
* checking for unstated dependencies in ‘tests’ ... OK
* checking tests ...
  Running ‘testthat.R’
 OK
* checking for unstated dependencies in vignettes ... OK
* checking package vignettes ... OK
* checking re-building of vignette outputs ... OK
* checking PDF version of manual ... OK
* DONE

Status: 1 NOTE
See
  ‘/home/biocbuild/bbs-3.21-bioc/meat/MotifPeeker.Rcheck/00check.log’
for details.


Installation output

MotifPeeker.Rcheck/00install.out

##############################################################################
##############################################################################
###
### Running command:
###
###   /home/biocbuild/bbs-3.21-bioc/R/bin/R CMD INSTALL MotifPeeker
###
##############################################################################
##############################################################################


* installing to library ‘/home/biocbuild/bbs-3.21-bioc/R/site-library’
* installing *source* package ‘MotifPeeker’ ...
** this is package ‘MotifPeeker’ version ‘0.99.13’
** using staged installation
** R
** data
** inst
** byte-compile and prepare package for lazy loading
** help
*** installing help indices
** building package indices
** installing vignettes
** testing if installed package can be loaded from temporary location
** testing if installed package can be loaded from final location
** testing if installed package keeps a record of temporary installation path
* DONE (MotifPeeker)

Tests output

MotifPeeker.Rcheck/tests/testthat.Rout


R Under development (unstable) (2025-01-20 r87609) -- "Unsuffered Consequences"
Copyright (C) 2025 The R Foundation for Statistical Computing
Platform: x86_64-pc-linux-gnu

R is free software and comes with ABSOLUTELY NO WARRANTY.
You are welcome to redistribute it under certain conditions.
Type 'license()' or 'licence()' for distribution details.

R is a collaborative project with many contributors.
Type 'contributors()' for more information and
'citation()' on how to cite R or R packages in publications.

Type 'demo()' for some demos, 'help()' for on-line help, or
'help.start()' for an HTML browser interface to help.
Type 'q()' to quit R.

> desc_path <- list.files("../","^DESCRIPTION$",
+                         full.names = TRUE, recursive = TRUE)[1]
> pkg <- read.dcf(desc_path, fields = "Package")[1]
> library(testthat)
> library(pkg, character.only = TRUE)
> 
> test_check(pkg)

### Exp2 {- .unlisted}  
**Reference Experiment Label**: Exp1 (Total Reads: 100)  
**Comparison Experiment Label**: Exp2 (Total Reads: 200)  

## Exp2 {- .unlisted .tabset .tabset-fade .tabset-pills}  
**Reference Experiment Label**: Exp1  
**Comparison Experiment Label**: Exp2  
[ FAIL 0 | WARN 0 | SKIP 10 | PASS 63 ]

══ Skipped tests (10) ══════════════════════════════════════════════════════════
• MEME is not installed (8): 'test-MotifPeeker.R:1:1',
  'test-confirm_meme_install.R:1:1', 'test-denovo_motif_funcs.R:1:1',
  'test-enrichment_funcs.R:1:1', 'test-get_df_distances.R:1:1',
  'test-markov_background_model.R:1:1', 'test-motif_enrichment.R:1:1',
  'test-summit_to_motif.R:1:1'
• On CRAN (2): 'test-check_ENCODE.R:1:1', 'test-check_JASPAR.R:1:1'

[ FAIL 0 | WARN 0 | SKIP 10 | PASS 63 ]
> 
> proc.time()
   user  system elapsed 
 18.447   2.061  20.054 

Example timings

MotifPeeker.Rcheck/MotifPeeker-Ex.timings

nameusersystemelapsed
MotifPeeker0.4410.0790.521
bpapply3.5750.2263.803
calc_frip0.4360.3600.550
check_ENCODE0.6650.0953.411
check_JASPAR0.5020.0816.939
check_genome_build0.0210.0260.047
denovo_motifs0.0560.0090.064
find_motifs0.0530.0080.062
format_exptype0.0000.0000.001
get_JASPARCORE0.4110.0643.029
get_df_distances0.0460.0110.056
get_df_enrichment0.0440.0150.059
motif_enrichment0.0510.0180.069
motif_similarity0.0460.0100.056
pipe0.0000.0000.001
pretty_number0.0000.0010.001
read_motif_file0.0080.0010.010
read_peak_file0.1340.0290.164
read_peak_file_macs0.1730.0360.209
report_command0.0010.0000.001
report_header0.0020.0010.003
save_peak_file0.0430.0050.048
segregate_seqs0.1050.0240.129
summit_to_motif0.0500.0050.055
to_plotly0.2130.0380.251
trim_seqs0.0220.0010.023