Back to Multiple platform build/check report for BioC 3.21:   simplified   long
ABCDEFGHIJKL[M]NOPQRSTUVWXYZ

This page was generated on 2025-02-06 11:41 -0500 (Thu, 06 Feb 2025).

HostnameOSArch (*)R versionInstalled pkgs
nebbiolo1Linux (Ubuntu 24.04.1 LTS)x86_64R Under development (unstable) (2025-01-20 r87609) -- "Unsuffered Consequences" 4719
palomino7Windows Server 2022 Datacenterx64R Under development (unstable) (2025-01-21 r87610 ucrt) -- "Unsuffered Consequences" 4480
lconwaymacOS 12.7.1 Montereyx86_64R Under development (unstable) (2025-01-22 r87618) -- "Unsuffered Consequences" 4491
kjohnson3macOS 13.7.1 Venturaarm64R Under development (unstable) (2025-01-20 r87609) -- "Unsuffered Consequences" 4444
Click on any hostname to see more info about the system (e.g. compilers)      (*) as reported by 'uname -p', except on Windows and Mac OS X

Package 1337/2295HostnameOS / ArchINSTALLBUILDCHECKBUILD BIN
MsBackendRawFileReader 1.13.1  (landing page)
Christian Panse
Snapshot Date: 2025-02-05 13:48 -0500 (Wed, 05 Feb 2025)
git_url: https://git.bioconductor.org/packages/MsBackendRawFileReader
git_branch: devel
git_last_commit: d2c3762
git_last_commit_date: 2024-11-07 01:23:44 -0500 (Thu, 07 Nov 2024)
nebbiolo1Linux (Ubuntu 24.04.1 LTS) / x86_64  OK    OK    OK  UNNEEDED, same version is already published
palomino7Windows Server 2022 Datacenter / x64  OK    OK    OK    OK  UNNEEDED, same version is already published
lconwaymacOS 12.7.1 Monterey / x86_64  OK    OK    OK    OK  UNNEEDED, same version is already published
kjohnson3macOS 13.7.1 Ventura / arm64  OK    OK    OK    OK  UNNEEDED, same version is already published


CHECK results for MsBackendRawFileReader on palomino7

To the developers/maintainers of the MsBackendRawFileReader package:
- Allow up to 24 hours (and sometimes 48 hours) for your latest push to git@git.bioconductor.org:packages/MsBackendRawFileReader.git to reflect on this report. See Troubleshooting Build Report for more information.
- Use the following Renviron settings to reproduce errors and warnings.
- If 'R CMD check' started to fail recently on the Linux builder(s) over a missing dependency, add the missing dependency to 'Suggests:' in your DESCRIPTION file. See Renviron.bioc for more information.

raw results


Summary

Package: MsBackendRawFileReader
Version: 1.13.1
Command: E:\biocbuild\bbs-3.21-bioc\R\bin\R.exe CMD check --no-multiarch --install=check:MsBackendRawFileReader.install-out.txt --library=E:\biocbuild\bbs-3.21-bioc\R\library --no-vignettes --timings MsBackendRawFileReader_1.13.1.tar.gz
StartedAt: 2025-02-06 03:46:52 -0500 (Thu, 06 Feb 2025)
EndedAt: 2025-02-06 03:52:49 -0500 (Thu, 06 Feb 2025)
EllapsedTime: 357.9 seconds
RetCode: 0
Status:   OK  
CheckDir: MsBackendRawFileReader.Rcheck
Warnings: 0

Command output

##############################################################################
##############################################################################
###
### Running command:
###
###   E:\biocbuild\bbs-3.21-bioc\R\bin\R.exe CMD check --no-multiarch --install=check:MsBackendRawFileReader.install-out.txt --library=E:\biocbuild\bbs-3.21-bioc\R\library --no-vignettes --timings MsBackendRawFileReader_1.13.1.tar.gz
###
##############################################################################
##############################################################################


* using log directory 'E:/biocbuild/bbs-3.21-bioc/meat/MsBackendRawFileReader.Rcheck'
* using R Under development (unstable) (2025-01-21 r87610 ucrt)
* using platform: x86_64-w64-mingw32
* R was compiled by
    gcc.exe (GCC) 13.3.0
    GNU Fortran (GCC) 13.3.0
* running under: Windows Server 2022 x64 (build 20348)
* using session charset: UTF-8
* using option '--no-vignettes'
* checking for file 'MsBackendRawFileReader/DESCRIPTION' ... OK
* checking extension type ... Package
* this is package 'MsBackendRawFileReader' version '1.13.1'
* package encoding: UTF-8
* checking package namespace information ... OK
* checking package dependencies ... OK
* checking if this is a source package ... OK
* checking if there is a namespace ... OK
* checking for hidden files and directories ... OK
* checking for portable file names ... OK
* checking whether package 'MsBackendRawFileReader' can be installed ... OK
* checking installed package size ... OK
* checking package directory ... OK
* checking 'build' directory ... OK
* checking DESCRIPTION meta-information ... OK
* checking top-level files ... OK
* checking for left-over files ... OK
* checking index information ... OK
* checking package subdirectories ... OK
* checking code files for non-ASCII characters ... OK
* checking R files for syntax errors ... OK
* checking whether the package can be loaded ... OK
* checking whether the package can be loaded with stated dependencies ... OK
* checking whether the package can be unloaded cleanly ... OK
* checking whether the namespace can be loaded with stated dependencies ... OK
* checking whether the namespace can be unloaded cleanly ... OK
* checking whether startup messages can be suppressed ... OK
* checking dependencies in R code ... OK
* checking S3 generic/method consistency ... OK
* checking replacement functions ... OK
* checking foreign function calls ... OK
* checking R code for possible problems ... OK
* checking Rd files ... OK
* checking Rd metadata ... OK
* checking Rd cross-references ... OK
* checking for missing documentation entries ... OK
* checking for code/documentation mismatches ... OK
* checking Rd \usage sections ... OK
* checking Rd contents ... OK
* checking for unstated dependencies in examples ... OK
* checking files in 'vignettes' ... OK
* checking examples ... OK
Examples with CPU (user + system) or elapsed time > 5s
                             user system elapsed
ioBenchmark                  9.27   1.90   52.05
MsBackendRawFileReader       1.11   0.05   39.42
MsBackendRawFileReader-class 0.88   0.04   12.44
hidden_aliases               0.28   0.02   11.70
* checking for unstated dependencies in 'tests' ... OK
* checking tests ...
  Running 'testthat.R'
 OK
* checking for unstated dependencies in vignettes ... OK
* checking package vignettes ... OK
* checking running R code from vignettes ... SKIPPED
* checking re-building of vignette outputs ... SKIPPED
* checking PDF version of manual ... OK
* DONE

Status: OK


Installation output

MsBackendRawFileReader.Rcheck/00install.out

##############################################################################
##############################################################################
###
### Running command:
###
###   E:\biocbuild\bbs-3.21-bioc\R\bin\R.exe CMD INSTALL MsBackendRawFileReader
###
##############################################################################
##############################################################################


* installing to library 'E:/biocbuild/bbs-3.21-bioc/R/library'
* installing *source* package 'MsBackendRawFileReader' ...
** this is package 'MsBackendRawFileReader' version '1.13.1'
** using staged installation
** R
** inst
** byte-compile and prepare package for lazy loading
** help
*** installing help indices
** building package indices
** installing vignettes
** testing if installed package can be loaded from temporary location
** testing if installed package can be loaded from final location
** testing if installed package keeps a record of temporary installation path
* DONE (MsBackendRawFileReader)

Tests output

MsBackendRawFileReader.Rcheck/tests/testthat.Rout


R Under development (unstable) (2025-01-21 r87610 ucrt) -- "Unsuffered Consequences"
Copyright (C) 2025 The R Foundation for Statistical Computing
Platform: x86_64-w64-mingw32/x64

R is free software and comes with ABSOLUTELY NO WARRANTY.
You are welcome to redistribute it under certain conditions.
Type 'license()' or 'licence()' for distribution details.

R is a collaborative project with many contributors.
Type 'contributors()' for more information and
'citation()' on how to cite R or R packages in publications.

Type 'demo()' for some demos, 'help()' for on-line help, or
'help.start()' for an HTML browser interface to help.
Type 'q()' to quit R.

> library("testthat")
> library("MsBackendRawFileReader")
Loading required package: Spectra
Loading required package: S4Vectors
Loading required package: stats4
Loading required package: BiocGenerics
Loading required package: generics

Attaching package: 'generics'

The following objects are masked from 'package:base':

    as.difftime, as.factor, as.ordered, intersect, is.element, setdiff,
    setequal, union


Attaching package: 'BiocGenerics'

The following objects are masked from 'package:stats':

    IQR, mad, sd, var, xtabs

The following objects are masked from 'package:base':

    Filter, Find, Map, Position, Reduce, anyDuplicated, aperm, append,
    as.data.frame, basename, cbind, colnames, dirname, do.call,
    duplicated, eval, evalq, get, grep, grepl, is.unsorted, lapply,
    mapply, match, mget, order, paste, pmax, pmax.int, pmin, pmin.int,
    rank, rbind, rownames, sapply, saveRDS, table, tapply, unique,
    unsplit, which.max, which.min


Attaching package: 'S4Vectors'

The following object is masked from 'package:utils':

    findMatches

The following objects are masked from 'package:base':

    I, expand.grid, unname

Loading required package: BiocParallel
> library("Spectra")
> 
> 
> sample_raw_file <- file.path(system.file(package = "rawrr"),
+                                 'extdata', 'sample.raw')
> 
> sample_mzXML_file <- file.path(path.package(package = 'MsBackendRawFileReader'),
+                                 'extdata', 'sample.mzXML')
> 
> 
> sample_raw <-  backendInitialize(MsBackendRawFileReader::MsBackendRawFileReader(), files = sample_raw_file)
> 
> 
> #sample_mzr <-  backendInitialize(MsBackendMzR(), files = sample_mzXML_file)
> 
> 
> mgf_file <- file.path(system.file(package = "MsBackendRawFileReader"),
+                              'extdata', '3159619b11ed_4590_9594.mgf')
> 
> 
> rv <- lapply(1:2, function(x){
+   file.copy(from = sample_raw_file, to = tempfile(fileext='.raw'))})
> 
> 
> register(SnowParam(workers = 1, type = "SOCK") , default = TRUE); 
> sample_raw_2 <- backendInitialize(MsBackendRawFileReader(),
+     files = file.path(tempdir(),
+          list.files(path = tempdir(), pattern = 'raw$')))
> 
> 
> test_check("MsBackendRawFileReader")
[ FAIL 0 | WARN 1 | SKIP 2 | PASS 21 ]

══ Skipped tests (2) ═══════════════════════════════════════════════════════════
• isFALSE(file.exists(sample_mzXML_file)) is TRUE (1):
  'test_MsBackendMzR_MsBackendRawFileReader.R:1:1'
• isFALSE(require(MsBackendRawMgf)) is TRUE (1): 'test_top_n_mgf.R:1:1'

[ FAIL 0 | WARN 1 | SKIP 2 | PASS 21 ]
> 
> 
> be <- Spectra::backendInitialize(MsBackendRawFileReader::MsBackendRawFileReader(),
+                                  files = c(sample_raw_file))
> 
> ## Run the MsBackend spectra variable test suite
> 
> test_suite <- system.file("test_backends", "test_MsBackend",
+                           package = "Spectra")
> 
> #res <- test_file(paste0(test_suite, "/test_spectra_variables.R"),
> #                 reporter = check_reporter(), stop_on_failure = TRUE)
> 
> 
> ## Run the whole suite.
> res <- test_dir(test_suite, stop_on_failure = TRUE)
✔ | F W  S  OK | Context

⠏ |          0 | peaks_variables                                                
⠙ |          2 | peaks_variables                                                
⠸ |          4 | peaks_variables                                                
✔ |          4 | peaks_variables [6.0s]

⠏ |          0 | spectra_subsetting                                             
⠋ |          1 | spectra_subsetting                                             
⠹ |         13 | spectra_subsetting                                             
⠙ |         22 | spectra_subsetting                                             
⠇ |         29 | spectra_subsetting                                             
⠏ |         40 | spectra_subsetting                                             
⠏ |         50 | spectra_subsetting                                             
⠸ |         64 | spectra_subsetting                                             
⠇ |         79 | spectra_subsetting                                             
⠇ |         89 | spectra_subsetting                                             
⠦ |         97 | spectra_subsetting                                             
⠴ |        106 | spectra_subsetting                                             
⠧ |        118 | spectra_subsetting                                             
⠏ |        130 | spectra_subsetting                                             
⠇ |        139 | spectra_subsetting                                             
⠧ |        148 | spectra_subsetting                                             
⠏ |        160 | spectra_subsetting                                             
⠇ |        169 | spectra_subsetting                                             
⠦ |        177 | spectra_subsetting                                             
⠏ |        190 | spectra_subsetting                                             
⠹ |        203 | spectra_subsetting                                             
⠋ |        211 | spectra_subsetting                                             
⠏ |        220 | spectra_subsetting                                             
⠙ |        232 | spectra_subsetting                                             
⠋ |        241 | spectra_subsetting                                             
⠏ |        250 | spectra_subsetting                                             
⠇ |        259 | spectra_subsetting                                             
⠸ |        274 | spectra_subsetting                                             
⠴ |        286 | spectra_subsetting                                             
⠼ |        295 | spectra_subsetting                                             
⠸ |        304 | spectra_subsetting                                             
⠇ |        319 | spectra_subsetting                                             
⠙ |        332 | spectra_subsetting                                             
⠴ |        346 | spectra_subsetting                                             
⠼ |        355 | spectra_subsetting                                             
⠸ |        364 | spectra_subsetting                                             
⠇ |        379 | spectra_subsetting                                             
⠙ |        392 | spectra_subsetting                                             
⠇ |        409 | spectra_subsetting                                             
⠙ |        422 | spectra_subsetting                                             
⠏ |        430 | spectra_subsetting                                             
⠏ |        440 | spectra_subsetting                                             
⠋ |        451 | spectra_subsetting                                             
⠏ |        460 | spectra_subsetting                                             
⠇ |        469 | spectra_subsetting                                             
⠧ |        478 | spectra_subsetting                                             
⠦ |        487 | spectra_subsetting                                             
⠴ |        496 | spectra_subsetting                                             
⠼ |        505 | spectra_subsetting                                             
⠼ |        515 | spectra_subsetting                                             
⠴ |        526 | spectra_subsetting                                             
⠋ |        541 | spectra_subsetting                                             
⠴ |        556 | spectra_subsetting                                             
⠧ |        568 | spectra_subsetting                                             
⠏ |        580 | spectra_subsetting                                             
⠙ |        592 | spectra_subsetting                                             
⠋ |        601 | spectra_subsetting                                             
⠏ |        610 | spectra_subsetting                                             
⠇ |        619 | spectra_subsetting                                             
⠋ |        631 | spectra_subsetting                                             
⠴ |        646 | spectra_subsetting                                             
⠼ |        655 | spectra_subsetting                                             
⠸ |        664 | spectra_subsetting                                             
⠴ |        676 | spectra_subsetting                                             
⠼ |        685 | spectra_subsetting                                             
⠸ |        694 | spectra_subsetting                                             
⠸ |        704 | spectra_subsetting                                             
⠼ |        715 | spectra_subsetting                                             
⠇ |        729 | spectra_subsetting                                             
⠙ |        742 | spectra_subsetting                                             
⠋ |        751 | spectra_subsetting                                             
⠏ |        760 | spectra_subsetting                                             
⠇ |        769 | spectra_subsetting                                             
⠧ |        778 | spectra_subsetting                                             
⠦ |        787 | spectra_subsetting                                             
⠴ |        796 | spectra_subsetting                                             
⠼ |        805 | spectra_subsetting                                             
⠸ |        814 | spectra_subsetting                                             
⠹ |        823 | spectra_subsetting                                             
⠼ |        835 | spectra_subsetting                                             
⠙ |        842 | spectra_subsetting                                             
⠹ |        853 | spectra_subsetting                                             
⠙ |        862 | spectra_subsetting                                             
⠸ |        874 | spectra_subsetting                                             
⠦ |        887 | spectra_subsetting                                             
⠧ |        898 | spectra_subsetting                                             
⠏ |        910 | spectra_subsetting                                             
⠙ |        922 | spectra_subsetting                                             
⠸ |        934 | spectra_subsetting                                             
⠹ |        943 | spectra_subsetting                                             
⠏ |        950 | spectra_subsetting                                             
⠋ |        961 | spectra_subsetting                                             
⠹ |        973 | spectra_subsetting                                             
⠼ |        985 | spectra_subsetting                                             
⠦ |        997 | spectra_subsetting                                             
⠇ |        1009 | spectra_subsetting                                            
⠧ |        1018 | spectra_subsetting                                            
⠦ |        1027 | spectra_subsetting                                            
⠴ |        1036 | spectra_subsetting                                            
⠼ |        1045 | spectra_subsetting                                            
⠼ |        1055 | spectra_subsetting                                            
⠹ |        1063 | spectra_subsetting                                            
⠙ |        1072 | spectra_subsetting                                            
⠋ |        1081 | spectra_subsetting                                            
⠏ |        1090 | spectra_subsetting                                            
⠇ |        1099 | spectra_subsetting                                            
⠧ |        1108 | spectra_subsetting                                            
⠧ |        1118 | spectra_subsetting                                            
⠦ |        1127 | spectra_subsetting                                            
⠼ |        1135 | spectra_subsetting                                            
⠦ |        1147 | spectra_subsetting                                            
⠙ |        1162 | spectra_subsetting                                            
⠙ |        1172 | spectra_subsetting                                            
⠋ |        1181 | spectra_subsetting                                            
⠙ |        1192 | spectra_subsetting                                            
⠦ |        1207 | spectra_subsetting                                            
⠇ |        1219 | spectra_subsetting                                            
⠋ |        1231 | spectra_subsetting                                            
⠹ |        1243 | spectra_subsetting                                            
⠼ |        1255 | spectra_subsetting                                            
⠏ |        1270 | spectra_subsetting                                            
⠙ |        1282 | spectra_subsetting                                            
⠦ |        1297 | spectra_subsetting                                            
⠇ |        1309 | spectra_subsetting                                            
⠙ |        1322 | spectra_subsetting                                            
⠹ |        1333 | spectra_subsetting                                            
⠼ |        1345 | spectra_subsetting                                            
⠸ |        1354 | spectra_subsetting                                            
⠹ |        1363 | spectra_subsetting                                            
⠙ |        1372 | spectra_subsetting                                            
⠋ |        1381 | spectra_subsetting                                            
⠏ |        1390 | spectra_subsetting                                            
⠼ |        1405 | spectra_subsetting                                            
⠦ |        1417 | spectra_subsetting                                            
⠴ |        1426 | spectra_subsetting                                            
⠧ |        1438 | spectra_subsetting                                            
⠏ |        1450 | spectra_subsetting                                            
⠙ |        1462 | spectra_subsetting                                            
⠙ |        1472 | spectra_subsetting                                            
⠹ |        1483 | spectra_subsetting                                            
⠼ |        1495 | spectra_subsetting                                            
⠧ |        1508 | spectra_subsetting                                            
⠦ |        1517 | spectra_subsetting                                            
⠦ |        1527 | spectra_subsetting                                            
⠸ |        1534 | spectra_subsetting                                            
⠹ |        1543 | spectra_subsetting                                            
⠼ |        1555 | spectra_subsetting                                            
⠦ |        1567 | spectra_subsetting                                            
⠦ |        1577 | spectra_subsetting                                            
⠇ |        1589 | spectra_subsetting                                            
⠹ |        1603 | spectra_subsetting                                            
⠹ |        1613 | spectra_subsetting                                            
⠙ |        1622 | spectra_subsetting                                            
⠹ |        1633 | spectra_subsetting                                            
⠼ |        1645 | spectra_subsetting                                            
⠸ |        1654 | spectra_subsetting                                            
⠹ |        1663 | spectra_subsetting                                            
⠙ |        1672 | spectra_subsetting                                            
⠋ |        1681 | spectra_subsetting                                            
⠋ |        1691 | spectra_subsetting                                            
⠏ |        1700 | spectra_subsetting                                            
⠧ |        1708 | spectra_subsetting                                            
⠦ |        1717 | spectra_subsetting                                            
⠼ |        1725 | spectra_subsetting                                            
⠦ |        1727 | spectra_subsetting                                            
⠇ |        1729 | spectra_subsetting                                            
⠙ |        1732 | spectra_subsetting                                            
⠸ |        1734 | spectra_subsetting                                            
⠦ |        1737 | spectra_subsetting                                            
⠏ |        1740 | spectra_subsetting                                            
⠙ |        1742 | spectra_subsetting                                            
⠸ |        1744 | spectra_subsetting                                            
⠴ |        1746 | spectra_subsetting                                            
⠧ |        1748 | spectra_subsetting                                            
⠏ |        1750 | spectra_subsetting                                            
⠙ |        1752 | spectra_subsetting                                            
⠸ |        1754 | spectra_subsetting                                            
⠦ |        1757 | spectra_subsetting                                            
⠇ |        1759 | spectra_subsetting                                            
⠋ |        1761 | spectra_subsetting                                            
⠹ |        1763 | spectra_subsetting                                            
⠼ |        1765 | spectra_subsetting                                            
⠦ |        1767 | spectra_subsetting                                            
⠏ |        1770 | spectra_subsetting                                            
⠙ |        1772 | spectra_subsetting                                            
⠸ |        1774 | spectra_subsetting                                            
⠴ |        1776 | spectra_subsetting                                            
⠧ |        1778 | spectra_subsetting                                            
⠏ |        1780 | spectra_subsetting                                            
⠹ |        1783 | spectra_subsetting                                            
⠼ |        1785 | spectra_subsetting                                            
⠦ |        1787 | spectra_subsetting                                            
⠇ |        1789 | spectra_subsetting                                            
⠋ |        1791 | spectra_subsetting                                            
⠹ |        1793 | spectra_subsetting                                            
⠼ |        1795 | spectra_subsetting                                            
⠦ |        1797 | spectra_subsetting                                            
⠇ |        1799 | spectra_subsetting                                            
⠋ |        1801 | spectra_subsetting                                            
⠹ |        1803 | spectra_subsetting                                            
⠼ |        1805 | spectra_subsetting                                            
⠦ |        1807 | spectra_subsetting                                            
⠇ |        1809 | spectra_subsetting                                            
⠋ |        1811 | spectra_subsetting                                            
⠹ |        1813 | spectra_subsetting                                            
⠼ |        1815 | spectra_subsetting                                            
⠦ |        1817 | spectra_subsetting                                            
⠇ |        1819 | spectra_subsetting                                            
⠋ |        1821 | spectra_subsetting                                            
⠹ |        1823 | spectra_subsetting                                            
⠼ |        1825 | spectra_subsetting                                            
⠦ |        1827 | spectra_subsetting                                            
⠇ |        1829 | spectra_subsetting                                            
⠋ |        1831 | spectra_subsetting                                            
⠹ |        1833 | spectra_subsetting                                            
⠼ |        1835 | spectra_subsetting                                            
⠦ |        1837 | spectra_subsetting                                            
⠇ |        1839 | spectra_subsetting                                            
⠋ |        1841 | spectra_subsetting                                            
⠹ |        1843 | spectra_subsetting                                            
⠼ |        1845 | spectra_subsetting                                            
⠦ |        1847 | spectra_subsetting                                            
⠇ |        1849 | spectra_subsetting                                            
⠋ |        1851 | spectra_subsetting                                            
⠹ |        1853 | spectra_subsetting                                            
⠼ |        1855 | spectra_subsetting                                            
⠦ |        1857 | spectra_subsetting                                            
⠇ |        1859 | spectra_subsetting                                            
⠋ |        1861 | spectra_subsetting                                            
⠹ |        1863 | spectra_subsetting                                            
⠼ |        1865 | spectra_subsetting                                            
⠦ |        1867 | spectra_subsetting                                            
⠏ |        1870 | spectra_subsetting                                            
⠙ |        1872 | spectra_subsetting                                            
⠼ |        1875 | spectra_subsetting                                            
⠦ |        1877 | spectra_subsetting                                            
⠇ |        1879 | spectra_subsetting                                            
⠋ |        1881 | spectra_subsetting                                            
⠹ |        1883 | spectra_subsetting                                            
⠼ |        1885 | spectra_subsetting                                            
⠦ |        1887 | spectra_subsetting                                            
⠇ |        1889 | spectra_subsetting                                            
⠙ |        1892 | spectra_subsetting                                            
⠸ |        1894 | spectra_subsetting                                            
⠦ |        1897 | spectra_subsetting                                            
⠇ |        1899 | spectra_subsetting                                            
⠙ |        1902 | spectra_subsetting                                            
⠸ |        1904 | spectra_subsetting                                            
⠴ |        1906 | spectra_subsetting                                            
⠧ |        1908 | spectra_subsetting                                            
⠏ |        1910 | spectra_subsetting                                            
⠙ |        1912 | spectra_subsetting                                            
⠸ |        1914 | spectra_subsetting                                            
⠦ |        1917 | spectra_subsetting                                            
⠇ |        1919 | spectra_subsetting                                            
⠋ |        1921 | spectra_subsetting                                            
⠹ |        1923 | spectra_subsetting                                            
⠼ |        1925 | spectra_subsetting                                            
⠦ |        1927 | spectra_subsetting                                            
⠇ |        1929 | spectra_subsetting                                            
⠋ |        1931 | spectra_subsetting                                            
⠹ |        1933 | spectra_subsetting                                            
⠼ |        1935 | spectra_subsetting                                            
⠦ |        1937 | spectra_subsetting                                            
⠇ |        1939 | spectra_subsetting                                            
⠋ |        1941 | spectra_subsetting                                            
⠹ |        1943 | spectra_subsetting                                            
⠼ |        1945 | spectra_subsetting                                            
⠦ |        1947 | spectra_subsetting                                            
⠇ |        1949 | spectra_subsetting                                            
⠋ |        1951 | spectra_subsetting                                            
⠹ |        1953 | spectra_subsetting                                            
⠼ |        1955 | spectra_subsetting                                            
⠦ |        1957 | spectra_subsetting                                            
⠇ |        1959 | spectra_subsetting                                            
⠋ |        1961 | spectra_subsetting                                            
⠹ |        1963 | spectra_subsetting                                            
⠼ |        1965 | spectra_subsetting                                            
⠦ |        1967 | spectra_subsetting                                            
⠇ |        1969 | spectra_subsetting                                            
⠋ |        1971 | spectra_subsetting                                            
⠹ |        1973 | spectra_subsetting                                            
⠼ |        1975 | spectra_subsetting                                            
⠦ |        1977 | spectra_subsetting                                            
⠇ |        1979 | spectra_subsetting                                            
⠋ |        1981 | spectra_subsetting                                            
⠹ |        1983 | spectra_subsetting                                            
⠴ |        1986 | spectra_subsetting                                            
⠧ |        1988 | spectra_subsetting                                            
⠇ |        1989 | spectra_subsetting                                            
⠋ |        1991 | spectra_subsetting                                            
⠹ |        1993 | spectra_subsetting                                            
⠼ |        1995 | spectra_subsetting                                            
⠧ |        1998 | spectra_subsetting                                            
⠏ |        2000 | spectra_subsetting                                            
⠙ |        2002 | spectra_subsetting                                            
⠸ |        2004 | spectra_subsetting                                            
⠴ |        2006 | spectra_subsetting                                            
⠇ |        2009 | spectra_subsetting                                            
⠋ |        2011 | spectra_subsetting                                            
⠹ |        2013 | spectra_subsetting                                            
⠼ |        2015 | spectra_subsetting                                            
⠴ |        2016 | spectra_subsetting                                            
⠧ |        2018 | spectra_subsetting                                            
⠏ |        2020 | spectra_subsetting                                            
⠙ |        2022 | spectra_subsetting                                            
⠸ |        2024 | spectra_subsetting                                            
⠴ |        2026 | spectra_subsetting                                            
⠧ |        2028 | spectra_subsetting                                            
⠏ |        2030 | spectra_subsetting                                            
⠹ |        2033 | spectra_subsetting                                            
⠼ |        2035 | spectra_subsetting                                            
⠦ |        2037 | spectra_subsetting                                            
⠇ |        2039 | spectra_subsetting                                            
⠋ |        2041 | spectra_subsetting                                            
⠹ |        2043 | spectra_subsetting                                            
⠼ |        2045 | spectra_subsetting                                            
⠦ |        2047 | spectra_subsetting                                            
⠇ |        2049 | spectra_subsetting                                            
⠋ |        2051 | spectra_subsetting                                            
⠹ |        2053 | spectra_subsetting                                            
⠼ |        2055 | spectra_subsetting                                            
⠦ |        2057 | spectra_subsetting                                            
⠇ |        2059 | spectra_subsetting                                            
⠋ |        2061 | spectra_subsetting                                            
⠹ |        2063 | spectra_subsetting                                            
⠼ |        2065 | spectra_subsetting                                            
⠦ |        2067 | spectra_subsetting                                            
⠇ |        2069 | spectra_subsetting                                            
⠋ |        2071 | spectra_subsetting                                            
⠹ |        2073 | spectra_subsetting                                            
⠼ |        2075 | spectra_subsetting                                            
⠦ |        2077 | spectra_subsetting                                            
⠇ |        2079 | spectra_subsetting                                            
⠋ |        2081 | spectra_subsetting                                            
⠹ |        2083 | spectra_subsetting                                            
⠼ |        2085 | spectra_subsetting                                            
⠦ |        2087 | spectra_subsetting                                            
⠇ |        2089 | spectra_subsetting                                            
⠋ |        2091 | spectra_subsetting                                            
⠹ |        2093 | spectra_subsetting                                            
⠼ |        2095 | spectra_subsetting                                            
⠦ |        2097 | spectra_subsetting                                            
⠇ |        2099 | spectra_subsetting                                            
⠋ |        2101 | spectra_subsetting                                            
⠹ |        2103 | spectra_subsetting                                            
⠼ |        2105 | spectra_subsetting                                            
⠦ |        2107 | spectra_subsetting                                            
⠇ |        2109 | spectra_subsetting                                            
⠋ |        2111 | spectra_subsetting                                            
⠸ |        2114 | spectra_subsetting                                            
⠴ |        2116 | spectra_subsetting                                            
⠇ |        2119 | spectra_subsetting                                            
⠋ |        2121 | spectra_subsetting                                            
⠹ |        2123 | spectra_subsetting                                            
⠴ |        2126 | spectra_subsetting                                            
⠧ |        2128 | spectra_subsetting                                            
⠏ |        2130 | spectra_subsetting                                            
⠙ |        2132 | spectra_subsetting                                            
⠼ |        2135 | spectra_subsetting                                            
⠦ |        2137 | spectra_subsetting                                            
⠏ |        2140 | spectra_subsetting                                            
⠙ |        2142 | spectra_subsetting                                            
⠸ |        2144 | spectra_subsetting                                            
⠴ |        2146 | spectra_subsetting                                            
⠧ |        2148 | spectra_subsetting                                            
⠏ |        2150 | spectra_subsetting                                            
⠹ |        2153 | spectra_subsetting                                            
⠼ |        2155 | spectra_subsetting                                            
⠦ |        2157 | spectra_subsetting                                            
⠧ |        2158 | spectra_subsetting                                            
⠏ |        2160 | spectra_subsetting                                            
⠋ |        2161 | spectra_subsetting                                            
⠹ |        2163 | spectra_subsetting                                            
⠼ |        2165 | spectra_subsetting                                            
⠦ |        2167 | spectra_subsetting                                            
⠇ |        2169 | spectra_subsetting                                            
⠋ |        2171 | spectra_subsetting                                            
⠹ |        2173 | spectra_subsetting                                            
⠼ |        2175 | spectra_subsetting                                            
⠦ |        2177 | spectra_subsetting                                            
⠇ |        2179 | spectra_subsetting                                            
⠋ |        2181 | spectra_subsetting                                            
⠹ |        2183 | spectra_subsetting                                            
⠼ |        2185 | spectra_subsetting                                            
⠧ |        2188 | spectra_subsetting                                            
⠏ |        2190 | spectra_subsetting                                            
⠙ |        2192 | spectra_subsetting                                            
⠸ |        2194 | spectra_subsetting                                            
⠴ |        2196 | spectra_subsetting                                            
⠧ |        2198 | spectra_subsetting                                            
⠏ |        2200 | spectra_subsetting                                            
⠙ |        2202 | spectra_subsetting                                            
⠸ |        2204 | spectra_subsetting                                            
⠴ |        2206 | spectra_subsetting                                            
⠧ |        2208 | spectra_subsetting                                            
⠋ |        2211 | spectra_subsetting                                            
⠹ |        2213 | spectra_subsetting                                            
⠼ |        2215 | spectra_subsetting                                            
⠦ |        2217 | spectra_subsetting                                            
⠇ |        2219 | spectra_subsetting                                            
⠋ |        2221 | spectra_subsetting                                            
⠸ |        2224 | spectra_subsetting                                            
⠴ |        2226 | spectra_subsetting                                            
⠧ |        2228 | spectra_subsetting                                            
⠏ |        2230 | spectra_subsetting                                            
⠙ |        2232 | spectra_subsetting                                            
⠸ |        2234 | spectra_subsetting                                            
⠴ |        2236 | spectra_subsetting                                            
⠧ |        2238 | spectra_subsetting                                            
⠏ |        2240 | spectra_subsetting                                            
⠙ |        2242 | spectra_subsetting                                            
⠸ |        2244 | spectra_subsetting                                            
⠴ |        2246 | spectra_subsetting                                            
⠧ |        2248 | spectra_subsetting                                            
⠏ |        2250 | spectra_subsetting                                            
⠙ |        2252 | spectra_subsetting                                            
⠸ |        2254 | spectra_subsetting                                            
⠴ |        2256 | spectra_subsetting                                            
⠧ |        2258 | spectra_subsetting                                            
⠋ |        2261 | spectra_subsetting                                            
⠹ |        2263 | spectra_subsetting                                            
⠼ |        2265 | spectra_subsetting                                            
⠦ |        2267 | spectra_subsetting                                            
⠇ |        2269 | spectra_subsetting                                            
⠋ |        2271 | spectra_subsetting                                            
⠹ |        2273 | spectra_subsetting                                            
⠼ |        2275 | spectra_subsetting                                            
⠦ |        2277 | spectra_subsetting                                            
⠇ |        2279 | spectra_subsetting                                            
⠋ |        2281 | spectra_subsetting                                            
⠹ |        2283 | spectra_subsetting                                            
⠴ |        2286 | spectra_subsetting                                            
⠇ |        2289 | spectra_subsetting                                            
⠋ |        2291 | spectra_subsetting                                            
⠹ |        2293 | spectra_subsetting                                            
⠼ |        2295 | spectra_subsetting                                            
⠦ |        2297 | spectra_subsetting                                            
⠇ |        2299 | spectra_subsetting                                            
⠹ |        2303 | spectra_subsetting                                            
⠇ |        2309 | spectra_subsetting                                            
⠹ |        2313 | spectra_subsetting                                            
⠇ |        2319 | spectra_subsetting                                            
⠴ |        2326 | spectra_subsetting                                            
⠇ |        2329 | spectra_subsetting                                            
⠸ |        2334 | spectra_subsetting                                            
✔ |        2334 | spectra_subsetting [58.9s]

⠏ |          0 | spectra_variables                                              
⠙ |         12 | spectra_variables                                              
⠸ |         14 | spectra_variables                                              
⠴ |         16 | spectra_variables                                              
⠦ |         27 | spectra_variables                                              
⠇ |         29 | spectra_variables                                              
⠋ |         31 | spectra_variables                                              
⠹ |         43 | spectra_variables                                              
⠋ |      1  60 | spectra_variables                                              
✔ |      1  62 | spectra_variables [21.2s]

══ Results ═════════════════════════════════════════════════════════════════════
Duration: 86.1 s

── Skipped tests (1) ───────────────────────────────────────────────────────────
• empty test (1): 'test_spectra_variables.R:262:1'

[ FAIL 0 | WARN 0 | SKIP 1 | PASS 2400 ]
> 
> proc.time()
   user  system elapsed 
  73.59    4.84  149.79 

Example timings

MsBackendRawFileReader.Rcheck/MsBackendRawFileReader-Ex.timings

nameusersystemelapsed
MsBackendRawFileReader-class 0.88 0.0412.44
MsBackendRawFileReader 1.11 0.0539.42
hidden_aliases 0.28 0.0211.70
ioBenchmark 9.27 1.9052.05