Back to Multiple platform build/check report for BioC 3.21:   simplified   long
ABCDEFGHIJKL[M]NOPQRSTUVWXYZ

This page was generated on 2025-02-04 11:43 -0500 (Tue, 04 Feb 2025).

HostnameOSArch (*)R versionInstalled pkgs
nebbiolo1Linux (Ubuntu 24.04.1 LTS)x86_64R Under development (unstable) (2025-01-20 r87609) -- "Unsuffered Consequences" 4716
palomino7Windows Server 2022 Datacenterx64R Under development (unstable) (2025-01-21 r87610 ucrt) -- "Unsuffered Consequences" 4478
lconwaymacOS 12.7.1 Montereyx86_64R Under development (unstable) (2025-01-22 r87618) -- "Unsuffered Consequences" 4489
kjohnson3macOS 13.7.1 Venturaarm64R Under development (unstable) (2025-01-20 r87609) -- "Unsuffered Consequences" 4442
Click on any hostname to see more info about the system (e.g. compilers)      (*) as reported by 'uname -p', except on Windows and Mac OS X

Package 1377/2295HostnameOS / ArchINSTALLBUILDCHECKBUILD BIN
MultiRNAflow 1.5.0  (landing page)
Rodolphe Loubaton
Snapshot Date: 2025-02-03 13:40 -0500 (Mon, 03 Feb 2025)
git_url: https://git.bioconductor.org/packages/MultiRNAflow
git_branch: devel
git_last_commit: 63c2461
git_last_commit_date: 2024-10-29 11:23:15 -0500 (Tue, 29 Oct 2024)
nebbiolo1Linux (Ubuntu 24.04.1 LTS) / x86_64  OK    OK    OK  UNNEEDED, same version is already published
palomino7Windows Server 2022 Datacenter / x64  OK    OK    OK    OK  NO, package depends on 'DESeq2' which is only available as a source package that needs compilation
lconwaymacOS 12.7.1 Monterey / x86_64  OK    OK    OK    OK  NO, package depends on 'DESeq2' which is only available as a source package that needs compilation
kjohnson3macOS 13.7.1 Ventura / arm64  OK    OK    OK    OK  NO, package depends on 'DESeq2' which is only available as a source package that needs compilation


CHECK results for MultiRNAflow on lconway

To the developers/maintainers of the MultiRNAflow package:
- Allow up to 24 hours (and sometimes 48 hours) for your latest push to git@git.bioconductor.org:packages/MultiRNAflow.git to reflect on this report. See Troubleshooting Build Report for more information.
- Use the following Renviron settings to reproduce errors and warnings.
- If 'R CMD check' started to fail recently on the Linux builder(s) over a missing dependency, add the missing dependency to 'Suggests:' in your DESCRIPTION file. See Renviron.bioc for more information.

raw results


Summary

Package: MultiRNAflow
Version: 1.5.0
Command: /Library/Frameworks/R.framework/Resources/bin/R CMD check --install=check:MultiRNAflow.install-out.txt --library=/Library/Frameworks/R.framework/Resources/library --no-vignettes --timings MultiRNAflow_1.5.0.tar.gz
StartedAt: 2025-02-03 22:01:13 -0500 (Mon, 03 Feb 2025)
EndedAt: 2025-02-03 22:14:03 -0500 (Mon, 03 Feb 2025)
EllapsedTime: 770.4 seconds
RetCode: 0
Status:   OK  
CheckDir: MultiRNAflow.Rcheck
Warnings: 0

Command output

##############################################################################
##############################################################################
###
### Running command:
###
###   /Library/Frameworks/R.framework/Resources/bin/R CMD check --install=check:MultiRNAflow.install-out.txt --library=/Library/Frameworks/R.framework/Resources/library --no-vignettes --timings MultiRNAflow_1.5.0.tar.gz
###
##############################################################################
##############################################################################


* using log directory ‘/Users/biocbuild/bbs-3.21-bioc/meat/MultiRNAflow.Rcheck’
* using R Under development (unstable) (2025-01-22 r87618)
* using platform: x86_64-apple-darwin20
* R was compiled by
    Apple clang version 14.0.0 (clang-1400.0.29.202)
    GNU Fortran (GCC) 14.2.0
* running under: macOS Monterey 12.7.6
* using session charset: UTF-8
* using option ‘--no-vignettes’
* checking for file ‘MultiRNAflow/DESCRIPTION’ ... OK
* this is package ‘MultiRNAflow’ version ‘1.5.0’
* package encoding: UTF-8
* checking package namespace information ... OK
* checking package dependencies ... OK
* checking if this is a source package ... OK
* checking if there is a namespace ... OK
* checking for hidden files and directories ... OK
* checking for portable file names ... OK
* checking for sufficient/correct file permissions ... OK
* checking whether package ‘MultiRNAflow’ can be installed ... OK
* checking installed package size ... OK
* checking package directory ... OK
* checking ‘build’ directory ... OK
* checking DESCRIPTION meta-information ... OK
* checking top-level files ... OK
* checking for left-over files ... OK
* checking index information ... OK
* checking package subdirectories ... OK
* checking code files for non-ASCII characters ... OK
* checking R files for syntax errors ... OK
* checking whether the package can be loaded ... OK
* checking whether the package can be loaded with stated dependencies ... OK
* checking whether the package can be unloaded cleanly ... OK
* checking whether the namespace can be loaded with stated dependencies ... OK
* checking whether the namespace can be unloaded cleanly ... OK
* checking dependencies in R code ... OK
* checking S3 generic/method consistency ... OK
* checking replacement functions ... OK
* checking foreign function calls ... OK
* checking R code for possible problems ... OK
* checking Rd files ... OK
* checking Rd metadata ... OK
* checking Rd cross-references ... NOTE
Found the following Rd file(s) with Rd \link{} targets missing package
anchors:
  DEplotAlluvial.Rd: ggplot2
  DEplotBarplot.Rd: ggplot2
Please provide package anchors for all Rd \link{} targets not in the
package itself and the base packages.
* checking for missing documentation entries ... OK
* checking for code/documentation mismatches ... OK
* checking Rd \usage sections ... OK
* checking Rd contents ... OK
* checking for unstated dependencies in examples ... OK
* checking contents of ‘data’ directory ... OK
* checking data for non-ASCII characters ... OK
* checking data for ASCII and uncompressed saves ... OK
* checking sizes of PDF files under ‘inst/doc’ ... OK
* checking files in ‘vignettes’ ... OK
* checking examples ... OK
Examples with CPU (user + system) or elapsed time > 5s
                         user system elapsed
DEplotHeatmaps         12.095  3.429  15.616
DEanalysisTimeAndGroup 12.555  2.779  15.420
PCAanalysis            12.196  1.121  13.381
DEanalysisTime          6.145  1.478   7.660
PCAgraphics             6.462  0.619   7.115
DEresultGroupPerTime    5.018  1.543   6.599
DEplotVolcanoMA         5.093  1.202   6.332
GSEApreprocessing       4.526  1.284   5.830
DEanalysisGlobal        4.190  1.183   5.404
DEanalysisGroup         3.879  1.190   5.111
* checking for unstated dependencies in ‘tests’ ... OK
* checking tests ...
  Running ‘testthat.R’
 OK
* checking for unstated dependencies in vignettes ... OK
* checking package vignettes ... OK
* checking running R code from vignettes ... SKIPPED
* checking re-building of vignette outputs ... SKIPPED
* checking PDF version of manual ... OK
* DONE

Status: 1 NOTE
See
  ‘/Users/biocbuild/bbs-3.21-bioc/meat/MultiRNAflow.Rcheck/00check.log’
for details.


Installation output

MultiRNAflow.Rcheck/00install.out

##############################################################################
##############################################################################
###
### Running command:
###
###   /Library/Frameworks/R.framework/Resources/bin/R CMD INSTALL MultiRNAflow
###
##############################################################################
##############################################################################


* installing to library ‘/Library/Frameworks/R.framework/Versions/4.5-x86_64/Resources/library’
* installing *source* package ‘MultiRNAflow’ ...
** this is package ‘MultiRNAflow’ version ‘1.5.0’
** using staged installation
** R
** data
** inst
** byte-compile and prepare package for lazy loading
** help
*** installing help indices
** building package indices
** installing vignettes
** testing if installed package can be loaded from temporary location
** testing if installed package can be loaded from final location
** testing if installed package keeps a record of temporary installation path
* DONE (MultiRNAflow)

Tests output

MultiRNAflow.Rcheck/tests/testthat.Rout


R Under development (unstable) (2025-01-22 r87618) -- "Unsuffered Consequences"
Copyright (C) 2025 The R Foundation for Statistical Computing
Platform: x86_64-apple-darwin20

R is free software and comes with ABSOLUTELY NO WARRANTY.
You are welcome to redistribute it under certain conditions.
Type 'license()' or 'licence()' for distribution details.

R is a collaborative project with many contributors.
Type 'contributors()' for more information and
'citation()' on how to cite R or R packages in publications.

Type 'demo()' for some demos, 'help()' for on-line help, or
'help.start()' for an HTML browser interface to help.
Type 'q()' to quit R.

> # This file is part of the standard setup for testthat.
> # It is recommended that you do not modify it.
> #
> # Where should you do additional test configuration?
> # Learn more about the roles of various files in:
> # * https://r-pkgs.org/tests.html
> # * https://testthat.r-lib.org/reference/test_package.html#special-files
> 
> library(testthat)
> library(MultiRNAflow)
Loading required package: Mfuzz
Loading required package: Biobase
Loading required package: BiocGenerics
Loading required package: generics

Attaching package: 'generics'

The following objects are masked from 'package:base':

    as.difftime, as.factor, as.ordered, intersect, is.element, setdiff,
    setequal, union


Attaching package: 'BiocGenerics'

The following objects are masked from 'package:stats':

    IQR, mad, sd, var, xtabs

The following objects are masked from 'package:base':

    Filter, Find, Map, Position, Reduce, anyDuplicated, aperm, append,
    as.data.frame, basename, cbind, colnames, dirname, do.call,
    duplicated, eval, evalq, get, grep, grepl, is.unsorted, lapply,
    mapply, match, mget, order, paste, pmax, pmax.int, pmin, pmin.int,
    rank, rbind, rownames, sapply, saveRDS, table, tapply, unique,
    unsplit, which.max, which.min

Welcome to Bioconductor

    Vignettes contain introductory material; view with
    'browseVignettes()'. To cite Bioconductor, see
    'citation("Biobase")', and for packages 'citation("pkgname")'.

Loading required package: e1071

Attaching package: 'e1071'

The following object is masked from 'package:generics':

    interpolate


Attaching package: 'DynDoc'

The following object is masked from 'package:BiocGenerics':

    path

> 
> test_check("MultiRNAflow")
[1] "3 genes deleted."
converting counts to integer mode
converting counts to integer mode
converting counts to integer mode
converting counts to integer mode
converting counts to integer mode
converting counts to integer mode
[1] "3 genes deleted."
[1] "Preprocessing"
[1] "Differential expression step with DESeq2::DESeq()"
estimating size factors
estimating dispersions
gene-wise dispersion estimates
mean-dispersion relationship
final dispersion estimates
fitting model and testing
[1] "Case 1 analysis : Biological conditions only"
[1] "Preprocessing"
[1] "Differential expression step with DESeq2::DESeq()"
estimating size factors
estimating dispersions
gene-wise dispersion estimates
mean-dispersion relationship
final dispersion estimates
fitting model and testing
[1] "Case 2 analysis : Time only"
estimating size factors
estimating dispersions
gene-wise dispersion estimates
mean-dispersion relationship
final dispersion estimates
fitting model and testing
estimating size factors
estimating dispersions
gene-wise dispersion estimates
mean-dispersion relationship
final dispersion estimates
fitting model and testing
[1] "DE time analysis for each biological condition."
[1] "DE group analysis for each time measurement."
[1] "Combined time and group results."
[1] "DE time analysis for each biological condition."
[1] "DE group analysis for each time measurement."
[1] "Combined time and group results."
[1] "DE time analysis for each biological condition."
[1] "DE group analysis for each time measurement."
[1] "Combined time and group results."
[1] "DE time analysis for each biological condition."
[1] "DE group analysis for each time measurement."
[1] "Combined time and group results."
estimating size factors
estimating dispersions
gene-wise dispersion estimates
mean-dispersion relationship
final dispersion estimates
fitting model and testing
estimating size factors
estimating dispersions
gene-wise dispersion estimates
mean-dispersion relationship
final dispersion estimates
fitting model and testing
converting counts to integer mode
converting counts to integer mode
0 genes excluded.
0 genes excluded.
0 genes excluded.
0 genes excluded.
0 genes excluded.
0 genes excluded.
0 genes excluded.
0 genes excluded.
0 genes excluded.
0 genes excluded.
converting counts to integer mode
converting counts to integer mode
converting counts to integer mode
converting counts to integer mode
[ FAIL 0 | WARN 11 | SKIP 0 | PASS 324 ]

[ FAIL 0 | WARN 11 | SKIP 0 | PASS 324 ]
> 
> proc.time()
   user  system elapsed 
273.404  57.308 332.975 

Example timings

MultiRNAflow.Rcheck/MultiRNAflow-Ex.timings

nameusersystemelapsed
CharacterNumbers0.0010.0000.002
ColnamesToFactors0.0150.0040.020
DATAnormalization2.3560.3722.744
DATAplotBoxplotSamples1.1410.3351.490
DATAplotExpression1Gene0.9750.2591.244
DATAplotExpressionGenes1.6880.3832.085
DATAprepSE0.3280.1010.430
DEanalysisGlobal4.1901.1835.404
DEanalysisGroup3.8791.1905.111
DEanalysisSubData0.9160.2811.205
DEanalysisTime6.1451.4787.660
DEanalysisTimeAndGroup12.555 2.77915.420
DEplotAlluvial0.7910.0920.887
DEplotBarplot0.4140.0470.463
DEplotBarplotFacetGrid1.0840.1301.226
DEplotBarplotTime0.3660.0410.409
DEplotHeatmaps12.095 3.42915.616
DEplotVennBarplotGroup1.2990.1441.455
DEplotVennBarplotTime1.3810.1611.558
DEplotVolcanoMA5.0931.2026.332
DEresultGroup3.3981.0854.512
DEresultGroupPerTime5.0181.5436.599
GSEAQuickAnalysis0.3240.1010.426
GSEApreprocessing4.5261.2845.830
HCPCanalysis3.7520.6534.441
MFUZZanalysis2.6010.5183.147
MFUZZclustersNumber1.1970.2981.496
PCAanalysis12.196 1.12113.381
PCAgraphics6.4620.6197.115
PCApreprocessing0.8850.2581.141
PCArealization0.9330.2711.208
RawCountsSimulation0.0520.0330.086
RawCounts_Antoszewski2022_MOUSEsub5000.0030.0020.005
RawCounts_Leong2014_FISSIONsub500wt0.0040.0020.006
RawCounts_Schleiss2021_CLLsub5000.0090.0030.011
RawCounts_Weger2021_MOUSEsub5000.0180.0030.021
Results_DEanalysis_sub5000.1040.0070.110
Transcript_HomoSapiens_Database0.0970.0060.103