Back to Multiple platform build/check report for BioC 3.21:   simplified   long
ABCDEFGHIJKLMN[O]PQRSTUVWXYZ

This page was generated on 2025-02-04 11:40 -0500 (Tue, 04 Feb 2025).

HostnameOSArch (*)R versionInstalled pkgs
nebbiolo1Linux (Ubuntu 24.04.1 LTS)x86_64R Under development (unstable) (2025-01-20 r87609) -- "Unsuffered Consequences" 4716
palomino7Windows Server 2022 Datacenterx64R Under development (unstable) (2025-01-21 r87610 ucrt) -- "Unsuffered Consequences" 4478
lconwaymacOS 12.7.1 Montereyx86_64R Under development (unstable) (2025-01-22 r87618) -- "Unsuffered Consequences" 4489
kjohnson3macOS 13.7.1 Venturaarm64R Under development (unstable) (2025-01-20 r87609) -- "Unsuffered Consequences" 4442
Click on any hostname to see more info about the system (e.g. compilers)      (*) as reported by 'uname -p', except on Windows and Mac OS X

Package 1486/2295HostnameOS / ArchINSTALLBUILDCHECKBUILD BIN
OUTRIDER 1.25.0  (landing page)
Christian Mertes
Snapshot Date: 2025-02-03 13:40 -0500 (Mon, 03 Feb 2025)
git_url: https://git.bioconductor.org/packages/OUTRIDER
git_branch: devel
git_last_commit: e21b7d6
git_last_commit_date: 2024-10-29 10:29:54 -0500 (Tue, 29 Oct 2024)
nebbiolo1Linux (Ubuntu 24.04.1 LTS) / x86_64  OK    OK    OK  UNNEEDED, same version is already published
palomino7Windows Server 2022 Datacenter / x64  OK    OK    OK    OK  NO, package depends on 'DESeq2' which is only available as a source package that needs compilation
lconwaymacOS 12.7.1 Monterey / x86_64  OK    OK    OK    OK  NO, package depends on 'DESeq2' which is only available as a source package that needs compilation
kjohnson3macOS 13.7.1 Ventura / arm64  OK    OK    OK    OK  NO, package depends on 'DESeq2' which is only available as a source package that needs compilation


CHECK results for OUTRIDER on nebbiolo1

To the developers/maintainers of the OUTRIDER package:
- Allow up to 24 hours (and sometimes 48 hours) for your latest push to git@git.bioconductor.org:packages/OUTRIDER.git to reflect on this report. See Troubleshooting Build Report for more information.
- Use the following Renviron settings to reproduce errors and warnings.
- If 'R CMD check' started to fail recently on the Linux builder(s) over a missing dependency, add the missing dependency to 'Suggests:' in your DESCRIPTION file. See Renviron.bioc for more information.

raw results


Summary

Package: OUTRIDER
Version: 1.25.0
Command: /home/biocbuild/bbs-3.21-bioc/R/bin/R CMD check --install=check:OUTRIDER.install-out.txt --library=/home/biocbuild/bbs-3.21-bioc/R/site-library --timings OUTRIDER_1.25.0.tar.gz
StartedAt: 2025-02-04 01:08:41 -0500 (Tue, 04 Feb 2025)
EndedAt: 2025-02-04 01:24:46 -0500 (Tue, 04 Feb 2025)
EllapsedTime: 965.8 seconds
RetCode: 0
Status:   OK  
CheckDir: OUTRIDER.Rcheck
Warnings: 0

Command output

##############################################################################
##############################################################################
###
### Running command:
###
###   /home/biocbuild/bbs-3.21-bioc/R/bin/R CMD check --install=check:OUTRIDER.install-out.txt --library=/home/biocbuild/bbs-3.21-bioc/R/site-library --timings OUTRIDER_1.25.0.tar.gz
###
##############################################################################
##############################################################################


* using log directory ‘/home/biocbuild/bbs-3.21-bioc/meat/OUTRIDER.Rcheck’
* using R Under development (unstable) (2025-01-20 r87609)
* using platform: x86_64-pc-linux-gnu
* R was compiled by
    gcc (Ubuntu 13.3.0-6ubuntu2~24.04) 13.3.0
    GNU Fortran (Ubuntu 13.3.0-6ubuntu2~24.04) 13.3.0
* running under: Ubuntu 24.04.1 LTS
* using session charset: UTF-8
* checking for file ‘OUTRIDER/DESCRIPTION’ ... OK
* checking extension type ... Package
* this is package ‘OUTRIDER’ version ‘1.25.0’
* package encoding: UTF-8
* checking package namespace information ... OK
* checking package dependencies ... OK
* checking if this is a source package ... OK
* checking if there is a namespace ... OK
* checking for hidden files and directories ... OK
* checking for portable file names ... OK
* checking for sufficient/correct file permissions ... OK
* checking whether package ‘OUTRIDER’ can be installed ... OK
* used C++ compiler: ‘g++ (Ubuntu 13.3.0-6ubuntu2~24.04) 13.3.0’
* checking C++ specification ... NOTE
  Specified C++11: please drop specification unless essential
* checking installed package size ... OK
* checking package directory ... OK
* checking ‘build’ directory ... OK
* checking DESCRIPTION meta-information ... NOTE
License stub is invalid DCF.
* checking top-level files ... OK
* checking for left-over files ... OK
* checking index information ... OK
* checking package subdirectories ... OK
* checking code files for non-ASCII characters ... OK
* checking R files for syntax errors ... OK
* checking whether the package can be loaded ... OK
* checking whether the package can be loaded with stated dependencies ... OK
* checking whether the package can be unloaded cleanly ... OK
* checking whether the namespace can be loaded with stated dependencies ... OK
* checking whether the namespace can be unloaded cleanly ... OK
* checking loading without being on the library search path ... OK
* checking dependencies in R code ... NOTE
Unexported object imported by a ':::' call: 'ggbio:::.buildFacetsFromArgs'
  See the note in ?`:::` about the use of this operator.
* checking S3 generic/method consistency ... OK
* checking replacement functions ... OK
* checking foreign function calls ... OK
* checking R code for possible problems ... OK
* checking Rd files ... NOTE
checkRd: (-1) results.Rd:48-50: Lost braces in \itemize; \value handles \item{}{} directly
checkRd: (-1) results.Rd:51-52: Lost braces in \itemize; \value handles \item{}{} directly
checkRd: (-1) results.Rd:53-54: Lost braces in \itemize; \value handles \item{}{} directly
checkRd: (-1) results.Rd:55: Lost braces in \itemize; \value handles \item{}{} directly
checkRd: (-1) results.Rd:56-57: Lost braces in \itemize; \value handles \item{}{} directly
checkRd: (-1) results.Rd:58-60: Lost braces in \itemize; \value handles \item{}{} directly
checkRd: (-1) results.Rd:61-62: Lost braces in \itemize; \value handles \item{}{} directly
checkRd: (-1) results.Rd:63-64: Lost braces in \itemize; \value handles \item{}{} directly
checkRd: (-1) results.Rd:65-66: Lost braces in \itemize; \value handles \item{}{} directly
checkRd: (-1) results.Rd:67: Lost braces in \itemize; \value handles \item{}{} directly
checkRd: (-1) results.Rd:68-71: Lost braces in \itemize; \value handles \item{}{} directly
* checking Rd metadata ... OK
* checking Rd cross-references ... OK
* checking for missing documentation entries ... OK
* checking for code/documentation mismatches ... OK
* checking Rd \usage sections ... OK
* checking Rd contents ... OK
* checking for unstated dependencies in examples ... OK
* checking line endings in C/C++/Fortran sources/headers ... OK
* checking line endings in Makefiles ... OK
* checking compilation flags in Makevars ... OK
* checking for GNU extensions in Makefiles ... OK
* checking for portable use of $(BLAS_LIBS) and $(LAPACK_LIBS) ... OK
* checking use of PKG_*FLAGS in Makefiles ... OK
* checking compiled code ... NOTE
Note: information on .o files is not available
* checking files in ‘vignettes’ ... OK
* checking examples ... OK
Examples with CPU (user + system) or elapsed time > 5s
                          user system elapsed
OUTRIDER                18.457  5.515  24.917
findEncodingDim         20.695  0.591  25.643
plotFunctions           14.616  0.374  15.155
computePvalues           4.088  4.365   6.609
results                  4.873  0.155   5.029
getter_setter_functions  4.922  0.025   5.587
* checking for unstated dependencies in ‘tests’ ... OK
* checking tests ...
  Running ‘testthat.R’
 OK
* checking for unstated dependencies in vignettes ... OK
* checking package vignettes ... OK
* checking re-building of vignette outputs ... OK
* checking PDF version of manual ... OK
* DONE

Status: 5 NOTEs
See
  ‘/home/biocbuild/bbs-3.21-bioc/meat/OUTRIDER.Rcheck/00check.log’
for details.


Installation output

OUTRIDER.Rcheck/00install.out

##############################################################################
##############################################################################
###
### Running command:
###
###   /home/biocbuild/bbs-3.21-bioc/R/bin/R CMD INSTALL OUTRIDER
###
##############################################################################
##############################################################################


* installing to library ‘/home/biocbuild/bbs-3.21-bioc/R/site-library’
* installing *source* package ‘OUTRIDER’ ...
** this is package ‘OUTRIDER’ version ‘1.25.0’
** using staged installation
** libs
using C++ compiler: ‘g++ (Ubuntu 13.3.0-6ubuntu2~24.04) 13.3.0’
using C++11
g++ -std=gnu++11 -I"/home/biocbuild/bbs-3.21-bioc/R/include" -DNDEBUG  -I'/home/biocbuild/bbs-3.21-bioc/R/site-library/Rcpp/include' -I'/home/biocbuild/bbs-3.21-bioc/R/site-library/RcppArmadillo/include' -I/usr/local/include   -fopenmp -DARMA_DONT_USE_OPENMP -fpic  -g -O2  -DR_NO_REMAP -c RcppExports.cpp -o RcppExports.o
g++ -std=gnu++11 -I"/home/biocbuild/bbs-3.21-bioc/R/include" -DNDEBUG  -I'/home/biocbuild/bbs-3.21-bioc/R/site-library/Rcpp/include' -I'/home/biocbuild/bbs-3.21-bioc/R/site-library/RcppArmadillo/include' -I/usr/local/include   -fopenmp -DARMA_DONT_USE_OPENMP -fpic  -g -O2  -DR_NO_REMAP -c loss_n_gradient_functions.cpp -o loss_n_gradient_functions.o
g++ -std=gnu++11 -shared -L/home/biocbuild/bbs-3.21-bioc/R/lib -L/usr/local/lib -o OUTRIDER.so RcppExports.o loss_n_gradient_functions.o -fopenmp -llapack -L/home/biocbuild/bbs-3.21-bioc/R/lib -lRblas -lgfortran -lm -lquadmath -L/home/biocbuild/bbs-3.21-bioc/R/lib -lR
installing to /home/biocbuild/bbs-3.21-bioc/R/site-library/00LOCK-OUTRIDER/00new/OUTRIDER/libs
** R
** inst
** byte-compile and prepare package for lazy loading
** help
*** installing help indices
** building package indices
** installing vignettes
** testing if installed package can be loaded from temporary location
** checking absolute paths in shared objects and dynamic libraries
** testing if installed package can be loaded from final location
** testing if installed package keeps a record of temporary installation path
* DONE (OUTRIDER)

Tests output

OUTRIDER.Rcheck/tests/testthat.Rout


R Under development (unstable) (2025-01-20 r87609) -- "Unsuffered Consequences"
Copyright (C) 2025 The R Foundation for Statistical Computing
Platform: x86_64-pc-linux-gnu

R is free software and comes with ABSOLUTELY NO WARRANTY.
You are welcome to redistribute it under certain conditions.
Type 'license()' or 'licence()' for distribution details.

R is a collaborative project with many contributors.
Type 'contributors()' for more information and
'citation()' on how to cite R or R packages in publications.

Type 'demo()' for some demos, 'help()' for on-line help, or
'help.start()' for an HTML browser interface to help.
Type 'q()' to quit R.

> library(testthat)
> library(OUTRIDER)
Loading required package: BiocParallel
Loading required package: GenomicFeatures
Loading required package: BiocGenerics
Loading required package: generics

Attaching package: 'generics'

The following objects are masked from 'package:base':

    as.difftime, as.factor, as.ordered, intersect, is.element, setdiff,
    setequal, union


Attaching package: 'BiocGenerics'

The following objects are masked from 'package:stats':

    IQR, mad, sd, var, xtabs

The following objects are masked from 'package:base':

    Filter, Find, Map, Position, Reduce, anyDuplicated, aperm, append,
    as.data.frame, basename, cbind, colnames, dirname, do.call,
    duplicated, eval, evalq, get, grep, grepl, is.unsorted, lapply,
    mapply, match, mget, order, paste, pmax, pmax.int, pmin, pmin.int,
    rank, rbind, rownames, sapply, saveRDS, table, tapply, unique,
    unsplit, which.max, which.min

Loading required package: S4Vectors
Loading required package: stats4

Attaching package: 'S4Vectors'

The following object is masked from 'package:utils':

    findMatches

The following objects are masked from 'package:base':

    I, expand.grid, unname

Loading required package: IRanges
Loading required package: GenomeInfoDb
Loading required package: GenomicRanges
Loading required package: AnnotationDbi
Loading required package: Biobase
Welcome to Bioconductor

    Vignettes contain introductory material; view with
    'browseVignettes()'. To cite Bioconductor, see
    'citation("Biobase")', and for packages 'citation("pkgname")'.

Loading required package: SummarizedExperiment
Loading required package: MatrixGenerics
Loading required package: matrixStats

Attaching package: 'matrixStats'

The following objects are masked from 'package:Biobase':

    anyMissing, rowMedians


Attaching package: 'MatrixGenerics'

The following objects are masked from 'package:matrixStats':

    colAlls, colAnyNAs, colAnys, colAvgsPerRowSet, colCollapse,
    colCounts, colCummaxs, colCummins, colCumprods, colCumsums,
    colDiffs, colIQRDiffs, colIQRs, colLogSumExps, colMadDiffs,
    colMads, colMaxs, colMeans2, colMedians, colMins, colOrderStats,
    colProds, colQuantiles, colRanges, colRanks, colSdDiffs, colSds,
    colSums2, colTabulates, colVarDiffs, colVars, colWeightedMads,
    colWeightedMeans, colWeightedMedians, colWeightedSds,
    colWeightedVars, rowAlls, rowAnyNAs, rowAnys, rowAvgsPerColSet,
    rowCollapse, rowCounts, rowCummaxs, rowCummins, rowCumprods,
    rowCumsums, rowDiffs, rowIQRDiffs, rowIQRs, rowLogSumExps,
    rowMadDiffs, rowMads, rowMaxs, rowMeans2, rowMedians, rowMins,
    rowOrderStats, rowProds, rowQuantiles, rowRanges, rowRanks,
    rowSdDiffs, rowSds, rowSums2, rowTabulates, rowVarDiffs, rowVars,
    rowWeightedMads, rowWeightedMeans, rowWeightedMedians,
    rowWeightedSds, rowWeightedVars

The following object is masked from 'package:Biobase':

    rowMedians

Loading required package: data.table

Attaching package: 'data.table'

The following object is masked from 'package:SummarizedExperiment':

    shift

The following object is masked from 'package:GenomicRanges':

    shift

The following object is masked from 'package:IRanges':

    shift

The following objects are masked from 'package:S4Vectors':

    first, second

> 
> register(SerialParam())
> 
> test_check("OUTRIDER")
[1] "Tue Feb  4 01:19:19 2025: Initial PCA loss: 6.15685106014097"
[1] "Tue Feb  4 01:19:20 2025: Iteration: 1 loss: 4.52115775196696"
[1] "Tue Feb  4 01:19:21 2025: Iteration: 2 loss: 4.45944867342673"
[1] "Tue Feb  4 01:19:22 2025: Iteration: 3 loss: 4.42139609103134"
[1] "Tue Feb  4 01:19:22 2025: Iteration: 4 loss: 4.38318502150672"
[1] "Tue Feb  4 01:19:23 2025: Iteration: 5 loss: 4.36974989034917"
[1] "Tue Feb  4 01:19:24 2025: Iteration: 6 loss: 4.36228230096182"
Time difference of 4.049407 secs
[1] "Tue Feb  4 01:19:24 2025: 6 Final nb-AE loss: 4.36228230096182"
[1] "Tue Feb  4 01:19:25 2025: Initial PCA loss: 6.15685106014097"
[1] "Tue Feb  4 01:19:26 2025: Iteration: 1 loss: 4.52115775196696"
[1] "Tue Feb  4 01:19:27 2025: Iteration: 2 loss: 4.45944867342673"
[1] "Tue Feb  4 01:19:27 2025: Iteration: 3 loss: 4.42139609103134"
[1] "Tue Feb  4 01:19:28 2025: Iteration: 4 loss: 4.38318502150672"
[1] "Tue Feb  4 01:19:29 2025: Iteration: 5 loss: 4.36974989034917"
[1] "Tue Feb  4 01:19:29 2025: Iteration: 6 loss: 4.36228230096182"
Time difference of 3.830266 secs
[1] "Tue Feb  4 01:19:29 2025: 6 Final nb-AE loss: 4.36228230096182"
class: OutriderDataSet
class: RangedSummarizedExperiment 
dim: 100 50 
metadata(1): version
assays(1): counts
rownames(100): ENSG00000223972.4 ENSG00000227232.4 ...
  ENSG00000107404.13 ENSG00000162576.12
rowData names(0):
colnames(50): GTEX.UPK5.0426.SM.3GAEK GTEX.WFG7.2026.SM.3GIL7 ...
  GTEX.11UD2.2526.SM.5CVNU GTEX.13O61.1426.SM.5KM3D
colData names(1): sampleID
[1] "Tue Feb  4 01:19:43 2025: Initial PCA loss: 4.43271116741277"
[1] "Tue Feb  4 01:19:44 2025: Iteration: 1 loss: 4.08035851809727"
[1] "Tue Feb  4 01:19:45 2025: Iteration: 2 loss: 4.07036029490822"
Time difference of 1.287978 secs
[1] "Tue Feb  4 01:19:45 2025: 2 Final nb-AE loss: 4.07036029490822"
[1] "Evaluation loss: 0.16957674288138 for q=3"
[1] "Tue Feb  4 01:19:46 2025: Initial PCA loss: 4.41486311278252"
[1] "Tue Feb  4 01:19:47 2025: Iteration: 1 loss: 4.00474770097955"
[1] "Tue Feb  4 01:19:48 2025: Iteration: 2 loss: 3.98203688628036"
Time difference of 1.312674 secs
[1] "Tue Feb  4 01:19:48 2025: 2 Final nb-AE loss: 3.98203688628036"
[1] "Evaluation loss: 0.160050717372955 for q=4"
[1] "Tue Feb  4 01:19:48 2025: Initial PCA loss: 4.39157357123087"
[1] "Tue Feb  4 01:19:50 2025: Iteration: 1 loss: 3.92171598989641"
[1] "Tue Feb  4 01:19:50 2025: Iteration: 2 loss: 3.89193281643169"
Time difference of 1.281919 secs
[1] "Tue Feb  4 01:19:50 2025: 2 Final nb-AE loss: 3.89193281643169"
[1] "Evaluation loss: 0.159704438815599 for q=5"
[1] "Tue Feb  4 01:19:58 2025: Initial PCA loss: 7.16457134714849"
[1] "Tue Feb  4 01:20:00 2025: Iteration: 1 loss: 6.82915922411761"
[1] "Tue Feb  4 01:20:01 2025: Iteration: 2 loss: 6.82750047452709"
Time difference of 2.265662 secs
[1] "Tue Feb  4 01:20:01 2025: 2 Final nb-AE loss: 6.82750047452709"
[ FAIL 0 | WARN 11 | SKIP 0 | PASS 115 ]

[ FAIL 0 | WARN 11 | SKIP 0 | PASS 115 ]
> 
> proc.time()
   user  system elapsed 
 76.502   1.839  78.249 

Example timings

OUTRIDER.Rcheck/OUTRIDER-Ex.timings

nameusersystemelapsed
OUTRIDER18.457 5.51524.917
OutriderDataSet-class0.7860.1200.908
aberrant1.9361.1431.906
computeGeneLength1.7900.2182.018
computeLatentSpace1.3400.0911.431
computePvalues4.0884.3656.609
computeZscores1.5860.1681.753
controlForConfounders2.0960.0782.173
counts1.2160.0441.260
estimateBestQ0.7090.0050.715
filterExpression2.3440.1142.477
findEncodingDim20.695 0.59125.643
fit1.8130.0082.287
fpkm1.7130.0242.973
getter_setter_functions4.9220.0255.587
makeExampleOutriderDataSet1.0670.0031.070
normalizationFactors0.7370.0080.745
plotFunctions14.616 0.37415.155
results4.8730.1555.029
sampleExclusionMask0.4130.0690.482
sizeFactors0.6170.0730.689