Back to Multiple platform build/check report for BioC 3.21:   simplified   long
ABCDEFGHIJKLMN[O]PQRSTUVWXYZ

This page was generated on 2025-01-28 11:47 -0500 (Tue, 28 Jan 2025).

HostnameOSArch (*)R versionInstalled pkgs
nebbiolo1Linux (Ubuntu 24.04.1 LTS)x86_64R Under development (unstable) (2025-01-20 r87609) -- "Unsuffered Consequences" 4659
palomino7Windows Server 2022 Datacenterx64R Under development (unstable) (2025-01-21 r87610 ucrt) -- "Unsuffered Consequences" 4454
lconwaymacOS 12.7.1 Montereyx86_64R Under development (unstable) (2025-01-22 r87618) -- "Unsuffered Consequences" 4465
kjohnson3macOS 13.7.1 Venturaarm64R Under development (unstable) (2025-01-20 r87609) -- "Unsuffered Consequences" 4419
kunpeng2Linux (openEuler 22.03 LTS-SP1)aarch64R Under development (unstable) (2024-11-24 r87369) -- "Unsuffered Consequences" 4409
Click on any hostname to see more info about the system (e.g. compilers)      (*) as reported by 'uname -p', except on Windows and Mac OS X

Package 1460/2286HostnameOS / ArchINSTALLBUILDCHECKBUILD BIN
OncoSimulR 4.9.0  (landing page)
Ramon Diaz-Uriarte
Snapshot Date: 2025-01-27 13:40 -0500 (Mon, 27 Jan 2025)
git_url: https://git.bioconductor.org/packages/OncoSimulR
git_branch: devel
git_last_commit: 3291e0a
git_last_commit_date: 2024-10-29 09:53:24 -0500 (Tue, 29 Oct 2024)
nebbiolo1Linux (Ubuntu 24.04.1 LTS) / x86_64  OK    OK    OK  UNNEEDED, same version is already published
palomino7Windows Server 2022 Datacenter / x64  OK    OK    OK    OK  UNNEEDED, same version is already published
lconwaymacOS 12.7.1 Monterey / x86_64  OK    OK    OK    OK  UNNEEDED, same version is already published
kjohnson3macOS 13.7.1 Ventura / arm64... NOT SUPPORTED ...
kunpeng2Linux (openEuler 22.03 LTS-SP1) / aarch64  OK    OK    OK  


CHECK results for OncoSimulR on kunpeng2

To the developers/maintainers of the OncoSimulR package:
- Allow up to 24 hours (and sometimes 48 hours) for your latest push to git@git.bioconductor.org:packages/OncoSimulR.git to reflect on this report. See Troubleshooting Build Report for more information.
- Use the following Renviron settings to reproduce errors and warnings.
- If 'R CMD check' started to fail recently on the Linux builder(s) over a missing dependency, add the missing dependency to 'Suggests:' in your DESCRIPTION file. See Renviron.bioc for more information.
- See Martin Grigorov's blog post for how to debug Linux ARM64 related issues on a x86_64 host.

raw results


Summary

Package: OncoSimulR
Version: 4.9.0
Command: /home/biocbuild/R/R/bin/R CMD check --install=check:OncoSimulR.install-out.txt --library=/home/biocbuild/R/R/site-library --no-vignettes --timings OncoSimulR_4.9.0.tar.gz
StartedAt: 2025-01-28 13:30:17 -0000 (Tue, 28 Jan 2025)
EndedAt: 2025-01-28 13:37:58 -0000 (Tue, 28 Jan 2025)
EllapsedTime: 461.0 seconds
RetCode: 0
Status:   OK  
CheckDir: OncoSimulR.Rcheck
Warnings: 0

Command output

##############################################################################
##############################################################################
###
### Running command:
###
###   /home/biocbuild/R/R/bin/R CMD check --install=check:OncoSimulR.install-out.txt --library=/home/biocbuild/R/R/site-library --no-vignettes --timings OncoSimulR_4.9.0.tar.gz
###
##############################################################################
##############################################################################


* using log directory ‘/home/biocbuild/bbs-3.21-bioc/meat/OncoSimulR.Rcheck’
* using R Under development (unstable) (2024-11-24 r87369)
* using platform: aarch64-unknown-linux-gnu
* R was compiled by
    aarch64-unknown-linux-gnu-gcc (GCC) 14.2.0
    GNU Fortran (GCC) 14.2.0
* running under: openEuler 24.03 (LTS)
* using session charset: UTF-8
* using option ‘--no-vignettes’
* checking for file ‘OncoSimulR/DESCRIPTION’ ... OK
* checking extension type ... Package
* this is package ‘OncoSimulR’ version ‘4.9.0’
* checking package namespace information ... OK
* checking package dependencies ... OK
* checking if this is a source package ... OK
* checking if there is a namespace ... OK
* checking for hidden files and directories ... NOTE
Found the following hidden files and directories:
  .BBSoptions
These were most likely included in error. See section ‘Package
structure’ in the ‘Writing R Extensions’ manual.
* checking for portable file names ... OK
* checking for sufficient/correct file permissions ... OK
* checking whether package ‘OncoSimulR’ can be installed ... OK
* used C compiler: ‘aarch64-unknown-linux-gnu-gcc (GCC) 14.2.0’
* used C++ compiler: ‘aarch64-unknown-linux-gnu-g++ (GCC) 14.2.0’
* checking installed package size ... INFO
  installed size is 46.6Mb
  sub-directories of 1Mb or more:
    libs  44.9Mb
* checking package directory ... OK
* checking ‘build’ directory ... OK
* checking DESCRIPTION meta-information ... OK
* checking top-level files ... OK
* checking for left-over files ... OK
* checking index information ... OK
* checking package subdirectories ... OK
* checking code files for non-ASCII characters ... OK
* checking R files for syntax errors ... OK
* checking whether the package can be loaded ... OK
* checking whether the package can be loaded with stated dependencies ... OK
* checking whether the package can be unloaded cleanly ... OK
* checking whether the namespace can be loaded with stated dependencies ... OK
* checking whether the namespace can be unloaded cleanly ... OK
* checking loading without being on the library search path ... OK
* checking whether startup messages can be suppressed ... OK
* checking dependencies in R code ... OK
* checking S3 generic/method consistency ... OK
* checking replacement functions ... OK
* checking foreign function calls ... OK
* checking R code for possible problems ... OK
* checking Rd files ... OK
* checking Rd metadata ... OK
* checking Rd cross-references ... NOTE
Found the following Rd file(s) with Rd \link{} targets missing package
anchors:
  plot.oncosimul.Rd: brewer.pal
  plotClonePhylog.Rd: get.adjacency
  plotFitnessLandscape.Rd: ggrepel
Please provide package anchors for all Rd \link{} targets not in the
package itself and the base packages.
* checking for missing documentation entries ... OK
* checking for code/documentation mismatches ... OK
* checking Rd \usage sections ... OK
* checking Rd contents ... OK
* checking for unstated dependencies in examples ... OK
* checking contents of ‘data’ directory ... OK
* checking data for non-ASCII characters ... OK
* checking data for ASCII and uncompressed saves ... OK
* checking line endings in C/C++/Fortran sources/headers ... OK
* checking line endings in Makefiles ... OK
* checking compilation flags in Makevars ... OK
* checking for GNU extensions in Makefiles ... OK
* checking for portable use of $(BLAS_LIBS) and $(LAPACK_LIBS) ... OK
* checking use of PKG_*FLAGS in Makefiles ... OK
* checking include directives in Makefiles ... OK
* checking compiled code ... NOTE
Note: information on .o files is not available
* checking files in ‘vignettes’ ... OK
* checking examples ... OK
* checking for unstated dependencies in ‘tests’ ... OK
* checking tests ...
  Running ‘testthat.R’
 OK
* checking for unstated dependencies in vignettes ... OK
* checking package vignettes ... OK
* checking running R code from vignettes ... SKIPPED
* checking re-building of vignette outputs ... SKIPPED
* checking PDF version of manual ... OK
* DONE

Status: 3 NOTEs
See
  ‘/home/biocbuild/bbs-3.21-bioc/meat/OncoSimulR.Rcheck/00check.log’
for details.


Installation output

OncoSimulR.Rcheck/00install.out

##############################################################################
##############################################################################
###
### Running command:
###
###   /home/biocbuild/R/R/bin/R CMD INSTALL OncoSimulR
###
##############################################################################
##############################################################################


* installing to library ‘/home/biocbuild/R/R-4.5.0-devel_2024-11-24/site-library’
* installing *source* package ‘OncoSimulR’ ...
** using staged installation
** libs
using C compiler: ‘aarch64-unknown-linux-gnu-gcc (GCC) 14.2.0’
using C++ compiler: ‘aarch64-unknown-linux-gnu-g++ (GCC) 14.2.0’
/opt/ohpc/pub/compiler/gcc/14.2.0/bin/aarch64-unknown-linux-gnu-gcc -I"/home/biocbuild/R/R/include" -DNDEBUG  -I'/home/biocbuild/R/R-4.5.0-devel_2024-11-24/site-library/Rcpp/include' -I/usr/local/include    -fPIC  -g -O2  -Wall -Werror=format-security -c FitnessLandscape/gamma.c -o FitnessLandscape/gamma.o
/opt/ohpc/pub/compiler/gcc/14.2.0/bin/aarch64-unknown-linux-gnu-gcc -I"/home/biocbuild/R/R/include" -DNDEBUG  -I'/home/biocbuild/R/R-4.5.0-devel_2024-11-24/site-library/Rcpp/include' -I/usr/local/include    -fPIC  -g -O2  -Wall -Werror=format-security -c FitnessLandscape/landscape.c -o FitnessLandscape/landscape.o
/opt/ohpc/pub/compiler/gcc/14.2.0/bin/aarch64-unknown-linux-gnu-gcc -I"/home/biocbuild/R/R/include" -DNDEBUG  -I'/home/biocbuild/R/R-4.5.0-devel_2024-11-24/site-library/Rcpp/include' -I/usr/local/include    -fPIC  -g -O2  -Wall -Werror=format-security -c FitnessLandscape/random.c -o FitnessLandscape/random.o
/opt/ohpc/pub/compiler/gcc/14.2.0/bin/aarch64-unknown-linux-gnu-gcc -I"/home/biocbuild/R/R/include" -DNDEBUG  -I'/home/biocbuild/R/R-4.5.0-devel_2024-11-24/site-library/Rcpp/include' -I/usr/local/include    -fPIC  -g -O2  -Wall -Werror=format-security -c FitnessLandscape/sort.c -o FitnessLandscape/sort.o
/opt/ohpc/pub/compiler/gcc/14.2.0/bin/aarch64-unknown-linux-gnu-gcc -I"/home/biocbuild/R/R/include" -DNDEBUG  -I'/home/biocbuild/R/R-4.5.0-devel_2024-11-24/site-library/Rcpp/include' -I/usr/local/include    -fPIC  -g -O2  -Wall -Werror=format-security -c FitnessLandscape/chain.c -o FitnessLandscape/chain.o
/opt/ohpc/pub/compiler/gcc/14.2.0/bin/aarch64-unknown-linux-gnu-gcc -I"/home/biocbuild/R/R/include" -DNDEBUG  -I'/home/biocbuild/R/R-4.5.0-devel_2024-11-24/site-library/Rcpp/include' -I/usr/local/include    -fPIC  -g -O2  -Wall -Werror=format-security -c FitnessLandscape/input.c -o FitnessLandscape/input.o
/opt/ohpc/pub/compiler/gcc/14.2.0/bin/aarch64-unknown-linux-gnu-gcc -I"/home/biocbuild/R/R/include" -DNDEBUG  -I'/home/biocbuild/R/R-4.5.0-devel_2024-11-24/site-library/Rcpp/include' -I/usr/local/include    -fPIC  -g -O2  -Wall -Werror=format-security -c FitnessLandscape/genotypes.c -o FitnessLandscape/genotypes.o
/opt/ohpc/pub/compiler/gcc/14.2.0/bin/aarch64-unknown-linux-gnu-gcc -I"/home/biocbuild/R/R/include" -DNDEBUG  -I'/home/biocbuild/R/R-4.5.0-devel_2024-11-24/site-library/Rcpp/include' -I/usr/local/include    -fPIC  -g -O2  -Wall -Werror=format-security -c FitnessLandscape/ordered_pairs.c -o FitnessLandscape/ordered_pairs.o
/opt/ohpc/pub/compiler/gcc/14.2.0/bin/aarch64-unknown-linux-gnu-gcc -I"/home/biocbuild/R/R/include" -DNDEBUG  -I'/home/biocbuild/R/R-4.5.0-devel_2024-11-24/site-library/Rcpp/include' -I/usr/local/include    -fPIC  -g -O2  -Wall -Werror=format-security -c FitnessLandscape/calculus.c -o FitnessLandscape/calculus.o
/opt/ohpc/pub/compiler/gcc/14.2.0/bin/aarch64-unknown-linux-gnu-gcc -I"/home/biocbuild/R/R/include" -DNDEBUG  -I'/home/biocbuild/R/R-4.5.0-devel_2024-11-24/site-library/Rcpp/include' -I/usr/local/include    -fPIC  -g -O2  -Wall -Werror=format-security -c FitnessLandscape/vector.c -o FitnessLandscape/vector.o
/opt/ohpc/pub/compiler/gcc/14.2.0/bin/aarch64-unknown-linux-gnu-gcc -I"/home/biocbuild/R/R/include" -DNDEBUG  -I'/home/biocbuild/R/R-4.5.0-devel_2024-11-24/site-library/Rcpp/include' -I/usr/local/include    -fPIC  -g -O2  -Wall -Werror=format-security -c FitnessLandscape/generalized_chain.c -o FitnessLandscape/generalized_chain.o
/opt/ohpc/pub/compiler/gcc/14.2.0/bin/aarch64-unknown-linux-gnu-gcc -I"/home/biocbuild/R/R/include" -DNDEBUG  -I'/home/biocbuild/R/R-4.5.0-devel_2024-11-24/site-library/Rcpp/include' -I/usr/local/include    -fPIC  -g -O2  -Wall -Werror=format-security -c FitnessLandscape/LinearAlgebra.c -o FitnessLandscape/LinearAlgebra.o
/opt/ohpc/pub/compiler/gcc/14.2.0/bin/aarch64-unknown-linux-gnu-gcc -I"/home/biocbuild/R/R/include" -DNDEBUG  -I'/home/biocbuild/R/R-4.5.0-devel_2024-11-24/site-library/Rcpp/include' -I/usr/local/include    -fPIC  -g -O2  -Wall -Werror=format-security -c FitnessLandscape/summary_statistics.c -o FitnessLandscape/summary_statistics.o
/opt/ohpc/pub/compiler/gcc/14.2.0/bin/aarch64-unknown-linux-gnu-gcc -I"/home/biocbuild/R/R/include" -DNDEBUG  -I'/home/biocbuild/R/R-4.5.0-devel_2024-11-24/site-library/Rcpp/include' -I/usr/local/include    -fPIC  -g -O2  -Wall -Werror=format-security -c FitnessLandscape/epistasis_type.c -o FitnessLandscape/epistasis_type.o
/opt/ohpc/pub/compiler/gcc/14.2.0/bin/aarch64-unknown-linux-gnu-gcc -I"/home/biocbuild/R/R/include" -DNDEBUG  -I'/home/biocbuild/R/R-4.5.0-devel_2024-11-24/site-library/Rcpp/include' -I/usr/local/include    -fPIC  -g -O2  -Wall -Werror=format-security -c FitnessLandscape/decomposition.c -o FitnessLandscape/decomposition.o
/opt/ohpc/pub/compiler/gcc/14.2.0/bin/aarch64-unknown-linux-gnu-gcc -I"/home/biocbuild/R/R/include" -DNDEBUG  -I'/home/biocbuild/R/R-4.5.0-devel_2024-11-24/site-library/Rcpp/include' -I/usr/local/include    -fPIC  -g -O2  -Wall -Werror=format-security -c FitnessLandscape/models.c -o FitnessLandscape/models.o
/opt/ohpc/pub/compiler/gcc/14.2.0/bin/aarch64-unknown-linux-gnu-gcc -I"/home/biocbuild/R/R/include" -DNDEBUG  -I'/home/biocbuild/R/R-4.5.0-devel_2024-11-24/site-library/Rcpp/include' -I/usr/local/include    -fPIC  -g -O2  -Wall -Werror=format-security -c FitnessLandscape/verbose.c -o FitnessLandscape/verbose.o
ar -r liblandscape.a FitnessLandscape/gamma.o FitnessLandscape/landscape.o FitnessLandscape/random.o FitnessLandscape/sort.o FitnessLandscape/chain.o FitnessLandscape/input.o FitnessLandscape/genotypes.o FitnessLandscape/ordered_pairs.o FitnessLandscape/calculus.o FitnessLandscape/vector.o FitnessLandscape/generalized_chain.o FitnessLandscape/LinearAlgebra.o FitnessLandscape/summary_statistics.o FitnessLandscape/epistasis_type.o FitnessLandscape/decomposition.o FitnessLandscape/models.o FitnessLandscape/verbose.o ;
ar: creating liblandscape.a
ranlib liblandscape.a;
/opt/ohpc/pub/compiler/gcc/14.2.0/bin/aarch64-unknown-linux-gnu-gcc -O -Wall -o fl_statistics -I/FitnessLandscape/. -L. FitnessLandscape/main_fl_statistics.c -llandscape -lm;
/opt/ohpc/pub/compiler/gcc/14.2.0/bin/aarch64-unknown-linux-gnu-gcc -O -Wall -o fl_generate -I/FitnessLandscape/. -L. FitnessLandscape/main_fl_generate.c -llandscape -lm;
/opt/ohpc/pub/compiler/gcc/14.2.0/bin/aarch64-unknown-linux-gnu-gcc -I"/home/biocbuild/R/R/include" -DNDEBUG  -I'/home/biocbuild/R/R-4.5.0-devel_2024-11-24/site-library/Rcpp/include' -I/usr/local/include    -fPIC  -g -O2  -Wall -Werror=format-security -c OncoSimulR_init.c -o OncoSimulR_init.o
/opt/ohpc/pub/compiler/gcc/14.2.0/bin/aarch64-unknown-linux-gnu-g++ -std=gnu++17 -I"/home/biocbuild/R/R/include" -DNDEBUG  -I'/home/biocbuild/R/R-4.5.0-devel_2024-11-24/site-library/Rcpp/include' -I/usr/local/include    -fPIC  -g -O2  -Wall -Werror=format-security -DR_NO_REMAP -c RcppExports.cpp -o RcppExports.o
/opt/ohpc/pub/compiler/gcc/14.2.0/bin/aarch64-unknown-linux-gnu-g++ -std=gnu++17 -I"/home/biocbuild/R/R/include" -DNDEBUG  -I'/home/biocbuild/R/R-4.5.0-devel_2024-11-24/site-library/Rcpp/include' -I/usr/local/include    -fPIC  -g -O2  -Wall -Werror=format-security -DR_NO_REMAP -c unity_osimul.cpp -o unity_osimul.o
/opt/ohpc/pub/compiler/gcc/14.2.0/bin/aarch64-unknown-linux-gnu-g++ -std=gnu++17 -shared -L/home/biocbuild/R/R/lib -L/usr/local/lib -o OncoSimulR.so OncoSimulR_init.o RcppExports.o unity_osimul.o -L/home/biocbuild/R/R/lib -lR
installing via 'install.libs.R' to /home/biocbuild/R/R-4.5.0-devel_2024-11-24/site-library/00LOCK-OncoSimulR/00new/OncoSimulR
[1] ""
Installing fl_statistics fl_generate to /home/biocbuild/R/R-4.5.0-devel_2024-11-24/site-library/00LOCK-OncoSimulR/00new/OncoSimulR/exec
Installing library OncoSimulR.so to /home/biocbuild/R/R-4.5.0-devel_2024-11-24/site-library/00LOCK-OncoSimulR/00new/OncoSimulR/libs
** R
** data
** inst
** byte-compile and prepare package for lazy loading
** help
*** installing help indices
** building package indices
** installing vignettes
** testing if installed package can be loaded from temporary location
** checking absolute paths in shared objects and dynamic libraries
** testing if installed package can be loaded from final location
** testing if installed package keeps a record of temporary installation path
* DONE (OncoSimulR)

Tests output

OncoSimulR.Rcheck/tests/testthat.Rout


R Under development (unstable) (2024-11-24 r87369) -- "Unsuffered Consequences"
Copyright (C) 2024 The R Foundation for Statistical Computing
Platform: aarch64-unknown-linux-gnu

R is free software and comes with ABSOLUTELY NO WARRANTY.
You are welcome to redistribute it under certain conditions.
Type 'license()' or 'licence()' for distribution details.

R is a collaborative project with many contributors.
Type 'contributors()' for more information and
'citation()' on how to cite R or R packages in publications.

Type 'demo()' for some demos, 'help()' for on-line help, or
'help.start()' for an HTML browser interface to help.
Type 'q()' to quit R.

> library(testthat)
> library(OncoSimulR)
This is package OncoSimulR. If you are running it on an aarch64 (arm64) platform with a MacOS note that the package fails some tests in that platform + OS that I have no way of debugging. Please read file README_tests_kjohnson3_aarch64-apple-darwin20.txt in the tests directory. As of 2024-10-09, this platform is unsupported until we can properly debug it.
> 
> test_check("OncoSimulR")

 Starting FDF-letter-fitness-order Tue Jan 28 13:32:20 2025 

exprtk parser error: 

Error[00] Position: 00 Type: [  Syntax Error] Msg: ERR202 - Undefined symbol: 'n_2_3' Expression: n_2_3

exprtk parser error: 

Error[00] Position: 00 Type: [  Syntax Error] Msg: ERR202 - Undefined symbol: 'f_2_3' Expression: f_2_3

 Ending FDF-small-fitness-specs Tue Jan 28 13:32:21 2025 
  Took  1.11 


 Starting LOD_POM at Tue Jan 28 13:32:21 2025 

 Ending LOD_POM at Tue Jan 28 13:32:40 2025 
  Took  19.04 


 Starting test.Z-all-fitness at Tue Jan 28 13:32:40 2025 

 Ending test.Z-all-fitness at Tue Jan 28 13:32:40 2025 
  Took  0.26 


 Starting test.Z-driver-counts at Tue Jan 28 13:32:40 2025 

 Ending test.Z-driver-counts at Tue Jan 28 13:32:41 2025 
  Took  0.17 


 Starting test.Z-fixation at Tue Jan 28 13:32:41 2025 

 Ending test.Z-fixation at Tue Jan 28 13:32:41 2025 
  Took  0.62 


 Starting test.Z-magellan at Tue Jan 28 13:32:41 2025 

 Ended test.Z-magellan at Tue Jan 28 13:32:44 2025 

 Starting test.Z-mutator at Tue Jan 28 13:32:44 2025 

 Ending test.Z-mutator at Tue Jan 28 13:32:45 2025 
  Took  0.93 


 Starting test.Z-mutatorFDF at Tue Jan 28 13:32:45 2025 

 Ending test.Z-mutatorFDF at Tue Jan 28 13:32:46 2025 
  Took  0.3 


 Starting test.Z-oncoSimulIndiv at Tue Jan 28 13:32:46 2025 

 Ending test.Z-oncoSimulIndiv at Tue Jan 28 13:32:47 2025 
  Took  1.28 


 Starting test.Z-oncoSimulIndivConstant at Tue Jan 28 13:32:47 2025 

 Ending test.Z-oncoSimulIndivConstant at Tue Jan 28 13:32:50 2025 
  Took  2.91 


 Starting test.Z-oncoSimulIndivDeath at Tue Jan 28 13:32:50 2025 


 Ending test.Z-oncoSimulIndivDeath at Tue Jan 28 13:32:51 2025 
  Took  1.56 


 Starting test.Z-oncoSimulIndivFDF at Tue Jan 28 13:32:51 2025 

 Hitted wall time. Exiting.
 Hitting wall time is regarded as an error. 

 Ending test.Z-oncoSimulIndivFDF at Tue Jan 28 13:32:53 2025 
  Took  1.07 


 Starting test.Z-rfitness-landscape at Tue Jan 28 13:32:53 2025 

 Ending test.Z-rfitness-landscape at Tue Jan 28 13:32:53 2025 
  Took  0.31 


 Starting Z-sample-only-last tests Tue Jan 28 13:32:53 2025 

 Ending Z-sample-only-last tests Tue Jan 28 13:32:53 2025 
  Took  0 


 Starting Z-total-present-drivers tests Tue Jan 28 13:32:53 2025 

 Ending Z-total-present-drivers tests Tue Jan 28 13:32:54 2025 
  Took  1.04 


 Dummy empty test  Tue Jan 28 13:32:54 2025 

 Starting accessible_genotypes at Tue Jan 28 13:32:54 2025 

 Ending accessible_genotypes at Tue Jan 28 13:33:06 2025 
  Took  12.47 


 Starting all fitness at Tue Jan 28 13:33:06 2025
 Ending all-fitness at Tue Jan 28 13:33:15 2025 
  Took  8.83 


 Starting test.allFitnessEffectsFDF at Tue Jan 28 13:33:15 2025 

 Ending test.allFitnessEffectsFDF at Tue Jan 28 13:33:15 2025 
  Took  0.17 


 Starting test.allFitnessEffectsDeath at Tue Jan 28 13:33:15 2025 

 Ending test.allFitnessEffectsDeath at Tue Jan 28 13:33:16 2025 
  Took  0.71 


 Starting test.allFitnessEffectsFDF at Tue Jan 28 13:33:16 2025 

 Ending test.allFitnessEffectsFDF at Tue Jan 28 13:33:17 2025 
  Took  0.51 


 Starting driverCounts at Tue Jan 28 13:33:17 2025
 Ending driverCounts at Tue Jan 28 13:33:34 2025 
  Took  17.06 


 Starting epist-order-modules at Tue Jan 28 13:33:34 2025
 Ending epist-order-modules at Tue Jan 28 13:33:34 2025 
  Took  0.17 


 Starting test.evaluatingGenotypesDeath at Tue Jan 28 13:33:34 2025 

 Ending test.evaluatingGenotypesDeath at Tue Jan 28 13:33:34 2025 
  Took  0.47 


 Starting test.evaluatingGenotypesFDF at Tue Jan 28 13:33:34 2025 

 Ending test.evaluatingGenotypesFDF at Tue Jan 28 13:33:35 2025 
  Took  0.43 


 Starting exercise-plotting-code at Tue Jan 28 13:33:35 2025
 Ending exercise-plotting-code at Tue Jan 28 13:33:40 2025 
  Took  4.78 


 Starting exercise-rfitness at Tue Jan 28 13:33:40 2025 

 Ending exercise-rfitness at Tue Jan 28 13:33:56 2025 
  Took  16.54 


 Starting to_Magella at Tue Jan 28 13:33:56 2025 

 Ending to_Magella at Tue Jan 28 13:33:56 2025 
  Took  0.09 


 Starting fitness preds at Tue Jan 28 13:33:56 2025 

 Observed vs expected, case III

 done tries 1 

 Ending fitness preds long at Tue Jan 28 13:34:08 2025 
  Took  11.25 


 Starting fixation  at Tue Jan 28 13:34:08 2025 

 Ending fixation  at Tue Jan 28 13:34:30 2025 
  Took  22.67 


 Starting test.flfast-additional.R test at Tue Jan 28 13:34:30 2025
 Ending test.flfast-additional.R test at Tue Jan 28 13:34:32 2025 
  Took  1.63 


 Starting test.flfast-mutator.R test at Tue Jan 28 13:34:32 2025
 Finished test.flfast-mutator.R test at Tue Jan 28 13:34:33 2025 
  Took  1.55 


 Starting genotFitness at Tue Jan 28 13:34:33 2025 

 Ending genotFitness at Tue Jan 28 13:34:34 2025 
  Took  0.22 


 Starting genot_fitness_to_epistasis at Tue Jan 28 13:34:34 2025 

 Ending genot_fitness_to_epistasis at Tue Jan 28 13:34:34 2025 
  Took  0.06 


 Starting init-mutant tests Tue Jan 28 13:34:34 2025 

exprtk parser error: 

Error[00] Position: 18 Type: [  Syntax Error] Msg: ERR202 - Undefined symbol: 'f_2' Expression: 1.1 + 0.7*((f_1 + f_2) > 0.3)

 Ending init-mutant tests Tue Jan 28 13:34:43 2025 
  Took  9.23 


 Starting interventions tests Tue Jan 28 13:34:43 2025 
[1] "Checking intervention: intOverA"
[1] "Checking intervention: intOverA"
[1] "Checking intervention: intOverA"
[1] "Checking intervention: intOverA"
[1] "Checking intervention: intOverMultiplicatesA"
In intervention:intOverMultiplicatesA with WhatHappens: n_1 = n_1 * 2. You cannot intervene to generate more population.[1] "Checking intervention: intOverA"
[1] "Checking intervention: intOverA"
[1] "Checking intervention: intOverTotPop"
[1] 0.77 0.77 0.77
[1] "Checking intervention: intOverTotPop"
[1] "Checking intervention: intOverA"
[1] "Checking intervention: intOverB"
[1] "Checking intervention: intOverC"
[1] "Checking intervention: intOverD"
Init Mutant with birth == 1.0
Init Mutant with birth == 1.0
[1] "Checking intervention: intOverA"
[1] "Checking intervention: intOverB"
[1] "Checking intervention: intOverC"
[1] "Checking intervention: intOverD"
Init Mutant with birth == 1.0
Init Mutant with birth == 1.0
[1] "Checking user variable: user_var_1"
[1] "Checking rule: rule_1"
[1] "Checking rule: rule_2"
[1] "Checking rule: rule_3"
[1] "Checking intervention: intOverTotPop"
[1] "Checking intervention: intOverTotPop2"
[1] "Checking intervention: intOverTotPop3"
[1] "Checking user variable: user_var_1"
[1] "Checking rule: rule_1"
[1] "Checking rule: rule_2"
[1] "Checking rule: rule_3"
[1] "Checking intervention: intOverTotPop"

 Ending interventions tests Tue Jan 28 13:34:49 2025 
  Took  6.33 


 Starting test.magellan at Tue Jan 28 13:34:49 2025 

 Ending test.magellan at Tue Jan 28 13:34:50 2025 
  Took  0.31 


 Starting test.modules-root-no-root at Tue Jan 28 13:34:50 2025 

 Ending test.modules-root-no-root at Tue Jan 28 13:34:50 2025 
  Took  0.21 


 Starting at mutPropGrowth  Tue Jan 28 13:34:50 2025 

 Ended test.mutPropGrowth:  Tue Jan 28 13:35:01 2025 
  Took  10.73 


 Starting test.mutator-oncoSimulSample.R test at Tue Jan 28 13:35:01 2025 

 Finished test.mutator-oncoSimulSample.R test at Tue Jan 28 13:35:12 2025 
  Took  11.7 seconds 


 Starting test.mutator.R test at Tue Jan 28 13:35:12 2025[1] 4.852793e-07
[1] 6.258522e-16

 Finished test.mutator.R test at Tue Jan 28 13:35:35 2025 
  Took  22.93 


 Starting test.mutatorFDF.R test at Tue Jan 28 13:35:35 2025
 Starting test.no-v1 at Tue Jan 28 13:35:36 2025 

 Ending test.no-v1 at Tue Jan 28 13:35:36 2025 
  Took  0.01 


 Starting oncoSimulIndiv-miscell tests Tue Jan 28 13:35:36 2025 

 Ending oncoSimulIndiv-miscell tests Tue Jan 28 13:35:53 2025 
  Took  16.49 


 Starting oncoSimulSample-failures tests Tue Jan 28 13:35:53 2025 

 Ending oncoSimulSample-failures tests Tue Jan 28 13:35:57 2025 
  Took  3.98 


 Starting oncoSimulSample-limits tests Tue Jan 28 13:35:57 2025 

 Ending oncoSimulSample-limits tests Tue Jan 28 13:35:57 2025 
  Took  0.09 


 Starting per-gene-mutation rates at Tue Jan 28 13:35:57 2025 

 Ending per-gene-mutation rates at Tue Jan 28 13:36:40 2025 
  Took  43.79 


 Starting plotFitnessLandscape at Tue Jan 28 13:36:40 2025
 Ending plotFitnessLandscape at Tue Jan 28 13:36:46 2025 
  Took  5.31 


 Starting poset-transformations tests Tue Jan 28 13:36:46 2025 

 Ending poset-transformations tests Tue Jan 28 13:37:03 2025 
  Took  17.59 


 Starting sample-prob Tue Jan 28 13:37:03 2025 
[1] 1.443556e-16
[1] 1.010264e-13
[1] 2.067416e-10
[1] 3.626289e-11
[1] 5.266424e-12
[1] 1.147518e-14
[1] 5.660078e-12
[1] 1.451483e-18
[1] 8.225888e-11
[1] 7.465469e-11
[1] 3.927767e-09
[1] 2.628486e-09

 Ending sample-prob tests Tue Jan 28 13:37:15 2025 
 Took  12.03 



 Starting samplePop tests Tue Jan 28 13:37:15 2025 

 Ending samplePop tests Tue Jan 28 13:37:23 2025 
  Took  8 


 Starting simuls-runs-examples tests Tue Jan 28 13:37:23 2025 

 Ending simuls-runs-examples tests Tue Jan 28 13:37:39 2025 
  Took  15.74 


 Starting user variable tests Tue Jan 28 13:37:39 2025 
[1] "Checking user variable: user_var_1"
[1] "Checking rule: rule_1"

 Ending user variable tests Tue Jan 28 13:37:39 2025 
  Took  0.23 


 Starting warning-mutPropGrowth tests Tue Jan 28 13:37:39 2025 

 Ending warning-mutPropGrowth tests Tue Jan 28 13:37:40 2025 
  Took  0.98 


 Starting wide2long tests Tue Jan 28 13:37:40 2025 

 Ending wide2long tests Tue Jan 28 13:37:41 2025 
  Took  0.53 

[ FAIL 0 | WARN 19 | SKIP 5 | PASS 8410 ]

══ Skipped tests (5) ═══════════════════════════════════════════════════════════
• empty test (5): 'test.FDF-letter-fitness-order.R:376:1',
  'test.ZZ-dummy-skip-warn-test.R:8:1', 'test.ZZ-dummy-skip-warn-test.R:12:1',
  'test.fixation.R:4:1', 'test.init-mutant.R:1099:1'

[ FAIL 0 | WARN 19 | SKIP 5 | PASS 8410 ]
> 
> proc.time()
   user  system elapsed 
268.221  28.416 329.119 

Example timings

OncoSimulR.Rcheck/OncoSimulR-Ex.timings

nameusersystemelapsed
OncoSimulWide2Long0.2650.0010.535
POM0.7040.0520.621
allFitnessEffects2.3690.0323.149
benchmarks0.0130.0000.026
createInterventions0.3670.0040.749
createUserVars0.5320.0000.937
evalAllGenotypes0.2670.0080.276
example-missing-drivers0.2830.0160.379
examplePosets0.3380.0000.339
examplesFitnessEffects0.1060.0000.105
freq-dep-simul-examples0.0210.0000.021
mcfLs000
oncoSimulIndiv1.2510.1051.909
plot.fitnessEffects0.2560.0730.576
plot.oncosimul0.5960.0040.600
plotClonePhylog1.5260.0762.448
plotFitnessLandscape1.5060.0081.882
plotPoset0.1110.0000.110
poset0.1450.0000.146
rfitness0.7820.0040.842
samplePop0.0610.0430.086
simOGraph0.0710.0090.081
to_Magellan0.2120.0240.452
vignette_pre_computed0.0090.0000.017