Back to Multiple platform build/check report for BioC 3.21:   simplified   long
ABCDEFGHIJKLMNOPQ[R]STUVWXYZ

This page was generated on 2025-02-06 11:41 -0500 (Thu, 06 Feb 2025).

HostnameOSArch (*)R versionInstalled pkgs
nebbiolo1Linux (Ubuntu 24.04.1 LTS)x86_64R Under development (unstable) (2025-01-20 r87609) -- "Unsuffered Consequences" 4719
palomino7Windows Server 2022 Datacenterx64R Under development (unstable) (2025-01-21 r87610 ucrt) -- "Unsuffered Consequences" 4480
lconwaymacOS 12.7.1 Montereyx86_64R Under development (unstable) (2025-01-22 r87618) -- "Unsuffered Consequences" 4491
kjohnson3macOS 13.7.1 Venturaarm64R Under development (unstable) (2025-01-20 r87609) -- "Unsuffered Consequences" 4444
Click on any hostname to see more info about the system (e.g. compilers)      (*) as reported by 'uname -p', except on Windows and Mac OS X

Package 1656/2295HostnameOS / ArchINSTALLBUILDCHECKBUILD BIN
RAIDS 1.5.0  (landing page)
Pascal Belleau
Snapshot Date: 2025-02-05 13:48 -0500 (Wed, 05 Feb 2025)
git_url: https://git.bioconductor.org/packages/RAIDS
git_branch: devel
git_last_commit: bb243c9
git_last_commit_date: 2024-10-29 11:24:12 -0500 (Tue, 29 Oct 2024)
nebbiolo1Linux (Ubuntu 24.04.1 LTS) / x86_64  OK    OK    OK  UNNEEDED, same version is already published
palomino7Windows Server 2022 Datacenter / x64  OK    OK    OK    OK  UNNEEDED, same version is already published
lconwaymacOS 12.7.1 Monterey / x86_64  OK    OK    OK    OK  YES
kjohnson3macOS 13.7.1 Ventura / arm64  OK    OK    OK    OK  YES


CHECK results for RAIDS on palomino7

To the developers/maintainers of the RAIDS package:
- Allow up to 24 hours (and sometimes 48 hours) for your latest push to git@git.bioconductor.org:packages/RAIDS.git to reflect on this report. See Troubleshooting Build Report for more information.
- Use the following Renviron settings to reproduce errors and warnings.
- If 'R CMD check' started to fail recently on the Linux builder(s) over a missing dependency, add the missing dependency to 'Suggests:' in your DESCRIPTION file. See Renviron.bioc for more information.

raw results


Summary

Package: RAIDS
Version: 1.5.0
Command: E:\biocbuild\bbs-3.21-bioc\R\bin\R.exe CMD check --no-multiarch --install=check:RAIDS.install-out.txt --library=E:\biocbuild\bbs-3.21-bioc\R\library --no-vignettes --timings RAIDS_1.5.0.tar.gz
StartedAt: 2025-02-06 04:57:13 -0500 (Thu, 06 Feb 2025)
EndedAt: 2025-02-06 05:05:33 -0500 (Thu, 06 Feb 2025)
EllapsedTime: 499.7 seconds
RetCode: 0
Status:   OK  
CheckDir: RAIDS.Rcheck
Warnings: 0

Command output

##############################################################################
##############################################################################
###
### Running command:
###
###   E:\biocbuild\bbs-3.21-bioc\R\bin\R.exe CMD check --no-multiarch --install=check:RAIDS.install-out.txt --library=E:\biocbuild\bbs-3.21-bioc\R\library --no-vignettes --timings RAIDS_1.5.0.tar.gz
###
##############################################################################
##############################################################################


* using log directory 'E:/biocbuild/bbs-3.21-bioc/meat/RAIDS.Rcheck'
* using R Under development (unstable) (2025-01-21 r87610 ucrt)
* using platform: x86_64-w64-mingw32
* R was compiled by
    gcc.exe (GCC) 13.3.0
    GNU Fortran (GCC) 13.3.0
* running under: Windows Server 2022 x64 (build 20348)
* using session charset: UTF-8
* using option '--no-vignettes'
* checking for file 'RAIDS/DESCRIPTION' ... OK
* checking extension type ... Package
* this is package 'RAIDS' version '1.5.0'
* package encoding: UTF-8
* checking package namespace information ... OK
* checking package dependencies ... OK
* checking if this is a source package ... OK
* checking if there is a namespace ... OK
* checking for hidden files and directories ... OK
* checking for portable file names ... OK
* checking whether package 'RAIDS' can be installed ... OK
* checking installed package size ... OK
* checking package directory ... OK
* checking 'build' directory ... OK
* checking DESCRIPTION meta-information ... OK
* checking top-level files ... OK
* checking for left-over files ... OK
* checking index information ... OK
* checking package subdirectories ... OK
* checking code files for non-ASCII characters ... OK
* checking R files for syntax errors ... OK
* checking whether the package can be loaded ... OK
* checking whether the package can be loaded with stated dependencies ... OK
* checking whether the package can be unloaded cleanly ... OK
* checking whether the namespace can be loaded with stated dependencies ... OK
* checking whether the namespace can be unloaded cleanly ... OK
* checking dependencies in R code ... OK
* checking S3 generic/method consistency ... OK
* checking replacement functions ... OK
* checking foreign function calls ... OK
* checking R code for possible problems ... OK
* checking Rd files ... OK
* checking Rd metadata ... OK
* checking Rd cross-references ... OK
* checking for missing documentation entries ... OK
* checking for code/documentation mismatches ... OK
* checking Rd \usage sections ... OK
* checking Rd contents ... OK
* checking for unstated dependencies in examples ... OK
* checking contents of 'data' directory ... OK
* checking data for non-ASCII characters ... OK
* checking data for ASCII and uncompressed saves ... OK
* checking files in 'vignettes' ... OK
* checking examples ... OK
Examples with CPU (user + system) or elapsed time > 5s
                                 user system elapsed
computeAncestryFromSyntheticFile 8.17   0.24    8.41
selParaPCAUpQuartile             6.24   0.09    6.33
readSNVVCF                       5.93   0.03    5.97
* checking for unstated dependencies in 'tests' ... OK
* checking tests ...
  Running 'testthat.R'
 OK
* checking for unstated dependencies in vignettes ... OK
* checking package vignettes ... OK
* checking running R code from vignettes ... SKIPPED
* checking re-building of vignette outputs ... SKIPPED
* checking PDF version of manual ... OK
* DONE

Status: OK


Installation output

RAIDS.Rcheck/00install.out

##############################################################################
##############################################################################
###
### Running command:
###
###   E:\biocbuild\bbs-3.21-bioc\R\bin\R.exe CMD INSTALL RAIDS
###
##############################################################################
##############################################################################


* installing to library 'E:/biocbuild/bbs-3.21-bioc/R/library'
* installing *source* package 'RAIDS' ...
** this is package 'RAIDS' version '1.5.0'
** using staged installation
** R
** data
** inst
** byte-compile and prepare package for lazy loading
** help
*** installing help indices
** building package indices
** installing vignettes
** testing if installed package can be loaded from temporary location
** testing if installed package can be loaded from final location
** testing if installed package keeps a record of temporary installation path
* DONE (RAIDS)

Tests output

RAIDS.Rcheck/tests/testthat.Rout


R Under development (unstable) (2025-01-21 r87610 ucrt) -- "Unsuffered Consequences"
Copyright (C) 2025 The R Foundation for Statistical Computing
Platform: x86_64-w64-mingw32/x64

R is free software and comes with ABSOLUTELY NO WARRANTY.
You are welcome to redistribute it under certain conditions.
Type 'license()' or 'licence()' for distribution details.

R is a collaborative project with many contributors.
Type 'contributors()' for more information and
'citation()' on how to cite R or R packages in publications.

Type 'demo()' for some demos, 'help()' for on-line help, or
'help.start()' for an HTML browser interface to help.
Type 'q()' to quit R.

> library(testthat)
> library(RAIDS)
Loading required package: gdsfmt
Loading required package: SNPRelate
SNPRelate -- supported by Streaming SIMD Extensions 2 (SSE2)
Loading required package: GENESIS
> 
> ## Run all unit tests
> test_check("RAIDS")
[ FAIL 0 | WARN 0 | SKIP 0 | PASS 442 ]
> 
> proc.time()
   user  system elapsed 
  33.20    2.35   39.93 

Example timings

RAIDS.Rcheck/RAIDS-Ex.timings

nameusersystemelapsed
add1KG2SampleGDS0.090.030.25
addBlockFromDetFile000
addBlockInGDSAnnot0.000.010.02
addGDS1KGLDBlock000
addGDSRef0.020.000.01
addGDSStudyPruning000
addGeneBlockGDSRefAnnot1.000.162.21
addGeneBlockRefAnnot000
addRef2GDS1KG0.000.000.05
addStudy1Kg0.000.010.05
addStudyGDSSample0.020.000.01
addUpdateLap000
addUpdateSegment0.010.000.02
appendGDSRefSample000
appendGDSSampleOnly0.000.020.01
appendGDSgenotype0.020.000.02
appendGDSgenotypeMat000
calcAFMLRNA0.010.000.01
computeAlleleFraction000
computeAllelicFractionDNA0.140.030.28
computeAllelicFractionRNA0.30.00.4
computeAllelicImbDNAChr000
computeAncestryFromSynthetic0.000.010.01
computeAncestryFromSyntheticFile8.170.248.41
computeKNNRefSample0.000.030.03
computeKNNRefSynthetic1.720.081.80
computeLOHBlocksDNAChr000
computePCAMultiSynthetic0.000.010.01
computePCARefRMMulti0.330.020.35
computePCARefSample0.390.030.42
computePoolSyntheticAncestryGr0.700.030.73
computeSyntheticConfMat0.000.020.02
computeSyntheticROC0.040.030.06
createAUROCGraph0.950.030.98
createAccuracyGraph0.920.010.94
createStudy2GDS1KG0.050.030.10
demoKnownSuperPop1KG1.760.111.87
demoPCA1KG0.020.020.03
demoPCASyntheticProfiles1.860.091.96
demoPedigreeEx10.030.000.03
estimateAllelicFraction0.090.020.14
generateGDS1KG0.030.000.03
generateGDS1KGgenotypeFromSNPPileup0.070.000.08
generateGDSRefSample0.010.000.01
generateGDSSNPinfo0.000.000.02
generateGDSgenotype0.000.010.03
generateGeneBlock000
generateMapSnvSel000
generatePhase1KG2GDS0.020.020.05
generatePhaseRef0.030.000.03
getBlockIDs000
getRef1KGPop000
getRefSuperPop0.010.000.01
getTableSNV0.020.000.05
groupChr1KGSNV0.090.051.62
identifyRelative0.000.010.04
identifyRelativeRef0.020.000.01
inferAncestry000
inferAncestryGeneAware000
matKNNSynthetic0.060.010.08
pedSynthetic0.060.020.07
prepPed1KG0.020.000.02
prepPedSynthetic1KG0.020.000.01
prepSynthetic0.000.000.05
processBlockChr000
profileAncestry0.030.020.05
pruning1KGbyChr0.000.000.03
pruningSample0.060.010.12
readSNVFileGeneric000
readSNVPileupFile0.090.000.10
readSNVVCF5.930.035.97
runExomeAncestry0.030.000.03
runIBDKING0.040.000.08
runLDPruning0.020.020.03
runProfileAncestry0.010.000.01
runRNAAncestry0.040.000.03
runWrapperAncestry0.010.000.02
selParaPCAUpQuartile6.240.096.33
select1KGPop000
select1KGPopForSynthetic0.010.000.01
snpPositionDemo0.000.020.02
snvListVCF000
splitSelectByPop000
syntheticGeno0.030.000.07
tableBlockAF0.030.010.05
testAlleleFractionChange000
testEmptyBox000
validateAdd1KG2SampleGDS0.020.000.02
validateAddStudy1Kg000
validateCharacterString000
validateComputeAncestryFromSyntheticFile0.010.000.01
validateComputeKNNRefSample0.000.020.02
validateComputeKNNRefSynthetic0.020.000.01
validateComputePCAMultiSynthetic0.010.000.02
validateComputePCARefSample000
validateComputePoolSyntheticAncestryGr0.000.010.01
validateComputeSyntheticRoc0.000.040.04
validateCreateAccuracyGraph000
validateCreateStudy2GDS1KG000
validateDataRefSynParameter000
validateEstimateAllelicFraction0.020.000.01
validateGDSClass000
validateGenerateGDS1KG000
validateLogical000
validatePEDStudyParameter000
validatePepSynthetic0.010.000.02
validatePositiveIntegerVector000
validatePrepPed1KG000
validateProfileGDSExist000
validatePruningSample0.000.010.01
validateRunExomeOrRNAAncestry000
validateSingleRatio000
validateStudyDataFrameParameter000
validateSyntheticGeno0.020.000.02
wrapperAncestry0.010.020.03