Back to Multiple platform build/check report for BioC 3.21:   simplified   long
ABCDEFGHIJKLMNOPQ[R]STUVWXYZ

This page was generated on 2025-02-10 11:40 -0500 (Mon, 10 Feb 2025).

HostnameOSArch (*)R versionInstalled pkgs
nebbiolo1Linux (Ubuntu 24.04.1 LTS)x86_64R Under development (unstable) (2025-01-20 r87609) -- "Unsuffered Consequences" 4719
palomino7Windows Server 2022 Datacenterx64R Under development (unstable) (2025-01-21 r87610 ucrt) -- "Unsuffered Consequences" 4480
lconwaymacOS 12.7.1 Montereyx86_64R Under development (unstable) (2025-01-22 r87618) -- "Unsuffered Consequences" 4491
kjohnson3macOS 13.7.1 Venturaarm64R Under development (unstable) (2025-01-20 r87609) -- "Unsuffered Consequences" 4444
Click on any hostname to see more info about the system (e.g. compilers)      (*) as reported by 'uname -p', except on Windows and Mac OS X

Package 1692/2295HostnameOS / ArchINSTALLBUILDCHECKBUILD BIN
RCy3 2.27.0  (landing page)
Alex Pico
Snapshot Date: 2025-02-09 13:40 -0500 (Sun, 09 Feb 2025)
git_url: https://git.bioconductor.org/packages/RCy3
git_branch: devel
git_last_commit: 6d1a209
git_last_commit_date: 2024-10-29 10:04:47 -0500 (Tue, 29 Oct 2024)
nebbiolo1Linux (Ubuntu 24.04.1 LTS) / x86_64  OK    OK    OK  UNNEEDED, same version is already published
palomino7Windows Server 2022 Datacenter / x64  OK    OK    OK    OK  UNNEEDED, same version is already published
lconwaymacOS 12.7.1 Monterey / x86_64  OK    OK    OK    OK  UNNEEDED, same version is already published
kjohnson3macOS 13.7.1 Ventura / arm64  OK    OK    OK    OK  UNNEEDED, same version is already published


CHECK results for RCy3 on nebbiolo1

To the developers/maintainers of the RCy3 package:
- Allow up to 24 hours (and sometimes 48 hours) for your latest push to git@git.bioconductor.org:packages/RCy3.git to reflect on this report. See Troubleshooting Build Report for more information.
- Use the following Renviron settings to reproduce errors and warnings.
- If 'R CMD check' started to fail recently on the Linux builder(s) over a missing dependency, add the missing dependency to 'Suggests:' in your DESCRIPTION file. See Renviron.bioc for more information.

raw results


Summary

Package: RCy3
Version: 2.27.0
Command: /home/biocbuild/bbs-3.21-bioc/R/bin/R CMD check --install=check:RCy3.install-out.txt --library=/home/biocbuild/bbs-3.21-bioc/R/site-library --timings RCy3_2.27.0.tar.gz
StartedAt: 2025-02-10 01:44:46 -0500 (Mon, 10 Feb 2025)
EndedAt: 2025-02-10 01:46:22 -0500 (Mon, 10 Feb 2025)
EllapsedTime: 96.2 seconds
RetCode: 0
Status:   OK  
CheckDir: RCy3.Rcheck
Warnings: 0

Command output

##############################################################################
##############################################################################
###
### Running command:
###
###   /home/biocbuild/bbs-3.21-bioc/R/bin/R CMD check --install=check:RCy3.install-out.txt --library=/home/biocbuild/bbs-3.21-bioc/R/site-library --timings RCy3_2.27.0.tar.gz
###
##############################################################################
##############################################################################


* using log directory ‘/home/biocbuild/bbs-3.21-bioc/meat/RCy3.Rcheck’
* using R Under development (unstable) (2025-01-20 r87609)
* using platform: x86_64-pc-linux-gnu
* R was compiled by
    gcc (Ubuntu 13.3.0-6ubuntu2~24.04) 13.3.0
    GNU Fortran (Ubuntu 13.3.0-6ubuntu2~24.04) 13.3.0
* running under: Ubuntu 24.04.1 LTS
* using session charset: UTF-8
* checking for file ‘RCy3/DESCRIPTION’ ... OK
* checking extension type ... Package
* this is package ‘RCy3’ version ‘2.27.0’
* package encoding: UTF-8
* checking package namespace information ... OK
* checking package dependencies ... OK
* checking if this is a source package ... OK
* checking if there is a namespace ... OK
* checking for hidden files and directories ... NOTE
Found the following hidden files and directories:
  .travis.yml
These were most likely included in error. See section ‘Package
structure’ in the ‘Writing R Extensions’ manual.
* checking for portable file names ... OK
* checking for sufficient/correct file permissions ... OK
* checking whether package ‘RCy3’ can be installed ... OK
* checking installed package size ... OK
* checking package directory ... OK
* checking ‘build’ directory ... OK
* checking DESCRIPTION meta-information ... NOTE
License stub is invalid DCF.
* checking top-level files ... OK
* checking for left-over files ... OK
* checking index information ... OK
* checking package subdirectories ... OK
* checking code files for non-ASCII characters ... OK
* checking R files for syntax errors ... OK
* checking whether the package can be loaded ... OK
* checking whether the package can be loaded with stated dependencies ... OK
* checking whether the package can be unloaded cleanly ... OK
* checking whether the namespace can be loaded with stated dependencies ... OK
* checking whether the namespace can be unloaded cleanly ... OK
* checking loading without being on the library search path ... OK
* checking dependencies in R code ... OK
* checking S3 generic/method consistency ... OK
* checking replacement functions ... OK
* checking foreign function calls ... OK
* checking R code for possible problems ... NOTE
.checkHexColor: no visible global function definition for ‘colors’
.edgeNameToEdgeSUID: no visible binding for global variable ‘SUID’
.nodeNameToNodeSUID: no visible binding for global variable ‘SUID’
createNetworkFromDataFrames: no visible binding for global variable
  ‘SUID’
Undefined global functions or variables:
  SUID colors
Consider adding
  importFrom("grDevices", "colors")
to your NAMESPACE file.
* checking Rd files ... NOTE
checkRd: (-1) importFileFromUrl.Rd:24: Lost braces; missing escapes or markup?
    24 | dict: {'filePath': <new file's absolute path in Cytoscape workstation>, 'fileByteCount': number of bytes read}
       |       ^
checkRd: (-1) sandboxGetFileInfo.Rd:17: Lost braces; missing escapes or markup?
    17 | dict: {'filePath': <full path on Cytoscape workstation>, 'modifiedTime': <last changed time, '' if file doesn't exist>, 'isFile': <True if file, False if directory>}
       |       ^
checkRd: (-1) sandboxRemove.Rd:15: Lost braces; missing escapes or markup?
    15 | dict: {'sandboxPath': <directory on Cytoscape workstation>, 'existed': <True if sandbox existed>}
       |       ^
checkRd: (-1) sandboxRemoveFile.Rd:17: Lost braces; missing escapes or markup?
    17 | dict: {'filePath': <file's absolute path in Cytoscape workstation>, 'existed': True if file existed before being deleted}
       |       ^
checkRd: (-1) sandboxUrlTo.Rd:27: Lost braces; missing escapes or markup?
    27 | dict: {'filePath': <new file's absolute path in Cytoscape workstation>, 'fileByteCount': number of bytes read}
       |       ^
* checking Rd metadata ... OK
* checking Rd cross-references ... OK
* checking for missing documentation entries ... OK
* checking for code/documentation mismatches ... OK
* checking Rd \usage sections ... OK
* checking Rd contents ... OK
* checking for unstated dependencies in examples ... OK
* checking files in ‘vignettes’ ... OK
* checking examples ... OK
* checking for unstated dependencies in ‘tests’ ... OK
* checking tests ...
  Running ‘runTests.R’
 OK
* checking for unstated dependencies in vignettes ... OK
* checking package vignettes ... OK
* checking re-building of vignette outputs ... OK
* checking PDF version of manual ... OK
* DONE

Status: 4 NOTEs
See
  ‘/home/biocbuild/bbs-3.21-bioc/meat/RCy3.Rcheck/00check.log’
for details.


Installation output

RCy3.Rcheck/00install.out

##############################################################################
##############################################################################
###
### Running command:
###
###   /home/biocbuild/bbs-3.21-bioc/R/bin/R CMD INSTALL RCy3
###
##############################################################################
##############################################################################


* installing to library ‘/home/biocbuild/bbs-3.21-bioc/R/site-library’
* installing *source* package ‘RCy3’ ...
** this is package ‘RCy3’ version ‘2.27.0’
** using staged installation
** R
** inst
** byte-compile and prepare package for lazy loading
** help
*** installing help indices
** building package indices
** installing vignettes
** testing if installed package can be loaded from temporary location
** testing if installed package can be loaded from final location
** testing if installed package keeps a record of temporary installation path
* DONE (RCy3)

Tests output

RCy3.Rcheck/tests/runTests.Rout


R Under development (unstable) (2025-01-20 r87609) -- "Unsuffered Consequences"
Copyright (C) 2025 The R Foundation for Statistical Computing
Platform: x86_64-pc-linux-gnu

R is free software and comes with ABSOLUTELY NO WARRANTY.
You are welcome to redistribute it under certain conditions.
Type 'license()' or 'licence()' for distribution details.

R is a collaborative project with many contributors.
Type 'contributors()' for more information and
'citation()' on how to cite R or R packages in publications.

Type 'demo()' for some demos, 'help()' for on-line help, or
'help.start()' for an HTML browser interface to help.
Type 'q()' to quit R.

> # tests disabled as the Bioconductor build system no longer supports interactive sessions
> #require(RCy3) || stop("unable to load RCy3")
> #BiocGenerics:::testPackage('RCy3')
> 
> proc.time()
   user  system elapsed 
  0.145   0.028   0.163 

Example timings

RCy3.Rcheck/RCy3-Ex.timings

nameusersystemelapsed
AddToGroup0.0010.0000.000
RemoveFromGroup000
UpdateAnnotationBoundedText000
addAnnotationBoundedText000
addAnnotationImage0.0000.0000.001
addAnnotationShape000
addAnnotationText0.0010.0000.000
addCyEdges000
addCyNodes000
analyzeNetwork0.0000.0000.001
applyFilter000
bundleEdges000
checkNotebookIsRunning0.0000.0000.001
checkRunningRemote000
clearEdgeBends000
clearEdgePropertyBypass0.0000.0000.001
clearNetworkCenterBypass000
clearNetworkPropertyBypass000
clearNetworkZoomBypass0.0000.0000.001
clearNodeOpacityBypass000
clearNodePropertyBypass000
clearSelection000
cloneNetwork000
closeSession0.0000.0010.000
collapseGroup000
commandEcho000
commandOpenDialog000
commandPause000
commandQuit000
commandRunFile000
commandSleep000
commandsAPI000
commandsGET000
commandsHelp0.0000.0010.001
commandsPOST000
commandsRun0.0010.0000.000
copyVisualStyle000
createColumnFilter000
createCompositeFilter0.0000.0000.001
createCytoscapejsFromNetwork000
createDegreeFilter0.0010.0000.000
createGraphFromNetwork000
createGroup000
createGroupByColumn000
createIgraphFromNetwork000
createNetworkFromCytoscapejs000
createNetworkFromDataFrames000
createNetworkFromGraph000
createNetworkFromIgraph000
createSubnetwork000
createView000
createVisualStyle0.0000.0000.001
cybrowserClose000
cybrowserDialog000
cybrowserHide000
cybrowserList000
cybrowserSend0.0000.0000.001
cybrowserShow000
cybrowserVersion000
cyrestAPI0.0000.0010.001
cyrestDELETE000
cyrestGET000
cyrestPOST000
cyrestPUT0.0010.0000.000
cytoscapeApiVersions000
cytoscapeFreeMemory000
cytoscapeMemoryStatus000
cytoscapeNumberOfCores000
cytoscapePing0.0010.0000.000
cytoscapeVersionInfo000
deleteAllNetworks000
deleteAllVisualStyle0.0000.0000.001
deleteAnnotation000
deleteDuplicateEdges000
deleteGroup000
deleteNetwork000
deleteSelectedEdges0.0000.0010.001
deleteSelectedNodes000
deleteSelfLoops000
deleteStyleMapping000
deleteTableColumn000
deleteVisualStyle0.0000.0000.001
diffusionAdvanced000
diffusionBasic000
disableApp000
doInitializeSandbox000
doRequestRemote0.0000.0000.001
doSetSandbox000
dockPanel000
dot-exportShowImage000
dot-getDefaultSandbox000
dot-getRequester0.0000.0000.001
enableApp000
expandGroup000
exportFilters000
exportImage0.0010.0000.000
exportJPG0.0000.0000.001
exportNetwork000
exportNetworkToNDEx000
exportPDF000
exportPNG000
exportPS0.0000.0000.001
exportSVG000
exportVisualStyles000
findRemoteCytoscape000
fitContent000
floatPanel0.0000.0000.001
getAbsSandboxPath000
getAllEdges000
getAllNodes000
getAllStyleMappings000
getAnnotationList000
getAppInformation000
getAppStatus000
getAppUpdates000
getArrowShapes000
getAvailableApps000
getBackgroundColorDefault000
getBrowserClientChannel000
getBrowserClientJs0.0000.0000.001
getCollectionList000
getCollectionName000
getCollectionNetworks000
getCollectionSuid000
getCurrentSandbox0.0000.0000.001
getCurrentSandboxName000
getCurrentSandboxPath000
getCurrentStyle000
getDefaultSandbox000
getDefaultSandboxPath0.0000.0000.001
getDisabledApps000
getEdgeColor000
getEdgeCount000
getEdgeInfo000
getEdgeLineStyle0.0000.0000.001
getEdgeLineWidth000
getEdgeProperty000
getEdgeSelectionColorDefault000
getEdgeTargetArrowShape000
getFilterList0.0000.0000.001
getFirstNeighbors000
getGroupInfo0.0010.0000.000
getInstalledApps000
getJupyterBridgeURL000
getLayoutNameMapping0.0000.0000.001
getLayoutNames000
getLayoutPropertyNames000
getLayoutPropertyType000
getLayoutPropertyValue000
getLineStyles0.0000.0000.001
getNetworkCenter000
getNetworkCount0.0010.0000.000
getNetworkList000
getNetworkNDExId000
getNetworkName0.0000.0000.001
getNetworkProperty000
getNetworkSuid000
getNetworkViewSuid000
getNetworkViews000
getNetworkZoom0.0000.0000.001
getNodeColor000
getNodeCount000
getNodeHeight000
getNodeLabelPosition000
getNodeLabelPositionDefault000
getNodePosition000
getNodeProperty000
getNodeSelectionColorDefault0.0000.0010.001
getNodeShapes000
getNodeSize000
getNodeWidth0.0000.0000.001
getNotebookIsRunning000
getSandboxReinitialize0.0010.0000.000
getSelectedEdgeCount0.0000.0000.001
getSelectedEdges000
getSelectedNodeCount000
getSelectedNodes000
getStyleDependencies000
getStyleMapping000
getTableColumnNames000
getTableColumnTypes000
getTableColumns0.0000.0000.001
getTableValue000
getUninstalledApps000
getVisualPropertyDefault000
getVisualPropertyNames000
getVisualStyleJSON0.0000.0000.001
getVisualStyleNames000
groupAnnotation000
hideAllPanels000
hideEdges000
hideNodes000
hidePanel000
hideSelectedEdges000
hideSelectedNodes0.0000.0000.001
importFileFromUrl000
importFilters0.0010.0000.000
importNetworkFromFile000
importNetworkFromNDEx000
importVisualStyles000
installApp000
invertEdgeSelection000
invertNodeSelection0.0000.0000.001
layoutCopycat000
layoutNetwork000
listGroups000
lockNodeDimensions000
makeSimpleGraph0.0580.0020.059
makeSimpleIgraph0.0660.0030.068
mapTableColumn000
mapVisualProperty000
matchArrowColorToEdge000
mergeNetworks000
notebookExportShowImage000
notebookShowImage0.0010.0000.000
openAppStore000
openSession000
paletteColorBrewerAccent0.0030.0010.004
paletteColorBrewerBlues000
paletteColorBrewerBrBG000
paletteColorBrewerBuGn000
paletteColorBrewerBuPu0.0010.0010.001
paletteColorBrewerDark20.0000.0000.001
paletteColorBrewerGnBu000
paletteColorBrewerGreens000
paletteColorBrewerGreys000
paletteColorBrewerOrRd0.0000.0010.001
paletteColorBrewerOranges000
paletteColorBrewerPRGn000
paletteColorBrewerPaired0.0010.0000.000
paletteColorBrewerPastel10.0010.0000.000
paletteColorBrewerPastel20.0000.0000.001
paletteColorBrewerPiYG000
paletteColorBrewerPuBu000
paletteColorBrewerPuBuGn000
paletteColorBrewerPuOr0.0000.0010.001
paletteColorBrewerPuRd000
paletteColorBrewerPurples000
paletteColorBrewerRdBu0.0010.0000.000
paletteColorBrewerRdPu0.0000.0000.001
paletteColorBrewerRdYlBu0.0000.0010.001
paletteColorBrewerReds000
paletteColorBrewerSet1000
paletteColorBrewerSet20.0000.0000.001
paletteColorBrewerSet30.0000.0000.001
paletteColorBrewerYlGn000
paletteColorBrewerYlGnBu000
paletteColorBrewerYlOrBr0.0010.0000.000
paletteColorBrewerYlOrRd0.0000.0000.001
paletteColorRandom0.0000.0000.001
paletteColorVirdis0.0000.0010.001
removeNodeCustomGraphics000
renameNetwork000
renameTableColumn000
resetDefaultSandbox000
rotateLayout0.0000.0010.000
runningRemoteCheck000
sandboxGetFileInfo000
sandboxGetFrom0.0000.0000.001
sandboxInitializer000
sandboxRemove0.0010.0000.000
sandboxRemoveFile0.0000.0000.001
sandboxSendTo000
sandboxSet000
sandboxUrlTo000
saveSession000
scaleLayout0.0000.0010.000
selectAll000
selectAllEdges000
selectAllNodes0.0000.0010.001
selectEdges000
selectEdgesAdjacentToNodes000
selectEdgesAdjacentToSelectedNodes000
selectEdgesConnectingSelectedNodes000
selectFirstNeighbors0.0000.0010.001
selectNodes000
selectNodesConnectedBySelectedEdges0.0010.0000.000
setBackgroundColorDefault000
setCatchupFilterSecs000
setCatchupNetworkSecs000
setCurrentNetwork000
setCurrentSandbox000
setCurrentView0.0010.0000.000
setDefaultSandbox000
setDefaultSandboxPath0.0000.0000.001
setEdgeColorBypass000
setEdgeColorDefault000
setEdgeColorMapping000
setEdgeFontFaceBypass000
setEdgeFontFaceDefault0.0010.0000.000
setEdgeFontFaceMapping000
setEdgeFontSizeBypass000
setEdgeFontSizeDefault000
setEdgeFontSizeMapping000
setEdgeLabelBypass0.0010.0000.000
setEdgeLabelColorBypass0.0000.0000.001
setEdgeLabelColorDefault000
setEdgeLabelColorMapping000
setEdgeLabelDefault000
setEdgeLabelMapping000
setEdgeLabelOpacityBypass0.0000.0010.000
setEdgeLabelOpacityDefault000
setEdgeLabelOpacityMapping000
setEdgeLineStyleBypass0.0000.0010.001
setEdgeLineStyleDefault000
setEdgeLineStyleMapping000
setEdgeLineWidthBypass000
setEdgeLineWidthDefault000
setEdgeLineWidthMapping000
setEdgeOpacityBypass000
setEdgeOpacityDefault000
setEdgeOpacityMapping0.0000.0000.001
setEdgePropertyBypass000
setEdgeSelectionColorDefault0.0010.0000.000
setEdgeSourceArrowColorBypass000
setEdgeSourceArrowColorDefault000
setEdgeSourceArrowColorMapping000
setEdgeSourceArrowMapping000
setEdgeSourceArrowShapeBypass000
setEdgeSourceArrowShapeDefault0.0000.0000.001
setEdgeSourceArrowShapeMapping000
setEdgeTargetArrowColorBypass000
setEdgeTargetArrowColorDefault000
setEdgeTargetArrowColorMapping000
setEdgeTargetArrowMapping000
setEdgeTargetArrowShapeBypass000
setEdgeTargetArrowShapeDefault000
setEdgeTargetArrowShapeMapping0.0000.0000.001
setEdgeTooltipBypass000
setEdgeTooltipDefault000
setEdgeTooltipMapping000
setLayoutProperties000
setModelPropagationSecs0.0000.0000.001
setNetworkCenterBypass0.0000.0010.000
setNetworkPropertyBypass000
setNetworkZoomBypass000
setNodeBorderColorBypass000
setNodeBorderColorDefault0.0010.0000.000
setNodeBorderColorMapping0.0000.0000.001
setNodeBorderOpacityBypass000
setNodeBorderOpacityDefault000
setNodeBorderOpacityMapping000
setNodeBorderWidthBypass000
setNodeBorderWidthDefault0.0000.0000.001
setNodeBorderWidthMapping000
setNodeColorBypass0.0010.0000.000
setNodeColorDefault000
setNodeColorMapping000
setNodeComboOpacityMapping000
setNodeCustomBarChart000
setNodeCustomBoxChart000
setNodeCustomHeatMapChart0.0000.0000.001
setNodeCustomLineChart000
setNodeCustomLinearGradient000
setNodeCustomPieChart000
setNodeCustomPosition000
setNodeCustomRadialGradient000
setNodeCustomRingChart000
setNodeFillOpacityBypass000
setNodeFillOpacityDefault0.0000.0000.001
setNodeFillOpacityMapping000
setNodeFontFaceBypass0.0010.0000.000
setNodeFontFaceDefault000
setNodeFontFaceMapping000
setNodeFontSizeBypass000
setNodeFontSizeDefault000
setNodeFontSizeMapping0.0010.0000.000
setNodeHeightBypass0.0000.0000.001
setNodeHeightDefault000
setNodeHeightMapping000
setNodeLabelBypass000
setNodeLabelColorBypass000
setNodeLabelColorDefault0.0000.0000.001
setNodeLabelColorMapping000
setNodeLabelDefault000
setNodeLabelMapping000
setNodeLabelOpacityBypass000
setNodeLabelOpacityDefault000
setNodeLabelOpacityMapping000
setNodeLabelPositionBypass0.0010.0000.000
setNodeLabelPositionDefault0.0000.0000.001
setNodeOpacityBypass000
setNodePositionBypass000
setNodePropertyBypass000
setNodeSelectionColorDefault000
setNodeShapeBypass0.0000.0000.001
setNodeShapeDefault000
setNodeShapeMapping0.0010.0000.000
setNodeSizeBypass000
setNodeSizeDefault000
setNodeSizeMapping000
setNodeTooltipBypass000
setNodeTooltipDefault0.0010.0000.000
setNodeTooltipMapping0.0000.0000.001
setNodeWidthBypass000
setNodeWidthDefault000
setNodeWidthMapping000
setNotebookIsRunning000
setSandboxReinitialize0.0000.0000.001
setStyleDependencies000
setVisualPropertyDefault000
setVisualStyle000
syncNodeCustomGraphicsSize000
toggleGraphicsDetails000
ungroupAnnotation000
unhideAll0.0010.0000.000
unhideEdges0.0000.0000.001
unhideNodes000
uninstallApp000
updateAnnotationImage000
updateAnnotationShape000
updateAnnotationText0.0000.0000.001
updateApp000
updateGroupAnnotation000
updateNetworkInNDEx0.0000.0010.001
updateStyleDefaults000
updateStyleMapping000