Back to Multiple platform build/check report for BioC 3.21:   simplified   long
ABCDEFGHIJKLMNOPQ[R]STUVWXYZ

This page was generated on 2025-02-05 11:40 -0500 (Wed, 05 Feb 2025).

HostnameOSArch (*)R versionInstalled pkgs
nebbiolo1Linux (Ubuntu 24.04.1 LTS)x86_64R Under development (unstable) (2025-01-20 r87609) -- "Unsuffered Consequences" 4717
palomino7Windows Server 2022 Datacenterx64R Under development (unstable) (2025-01-21 r87610 ucrt) -- "Unsuffered Consequences" 4478
lconwaymacOS 12.7.1 Montereyx86_64R Under development (unstable) (2025-01-22 r87618) -- "Unsuffered Consequences" 4489
kjohnson3macOS 13.7.1 Venturaarm64R Under development (unstable) (2025-01-20 r87609) -- "Unsuffered Consequences" 4442
Click on any hostname to see more info about the system (e.g. compilers)      (*) as reported by 'uname -p', except on Windows and Mac OS X

Package 1698/2295HostnameOS / ArchINSTALLBUILDCHECKBUILD BIN
ReactomeGSA 1.21.2  (landing page)
Johannes Griss
Snapshot Date: 2025-02-04 13:40 -0500 (Tue, 04 Feb 2025)
git_url: https://git.bioconductor.org/packages/ReactomeGSA
git_branch: devel
git_last_commit: 1612e12
git_last_commit_date: 2024-11-27 14:03:16 -0500 (Wed, 27 Nov 2024)
nebbiolo1Linux (Ubuntu 24.04.1 LTS) / x86_64  OK    OK    OK  UNNEEDED, same version is already published
palomino7Windows Server 2022 Datacenter / x64  OK    ERROR  skippedskipped
lconwaymacOS 12.7.1 Monterey / x86_64  OK    OK    OK    OK  UNNEEDED, same version is already published
kjohnson3macOS 13.7.1 Ventura / arm64  OK    OK    OK    OK  UNNEEDED, same version is already published


CHECK results for ReactomeGSA on nebbiolo1

To the developers/maintainers of the ReactomeGSA package:
- Allow up to 24 hours (and sometimes 48 hours) for your latest push to git@git.bioconductor.org:packages/ReactomeGSA.git to reflect on this report. See Troubleshooting Build Report for more information.
- Use the following Renviron settings to reproduce errors and warnings.
- If 'R CMD check' started to fail recently on the Linux builder(s) over a missing dependency, add the missing dependency to 'Suggests:' in your DESCRIPTION file. See Renviron.bioc for more information.

raw results


Summary

Package: ReactomeGSA
Version: 1.21.2
Command: /home/biocbuild/bbs-3.21-bioc/R/bin/R CMD check --install=check:ReactomeGSA.install-out.txt --library=/home/biocbuild/bbs-3.21-bioc/R/site-library --timings ReactomeGSA_1.21.2.tar.gz
StartedAt: 2025-02-05 01:53:06 -0500 (Wed, 05 Feb 2025)
EndedAt: 2025-02-05 02:12:41 -0500 (Wed, 05 Feb 2025)
EllapsedTime: 1174.9 seconds
RetCode: 0
Status:   OK  
CheckDir: ReactomeGSA.Rcheck
Warnings: 0

Command output

##############################################################################
##############################################################################
###
### Running command:
###
###   /home/biocbuild/bbs-3.21-bioc/R/bin/R CMD check --install=check:ReactomeGSA.install-out.txt --library=/home/biocbuild/bbs-3.21-bioc/R/site-library --timings ReactomeGSA_1.21.2.tar.gz
###
##############################################################################
##############################################################################


* using log directory ‘/home/biocbuild/bbs-3.21-bioc/meat/ReactomeGSA.Rcheck’
* using R Under development (unstable) (2025-01-20 r87609)
* using platform: x86_64-pc-linux-gnu
* R was compiled by
    gcc (Ubuntu 13.3.0-6ubuntu2~24.04) 13.3.0
    GNU Fortran (Ubuntu 13.3.0-6ubuntu2~24.04) 13.3.0
* running under: Ubuntu 24.04.1 LTS
* using session charset: UTF-8
* checking for file ‘ReactomeGSA/DESCRIPTION’ ... OK
* checking extension type ... Package
* this is package ‘ReactomeGSA’ version ‘1.21.2’
* package encoding: UTF-8
* checking package namespace information ... OK
* checking package dependencies ... OK
* checking if this is a source package ... OK
* checking if there is a namespace ... OK
* checking for hidden files and directories ... OK
* checking for portable file names ... OK
* checking for sufficient/correct file permissions ... OK
* checking whether package ‘ReactomeGSA’ can be installed ... OK
* checking installed package size ... OK
* checking package directory ... OK
* checking ‘build’ directory ... OK
* checking DESCRIPTION meta-information ... OK
* checking top-level files ... OK
* checking for left-over files ... OK
* checking index information ... OK
* checking package subdirectories ... OK
* checking code files for non-ASCII characters ... OK
* checking R files for syntax errors ... OK
* checking whether the package can be loaded ... OK
* checking whether the package can be loaded with stated dependencies ... OK
* checking whether the package can be unloaded cleanly ... OK
* checking whether the namespace can be loaded with stated dependencies ... OK
* checking whether the namespace can be unloaded cleanly ... OK
* checking loading without being on the library search path ... OK
* checking whether startup messages can be suppressed ... OK
* checking dependencies in R code ... OK
* checking S3 generic/method consistency ... OK
* checking replacement functions ... OK
* checking foreign function calls ... OK
* checking R code for possible problems ... NOTE
plot_correlations,ReactomeAnalysisResult: no visible binding for global
  variable ‘combined_sig’
plot_correlations,ReactomeAnalysisResult: no visible binding for global
  variable ‘alpha’
plot_gsva_pathway,ReactomeAnalysisResult: no visible binding for global
  variable ‘cluster_id’
plot_gsva_pathway,ReactomeAnalysisResult: no visible binding for global
  variable ‘expr’
plot_gsva_pca,ReactomeAnalysisResult: no visible binding for global
  variable ‘gsva_result’
plot_gsva_pca,ReactomeAnalysisResult: no visible binding for global
  variable ‘PC1’
plot_gsva_pca,ReactomeAnalysisResult: no visible binding for global
  variable ‘PC2’
plot_heatmap,ReactomeAnalysisResult: no visible global function
  definition for ‘desc’
plot_heatmap,ReactomeAnalysisResult: no visible binding for global
  variable ‘n_sig’
plot_heatmap,ReactomeAnalysisResult: no visible binding for global
  variable ‘dataset’
plot_heatmap,ReactomeAnalysisResult: no visible binding for global
  variable ‘Name’
plot_volcano,ReactomeAnalysisResult: no visible binding for global
  variable ‘av_foldchange’
plot_volcano,ReactomeAnalysisResult: no visible binding for global
  variable ‘FDR’
Undefined global functions or variables:
  FDR Name PC1 PC2 alpha av_foldchange cluster_id combined_sig dataset
  desc expr gsva_result n_sig
* checking Rd files ... OK
* checking Rd metadata ... OK
* checking Rd cross-references ... OK
* checking for missing documentation entries ... OK
* checking for code/documentation mismatches ... OK
* checking Rd \usage sections ... OK
* checking Rd contents ... OK
* checking for unstated dependencies in examples ... OK
* checking files in ‘vignettes’ ... OK
* checking examples ... OK
Examples with CPU (user + system) or elapsed time > 5s
                                                  user system elapsed
plot_gsva_heatmap-ReactomeAnalysisResult-method 39.989  2.784 105.553
plot_gsva_pathway                               34.629  2.077  64.877
plot_gsva_pca                                   34.625  1.762  86.716
analyse_sc_clusters                             34.588  1.394 102.363
plot_gsva_pathway-ReactomeAnalysisResult-method 34.009  1.870  70.381
plot_gsva_heatmap                               33.378  1.821  65.062
plot_gsva_pca-ReactomeAnalysisResult-method     31.663  2.234  64.223
analyse_sc_clusters-Seurat-method               32.775  0.988  71.667
analyse_sc_clusters-SingleCellExperiment-method 31.828  1.261  68.753
generate_pseudo_bulk_data                       14.516  1.405  15.950
perform_reactome_analysis                        6.669  0.478  59.571
load_public_dataset                              3.789  0.282  35.510
* checking for unstated dependencies in ‘tests’ ... OK
* checking tests ...
  Running ‘testthat.R’
 OK
* checking for unstated dependencies in vignettes ... OK
* checking package vignettes ... OK
* checking re-building of vignette outputs ... OK
* checking PDF version of manual ... OK
* DONE

Status: 1 NOTE
See
  ‘/home/biocbuild/bbs-3.21-bioc/meat/ReactomeGSA.Rcheck/00check.log’
for details.


Installation output

ReactomeGSA.Rcheck/00install.out

##############################################################################
##############################################################################
###
### Running command:
###
###   /home/biocbuild/bbs-3.21-bioc/R/bin/R CMD INSTALL ReactomeGSA
###
##############################################################################
##############################################################################


* installing to library ‘/home/biocbuild/bbs-3.21-bioc/R/site-library’
* installing *source* package ‘ReactomeGSA’ ...
** this is package ‘ReactomeGSA’ version ‘1.21.2’
** using staged installation
** R
** inst
** byte-compile and prepare package for lazy loading
in method for ‘analyse_sc_clusters’ with signature ‘object="Seurat"’: no definition for class “Seurat”
in method for ‘analyse_sc_clusters’ with signature ‘object="SingleCellExperiment"’: no definition for class “SingleCellExperiment”
in method for ‘add_dataset’ with signature ‘request="ReactomeAnalysisRequest",expression_values="EList"’: no definition for class “EList”
in method for ‘add_dataset’ with signature ‘request="ReactomeAnalysisRequest",expression_values="DGEList"’: no definition for class “DGEList”
in method for ‘generate_pseudo_bulk_data’ with signature ‘object="Seurat"’: no definition for class “Seurat”
in method for ‘generate_pseudo_bulk_data’ with signature ‘object="SingleCellExperiment"’: no definition for class “SingleCellExperiment”
** help
*** installing help indices
** building package indices
** installing vignettes
** testing if installed package can be loaded from temporary location
** testing if installed package can be loaded from final location
** testing if installed package keeps a record of temporary installation path
* DONE (ReactomeGSA)

Tests output

ReactomeGSA.Rcheck/tests/testthat.Rout


R Under development (unstable) (2025-01-20 r87609) -- "Unsuffered Consequences"
Copyright (C) 2025 The R Foundation for Statistical Computing
Platform: x86_64-pc-linux-gnu

R is free software and comes with ABSOLUTELY NO WARRANTY.
You are welcome to redistribute it under certain conditions.
Type 'license()' or 'licence()' for distribution details.

R is a collaborative project with many contributors.
Type 'contributors()' for more information and
'citation()' on how to cite R or R packages in publications.

Type 'demo()' for some demos, 'help()' for on-line help, or
'help.start()' for an HTML browser interface to help.
Type 'q()' to quit R.

> library(testthat)
> library(ReactomeGSA)
> 
> test_check("ReactomeGSA")
[ FAIL 0 | WARN 0 | SKIP 0 | PASS 17 ]
> 
> proc.time()
   user  system elapsed 
  1.550   0.085   1.623 

Example timings

ReactomeGSA.Rcheck/ReactomeGSA-Ex.timings

nameusersystemelapsed
ReactomeAnalysisRequest4.6760.2744.953
ReactomeAnalysisResult-class0.1840.0060.191
add_dataset-ReactomeAnalysisRequest-DGEList-method0.7300.0040.735
add_dataset-ReactomeAnalysisRequest-EList-method0.5790.0040.583
add_dataset-ReactomeAnalysisRequest-ExpressionSet-method0.6060.0040.609
add_dataset-ReactomeAnalysisRequest-data.frame-method1.0470.0671.114
add_dataset-ReactomeAnalysisRequest-matrix-method0.5490.0090.558
add_dataset0.5500.0020.553
analyse_sc_clusters-Seurat-method32.775 0.98871.667
analyse_sc_clusters-SingleCellExperiment-method31.828 1.26168.753
analyse_sc_clusters 34.588 1.394102.363
find_public_datasets0.3400.0294.699
generate_metadata0.0010.0010.001
generate_pseudo_bulk_data14.516 1.40515.950
get_public_species0.1400.0000.571
get_reactome_data_types0.3210.0101.264
get_reactome_methods0.3950.0271.818
get_result-ReactomeAnalysisResult-method0.2170.0320.248
get_result0.1820.0090.190
load_public_dataset 3.789 0.28235.510
names-ReactomeAnalysisResult-method0.2210.0170.238
open_reactome-ReactomeAnalysisResult-method0.2210.0190.242
open_reactome0.2050.0140.220
pathways-ReactomeAnalysisResult-method0.2390.0200.260
pathways0.2180.0150.232
perform_reactome_analysis 6.669 0.47859.571
plot_correlations-ReactomeAnalysisResult-method0.2670.0100.277
plot_correlations0.2480.0110.259
plot_gsva_heatmap-ReactomeAnalysisResult-method 39.989 2.784105.553
plot_gsva_heatmap33.378 1.82165.062
plot_gsva_pathway-ReactomeAnalysisResult-method34.009 1.87070.381
plot_gsva_pathway34.629 2.07764.877
plot_gsva_pca-ReactomeAnalysisResult-method31.663 2.23464.223
plot_gsva_pca34.625 1.76286.716
plot_heatmap-ReactomeAnalysisResult-method0.4700.0320.502
plot_heatmap0.6220.0380.660
plot_volcano-ReactomeAnalysisResult-method0.2280.0060.234
plot_volcano0.2460.0160.261
print-ReactomeAnalysisRequest-method0.0020.0010.001
print-ReactomeAnalysisResult-method0.2280.0040.232
reactome_links-ReactomeAnalysisResult-method0.2130.0140.227
reactome_links0.1830.0060.190
result_types-ReactomeAnalysisResult-method0.1930.0080.202
result_types0.2010.0110.212
set_method-ReactomeAnalysisRequest-method0.0030.0000.002
set_method0.0020.0010.002
set_parameters-ReactomeAnalysisRequest-method0.0000.0010.002
set_parameters0.0010.0000.002
show-ReactomeAnalysisRequest-method0.0010.0000.002
show-ReactomeAnalysisResult-method0.2010.0060.207