Back to Multiple platform build/check report for BioC 3.21: simplified long |
|
This page was generated on 2025-02-06 11:40 -0500 (Thu, 06 Feb 2025).
Hostname | OS | Arch (*) | R version | Installed pkgs |
---|---|---|---|---|
nebbiolo1 | Linux (Ubuntu 24.04.1 LTS) | x86_64 | R Under development (unstable) (2025-01-20 r87609) -- "Unsuffered Consequences" | 4719 |
palomino7 | Windows Server 2022 Datacenter | x64 | R Under development (unstable) (2025-01-21 r87610 ucrt) -- "Unsuffered Consequences" | 4480 |
lconway | macOS 12.7.1 Monterey | x86_64 | R Under development (unstable) (2025-01-22 r87618) -- "Unsuffered Consequences" | 4491 |
kjohnson3 | macOS 13.7.1 Ventura | arm64 | R Under development (unstable) (2025-01-20 r87609) -- "Unsuffered Consequences" | 4444 |
Click on any hostname to see more info about the system (e.g. compilers) (*) as reported by 'uname -p', except on Windows and Mac OS X |
Package 1731/2295 | Hostname | OS / Arch | INSTALL | BUILD | CHECK | BUILD BIN | ||||||||
Rfastp 1.17.0 (landing page) Thomas Carroll
| nebbiolo1 | Linux (Ubuntu 24.04.1 LTS) / x86_64 | OK | OK | WARNINGS | ![]() | ||||||||
palomino7 | Windows Server 2022 Datacenter / x64 | OK | OK | OK | OK | ![]() | ||||||||
lconway | macOS 12.7.1 Monterey / x86_64 | OK | OK | WARNINGS | OK | ![]() | ||||||||
kjohnson3 | macOS 13.7.1 Ventura / arm64 | OK | OK | WARNINGS | OK | ![]() | ||||||||
To the developers/maintainers of the Rfastp package: - Allow up to 24 hours (and sometimes 48 hours) for your latest push to git@git.bioconductor.org:packages/Rfastp.git to reflect on this report. See Troubleshooting Build Report for more information. - Use the following Renviron settings to reproduce errors and warnings. - If 'R CMD check' started to fail recently on the Linux builder(s) over a missing dependency, add the missing dependency to 'Suggests:' in your DESCRIPTION file. See Renviron.bioc for more information. |
Package: Rfastp |
Version: 1.17.0 |
Command: /home/biocbuild/bbs-3.21-bioc/R/bin/R CMD INSTALL Rfastp |
StartedAt: 2025-02-05 15:11:24 -0500 (Wed, 05 Feb 2025) |
EndedAt: 2025-02-05 15:12:39 -0500 (Wed, 05 Feb 2025) |
EllapsedTime: 74.4 seconds |
RetCode: 0 |
Status: OK |
############################################################################## ############################################################################## ### ### Running command: ### ### /home/biocbuild/bbs-3.21-bioc/R/bin/R CMD INSTALL Rfastp ### ############################################################################## ############################################################################## * installing to library ‘/home/biocbuild/bbs-3.21-bioc/R/site-library’ * installing *source* package ‘Rfastp’ ... ** this is package ‘Rfastp’ version ‘1.17.0’ ** using staged installation ** libs using C++ compiler: ‘g++ (Ubuntu 13.3.0-6ubuntu2~24.04) 13.3.0’ g++ -std=gnu++17 -I"/home/biocbuild/bbs-3.21-bioc/R/include" -DNDEBUG -D_FILE_OFFSET_BITS=64 -I. -I'/home/biocbuild/bbs-3.21-bioc/R/site-library/Rcpp/include' -I'/home/biocbuild/bbs-3.21-bioc/R/site-library/Rhtslib/include' -I'/home/biocbuild/bbs-3.21-bioc/R/site-library/zlibbioc/include' -I/usr/local/include -fpic -g -O2 -DR_NO_REMAP -c RcppExports.cpp -o RcppExports.o g++ -std=gnu++17 -I"/home/biocbuild/bbs-3.21-bioc/R/include" -DNDEBUG -D_FILE_OFFSET_BITS=64 -I. -I'/home/biocbuild/bbs-3.21-bioc/R/site-library/Rcpp/include' -I'/home/biocbuild/bbs-3.21-bioc/R/site-library/Rhtslib/include' -I'/home/biocbuild/bbs-3.21-bioc/R/site-library/zlibbioc/include' -I/usr/local/include -fpic -g -O2 -DR_NO_REMAP -c main_fastp.cpp -o main_fastp.o g++ -std=gnu++17 -I"/home/biocbuild/bbs-3.21-bioc/R/include" -DNDEBUG -D_FILE_OFFSET_BITS=64 -I. -I'/home/biocbuild/bbs-3.21-bioc/R/site-library/Rcpp/include' -I'/home/biocbuild/bbs-3.21-bioc/R/site-library/Rhtslib/include' -I'/home/biocbuild/bbs-3.21-bioc/R/site-library/zlibbioc/include' -I/usr/local/include -fpic -g -O2 -DR_NO_REMAP -c FASTP/adaptertrimmer.cpp -o FASTP/adaptertrimmer.o g++ -std=gnu++17 -I"/home/biocbuild/bbs-3.21-bioc/R/include" -DNDEBUG -D_FILE_OFFSET_BITS=64 -I. -I'/home/biocbuild/bbs-3.21-bioc/R/site-library/Rcpp/include' -I'/home/biocbuild/bbs-3.21-bioc/R/site-library/Rhtslib/include' -I'/home/biocbuild/bbs-3.21-bioc/R/site-library/zlibbioc/include' -I/usr/local/include -fpic -g -O2 -DR_NO_REMAP -c FASTP/basecorrector.cpp -o FASTP/basecorrector.o g++ -std=gnu++17 -I"/home/biocbuild/bbs-3.21-bioc/R/include" -DNDEBUG -D_FILE_OFFSET_BITS=64 -I. -I'/home/biocbuild/bbs-3.21-bioc/R/site-library/Rcpp/include' -I'/home/biocbuild/bbs-3.21-bioc/R/site-library/Rhtslib/include' -I'/home/biocbuild/bbs-3.21-bioc/R/site-library/zlibbioc/include' -I/usr/local/include -fpic -g -O2 -DR_NO_REMAP -c FASTP/duplicate.cpp -o FASTP/duplicate.o g++ -std=gnu++17 -I"/home/biocbuild/bbs-3.21-bioc/R/include" -DNDEBUG -D_FILE_OFFSET_BITS=64 -I. -I'/home/biocbuild/bbs-3.21-bioc/R/site-library/Rcpp/include' -I'/home/biocbuild/bbs-3.21-bioc/R/site-library/Rhtslib/include' -I'/home/biocbuild/bbs-3.21-bioc/R/site-library/zlibbioc/include' -I/usr/local/include -fpic -g -O2 -DR_NO_REMAP -c FASTP/evaluator.cpp -o FASTP/evaluator.o g++ -std=gnu++17 -I"/home/biocbuild/bbs-3.21-bioc/R/include" -DNDEBUG -D_FILE_OFFSET_BITS=64 -I. -I'/home/biocbuild/bbs-3.21-bioc/R/site-library/Rcpp/include' -I'/home/biocbuild/bbs-3.21-bioc/R/site-library/Rhtslib/include' -I'/home/biocbuild/bbs-3.21-bioc/R/site-library/zlibbioc/include' -I/usr/local/include -fpic -g -O2 -DR_NO_REMAP -c FASTP/fastareader.cpp -o FASTP/fastareader.o g++ -std=gnu++17 -I"/home/biocbuild/bbs-3.21-bioc/R/include" -DNDEBUG -D_FILE_OFFSET_BITS=64 -I. -I'/home/biocbuild/bbs-3.21-bioc/R/site-library/Rcpp/include' -I'/home/biocbuild/bbs-3.21-bioc/R/site-library/Rhtslib/include' -I'/home/biocbuild/bbs-3.21-bioc/R/site-library/zlibbioc/include' -I/usr/local/include -fpic -g -O2 -DR_NO_REMAP -c FASTP/fastqreader.cpp -o FASTP/fastqreader.o g++ -std=gnu++17 -I"/home/biocbuild/bbs-3.21-bioc/R/include" -DNDEBUG -D_FILE_OFFSET_BITS=64 -I. -I'/home/biocbuild/bbs-3.21-bioc/R/site-library/Rcpp/include' -I'/home/biocbuild/bbs-3.21-bioc/R/site-library/Rhtslib/include' -I'/home/biocbuild/bbs-3.21-bioc/R/site-library/zlibbioc/include' -I/usr/local/include -fpic -g -O2 -DR_NO_REMAP -c FASTP/filter.cpp -o FASTP/filter.o g++ -std=gnu++17 -I"/home/biocbuild/bbs-3.21-bioc/R/include" -DNDEBUG -D_FILE_OFFSET_BITS=64 -I. -I'/home/biocbuild/bbs-3.21-bioc/R/site-library/Rcpp/include' -I'/home/biocbuild/bbs-3.21-bioc/R/site-library/Rhtslib/include' -I'/home/biocbuild/bbs-3.21-bioc/R/site-library/zlibbioc/include' -I/usr/local/include -fpic -g -O2 -DR_NO_REMAP -c FASTP/filterresult.cpp -o FASTP/filterresult.o g++ -std=gnu++17 -I"/home/biocbuild/bbs-3.21-bioc/R/include" -DNDEBUG -D_FILE_OFFSET_BITS=64 -I. -I'/home/biocbuild/bbs-3.21-bioc/R/site-library/Rcpp/include' -I'/home/biocbuild/bbs-3.21-bioc/R/site-library/Rhtslib/include' -I'/home/biocbuild/bbs-3.21-bioc/R/site-library/zlibbioc/include' -I/usr/local/include -fpic -g -O2 -DR_NO_REMAP -c FASTP/htmlreporter.cpp -o FASTP/htmlreporter.o g++ -std=gnu++17 -I"/home/biocbuild/bbs-3.21-bioc/R/include" -DNDEBUG -D_FILE_OFFSET_BITS=64 -I. -I'/home/biocbuild/bbs-3.21-bioc/R/site-library/Rcpp/include' -I'/home/biocbuild/bbs-3.21-bioc/R/site-library/Rhtslib/include' -I'/home/biocbuild/bbs-3.21-bioc/R/site-library/zlibbioc/include' -I/usr/local/include -fpic -g -O2 -DR_NO_REMAP -c FASTP/jsonreporter.cpp -o FASTP/jsonreporter.o g++ -std=gnu++17 -I"/home/biocbuild/bbs-3.21-bioc/R/include" -DNDEBUG -D_FILE_OFFSET_BITS=64 -I. -I'/home/biocbuild/bbs-3.21-bioc/R/site-library/Rcpp/include' -I'/home/biocbuild/bbs-3.21-bioc/R/site-library/Rhtslib/include' -I'/home/biocbuild/bbs-3.21-bioc/R/site-library/zlibbioc/include' -I/usr/local/include -fpic -g -O2 -DR_NO_REMAP -c FASTP/nucleotidetree.cpp -o FASTP/nucleotidetree.o g++ -std=gnu++17 -I"/home/biocbuild/bbs-3.21-bioc/R/include" -DNDEBUG -D_FILE_OFFSET_BITS=64 -I. -I'/home/biocbuild/bbs-3.21-bioc/R/site-library/Rcpp/include' -I'/home/biocbuild/bbs-3.21-bioc/R/site-library/Rhtslib/include' -I'/home/biocbuild/bbs-3.21-bioc/R/site-library/zlibbioc/include' -I/usr/local/include -fpic -g -O2 -DR_NO_REMAP -c FASTP/options.cpp -o FASTP/options.o g++ -std=gnu++17 -I"/home/biocbuild/bbs-3.21-bioc/R/include" -DNDEBUG -D_FILE_OFFSET_BITS=64 -I. -I'/home/biocbuild/bbs-3.21-bioc/R/site-library/Rcpp/include' -I'/home/biocbuild/bbs-3.21-bioc/R/site-library/Rhtslib/include' -I'/home/biocbuild/bbs-3.21-bioc/R/site-library/zlibbioc/include' -I/usr/local/include -fpic -g -O2 -DR_NO_REMAP -c FASTP/overlapanalysis.cpp -o FASTP/overlapanalysis.o g++ -std=gnu++17 -I"/home/biocbuild/bbs-3.21-bioc/R/include" -DNDEBUG -D_FILE_OFFSET_BITS=64 -I. -I'/home/biocbuild/bbs-3.21-bioc/R/site-library/Rcpp/include' -I'/home/biocbuild/bbs-3.21-bioc/R/site-library/Rhtslib/include' -I'/home/biocbuild/bbs-3.21-bioc/R/site-library/zlibbioc/include' -I/usr/local/include -fpic -g -O2 -DR_NO_REMAP -c FASTP/peprocessor.cpp -o FASTP/peprocessor.o g++ -std=gnu++17 -I"/home/biocbuild/bbs-3.21-bioc/R/include" -DNDEBUG -D_FILE_OFFSET_BITS=64 -I. -I'/home/biocbuild/bbs-3.21-bioc/R/site-library/Rcpp/include' -I'/home/biocbuild/bbs-3.21-bioc/R/site-library/Rhtslib/include' -I'/home/biocbuild/bbs-3.21-bioc/R/site-library/zlibbioc/include' -I/usr/local/include -fpic -g -O2 -DR_NO_REMAP -c FASTP/polyx.cpp -o FASTP/polyx.o g++ -std=gnu++17 -I"/home/biocbuild/bbs-3.21-bioc/R/include" -DNDEBUG -D_FILE_OFFSET_BITS=64 -I. -I'/home/biocbuild/bbs-3.21-bioc/R/site-library/Rcpp/include' -I'/home/biocbuild/bbs-3.21-bioc/R/site-library/Rhtslib/include' -I'/home/biocbuild/bbs-3.21-bioc/R/site-library/zlibbioc/include' -I/usr/local/include -fpic -g -O2 -DR_NO_REMAP -c FASTP/processor.cpp -o FASTP/processor.o g++ -std=gnu++17 -I"/home/biocbuild/bbs-3.21-bioc/R/include" -DNDEBUG -D_FILE_OFFSET_BITS=64 -I. -I'/home/biocbuild/bbs-3.21-bioc/R/site-library/Rcpp/include' -I'/home/biocbuild/bbs-3.21-bioc/R/site-library/Rhtslib/include' -I'/home/biocbuild/bbs-3.21-bioc/R/site-library/zlibbioc/include' -I/usr/local/include -fpic -g -O2 -DR_NO_REMAP -c FASTP/read.cpp -o FASTP/read.o g++ -std=gnu++17 -I"/home/biocbuild/bbs-3.21-bioc/R/include" -DNDEBUG -D_FILE_OFFSET_BITS=64 -I. -I'/home/biocbuild/bbs-3.21-bioc/R/site-library/Rcpp/include' -I'/home/biocbuild/bbs-3.21-bioc/R/site-library/Rhtslib/include' -I'/home/biocbuild/bbs-3.21-bioc/R/site-library/zlibbioc/include' -I/usr/local/include -fpic -g -O2 -DR_NO_REMAP -c FASTP/seprocessor.cpp -o FASTP/seprocessor.o g++ -std=gnu++17 -I"/home/biocbuild/bbs-3.21-bioc/R/include" -DNDEBUG -D_FILE_OFFSET_BITS=64 -I. -I'/home/biocbuild/bbs-3.21-bioc/R/site-library/Rcpp/include' -I'/home/biocbuild/bbs-3.21-bioc/R/site-library/Rhtslib/include' -I'/home/biocbuild/bbs-3.21-bioc/R/site-library/zlibbioc/include' -I/usr/local/include -fpic -g -O2 -DR_NO_REMAP -c FASTP/sequence.cpp -o FASTP/sequence.o g++ -std=gnu++17 -I"/home/biocbuild/bbs-3.21-bioc/R/include" -DNDEBUG -D_FILE_OFFSET_BITS=64 -I. -I'/home/biocbuild/bbs-3.21-bioc/R/site-library/Rcpp/include' -I'/home/biocbuild/bbs-3.21-bioc/R/site-library/Rhtslib/include' -I'/home/biocbuild/bbs-3.21-bioc/R/site-library/zlibbioc/include' -I/usr/local/include -fpic -g -O2 -DR_NO_REMAP -c FASTP/stats.cpp -o FASTP/stats.o g++ -std=gnu++17 -I"/home/biocbuild/bbs-3.21-bioc/R/include" -DNDEBUG -D_FILE_OFFSET_BITS=64 -I. -I'/home/biocbuild/bbs-3.21-bioc/R/site-library/Rcpp/include' -I'/home/biocbuild/bbs-3.21-bioc/R/site-library/Rhtslib/include' -I'/home/biocbuild/bbs-3.21-bioc/R/site-library/zlibbioc/include' -I/usr/local/include -fpic -g -O2 -DR_NO_REMAP -c FASTP/threadconfig.cpp -o FASTP/threadconfig.o g++ -std=gnu++17 -I"/home/biocbuild/bbs-3.21-bioc/R/include" -DNDEBUG -D_FILE_OFFSET_BITS=64 -I. -I'/home/biocbuild/bbs-3.21-bioc/R/site-library/Rcpp/include' -I'/home/biocbuild/bbs-3.21-bioc/R/site-library/Rhtslib/include' -I'/home/biocbuild/bbs-3.21-bioc/R/site-library/zlibbioc/include' -I/usr/local/include -fpic -g -O2 -DR_NO_REMAP -c FASTP/umiprocessor.cpp -o FASTP/umiprocessor.o g++ -std=gnu++17 -I"/home/biocbuild/bbs-3.21-bioc/R/include" -DNDEBUG -D_FILE_OFFSET_BITS=64 -I. -I'/home/biocbuild/bbs-3.21-bioc/R/site-library/Rcpp/include' -I'/home/biocbuild/bbs-3.21-bioc/R/site-library/Rhtslib/include' -I'/home/biocbuild/bbs-3.21-bioc/R/site-library/zlibbioc/include' -I/usr/local/include -fpic -g -O2 -DR_NO_REMAP -c FASTP/unittest.cpp -o FASTP/unittest.o g++ -std=gnu++17 -I"/home/biocbuild/bbs-3.21-bioc/R/include" -DNDEBUG -D_FILE_OFFSET_BITS=64 -I. -I'/home/biocbuild/bbs-3.21-bioc/R/site-library/Rcpp/include' -I'/home/biocbuild/bbs-3.21-bioc/R/site-library/Rhtslib/include' -I'/home/biocbuild/bbs-3.21-bioc/R/site-library/zlibbioc/include' -I/usr/local/include -fpic -g -O2 -DR_NO_REMAP -c FASTP/writer.cpp -o FASTP/writer.o g++ -std=gnu++17 -I"/home/biocbuild/bbs-3.21-bioc/R/include" -DNDEBUG -D_FILE_OFFSET_BITS=64 -I. -I'/home/biocbuild/bbs-3.21-bioc/R/site-library/Rcpp/include' -I'/home/biocbuild/bbs-3.21-bioc/R/site-library/Rhtslib/include' -I'/home/biocbuild/bbs-3.21-bioc/R/site-library/zlibbioc/include' -I/usr/local/include -fpic -g -O2 -DR_NO_REMAP -c FASTP/writerthread.cpp -o FASTP/writerthread.o /bin/bash: line 1: /home/biocbuild/bbs-3.21-bioc/R/bin/R: No such file or directory /bin/bash: line 1: /home/biocbuild/bbs-3.21-bioc/R/bin/R: No such file or directory g++ -std=gnu++17 -shared -L/home/biocbuild/bbs-3.21-bioc/R/lib -L/usr/local/lib -o Rfastp.so ./RcppExports.o ./main_fastp.o ./FASTP/adaptertrimmer.o ./FASTP/basecorrector.o ./FASTP/duplicate.o ./FASTP/evaluator.o ./FASTP/fastareader.o ./FASTP/fastqreader.o ./FASTP/filter.o ./FASTP/filterresult.o ./FASTP/htmlreporter.o ./FASTP/jsonreporter.o ./FASTP/nucleotidetree.o ./FASTP/options.o ./FASTP/overlapanalysis.o ./FASTP/peprocessor.o ./FASTP/polyx.o ./FASTP/processor.o ./FASTP/read.o ./FASTP/seprocessor.o ./FASTP/sequence.o ./FASTP/stats.o ./FASTP/threadconfig.o ./FASTP/umiprocessor.o ./FASTP/unittest.o ./FASTP/writer.o ./FASTP/writerthread.o /home/biocbuild/bbs-3.21-bioc/R/site-library/Rhtslib/usrlib/libhts.a -lcurl -lbz2 -llzma -lz -L/home/biocbuild/bbs-3.21-bioc/R/lib -lR installing to /home/biocbuild/bbs-3.21-bioc/R/site-library/00LOCK-Rfastp/00new/Rfastp/libs ** R ** inst ** byte-compile and prepare package for lazy loading ** help *** installing help indices ** building package indices ** installing vignettes ** testing if installed package can be loaded from temporary location ** checking absolute paths in shared objects and dynamic libraries ** testing if installed package can be loaded from final location ** testing if installed package keeps a record of temporary installation path * DONE (Rfastp)