Back to Multiple platform build/check report for BioC 3.21:   simplified   long
ABCDEFGHIJKLMNOPQR[S]TUVWXYZ

This page was generated on 2025-02-06 11:40 -0500 (Thu, 06 Feb 2025).

HostnameOSArch (*)R versionInstalled pkgs
nebbiolo1Linux (Ubuntu 24.04.1 LTS)x86_64R Under development (unstable) (2025-01-20 r87609) -- "Unsuffered Consequences" 4719
palomino7Windows Server 2022 Datacenterx64R Under development (unstable) (2025-01-21 r87610 ucrt) -- "Unsuffered Consequences" 4480
lconwaymacOS 12.7.1 Montereyx86_64R Under development (unstable) (2025-01-22 r87618) -- "Unsuffered Consequences" 4491
kjohnson3macOS 13.7.1 Venturaarm64R Under development (unstable) (2025-01-20 r87609) -- "Unsuffered Consequences" 4444
Click on any hostname to see more info about the system (e.g. compilers)      (*) as reported by 'uname -p', except on Windows and Mac OS X

Package 1949/2295HostnameOS / ArchINSTALLBUILDCHECKBUILD BIN
SIAMCAT 2.11.0  (landing page)
Jakob Wirbel
Snapshot Date: 2025-02-05 13:48 -0500 (Wed, 05 Feb 2025)
git_url: https://git.bioconductor.org/packages/SIAMCAT
git_branch: devel
git_last_commit: 56df787
git_last_commit_date: 2024-10-29 10:28:40 -0500 (Tue, 29 Oct 2024)
nebbiolo1Linux (Ubuntu 24.04.1 LTS) / x86_64  OK    OK    OK  UNNEEDED, same version is already published
palomino7Windows Server 2022 Datacenter / x64  OK    OK    OK    OK  UNNEEDED, same version is already published
lconwaymacOS 12.7.1 Monterey / x86_64  OK    OK    OK    OK  UNNEEDED, same version is already published
kjohnson3macOS 13.7.1 Ventura / arm64  OK    OK    OK    OK  UNNEEDED, same version is already published


CHECK results for SIAMCAT on nebbiolo1

To the developers/maintainers of the SIAMCAT package:
- Allow up to 24 hours (and sometimes 48 hours) for your latest push to git@git.bioconductor.org:packages/SIAMCAT.git to reflect on this report. See Troubleshooting Build Report for more information.
- Use the following Renviron settings to reproduce errors and warnings.
- If 'R CMD check' started to fail recently on the Linux builder(s) over a missing dependency, add the missing dependency to 'Suggests:' in your DESCRIPTION file. See Renviron.bioc for more information.

raw results


Summary

Package: SIAMCAT
Version: 2.11.0
Command: /home/biocbuild/bbs-3.21-bioc/R/bin/R CMD check --install=check:SIAMCAT.install-out.txt --library=/home/biocbuild/bbs-3.21-bioc/R/site-library --timings SIAMCAT_2.11.0.tar.gz
StartedAt: 2025-02-06 02:40:43 -0500 (Thu, 06 Feb 2025)
EndedAt: 2025-02-06 02:48:37 -0500 (Thu, 06 Feb 2025)
EllapsedTime: 473.7 seconds
RetCode: 0
Status:   OK  
CheckDir: SIAMCAT.Rcheck
Warnings: 0

Command output

##############################################################################
##############################################################################
###
### Running command:
###
###   /home/biocbuild/bbs-3.21-bioc/R/bin/R CMD check --install=check:SIAMCAT.install-out.txt --library=/home/biocbuild/bbs-3.21-bioc/R/site-library --timings SIAMCAT_2.11.0.tar.gz
###
##############################################################################
##############################################################################


* using log directory ‘/home/biocbuild/bbs-3.21-bioc/meat/SIAMCAT.Rcheck’
* using R Under development (unstable) (2025-01-20 r87609)
* using platform: x86_64-pc-linux-gnu
* R was compiled by
    gcc (Ubuntu 13.3.0-6ubuntu2~24.04) 13.3.0
    GNU Fortran (Ubuntu 13.3.0-6ubuntu2~24.04) 13.3.0
* running under: Ubuntu 24.04.1 LTS
* using session charset: UTF-8
* checking for file ‘SIAMCAT/DESCRIPTION’ ... OK
* checking extension type ... Package
* this is package ‘SIAMCAT’ version ‘2.11.0’
* package encoding: UTF-8
* checking package namespace information ... OK
* checking package dependencies ... OK
* checking if this is a source package ... OK
* checking if there is a namespace ... OK
* checking for hidden files and directories ... NOTE
Found the following hidden files and directories:
  .travis.yml
These were most likely included in error. See section ‘Package
structure’ in the ‘Writing R Extensions’ manual.
* checking for portable file names ... OK
* checking for sufficient/correct file permissions ... OK
* checking whether package ‘SIAMCAT’ can be installed ... OK
* checking installed package size ... OK
* checking package directory ... OK
* checking ‘build’ directory ... OK
* checking DESCRIPTION meta-information ... OK
* checking top-level files ... OK
* checking for left-over files ... OK
* checking index information ... OK
* checking package subdirectories ... OK
* checking code files for non-ASCII characters ... OK
* checking R files for syntax errors ... OK
* checking whether the package can be loaded ... OK
* checking whether the package can be loaded with stated dependencies ... OK
* checking whether the package can be unloaded cleanly ... OK
* checking whether the namespace can be loaded with stated dependencies ... OK
* checking whether the namespace can be unloaded cleanly ... OK
* checking loading without being on the library search path ... OK
* checking dependencies in R code ... OK
* checking S3 generic/method consistency ... OK
* checking replacement functions ... OK
* checking foreign function calls ... OK
* checking R code for possible problems ... OK
* checking Rd files ... OK
* checking Rd metadata ... OK
* checking Rd cross-references ... NOTE
Found the following Rd file(s) with Rd \link{} targets missing package
anchors:
  check.associations.Rd: lmerTest
  summarize.features.Rd: phyloseq
  train.model.Rd: mlr3learners, glmnet, LiblineaR
Please provide package anchors for all Rd \link{} targets not in the
package itself and the base packages.
* checking for missing documentation entries ... OK
* checking for code/documentation mismatches ... OK
* checking Rd \usage sections ... OK
* checking Rd contents ... OK
* checking for unstated dependencies in examples ... OK
* checking contents of ‘data’ directory ... OK
* checking data for non-ASCII characters ... OK
* checking LazyData ... OK
* checking data for ASCII and uncompressed saves ... OK
* checking files in ‘vignettes’ ... OK
* checking examples ... OK
Examples with CPU (user + system) or elapsed time > 5s
                            user system elapsed
assign-model_list         21.149  0.503  21.662
model.interpretation.plot 21.499  0.122  21.622
make.predictions          21.345  0.241  21.587
train.model               21.328  0.210  21.538
* checking for unstated dependencies in vignettes ... OK
* checking package vignettes ... OK
* checking re-building of vignette outputs ... OK
* checking PDF version of manual ... OK
* DONE

Status: 2 NOTEs
See
  ‘/home/biocbuild/bbs-3.21-bioc/meat/SIAMCAT.Rcheck/00check.log’
for details.


Installation output

SIAMCAT.Rcheck/00install.out

##############################################################################
##############################################################################
###
### Running command:
###
###   /home/biocbuild/bbs-3.21-bioc/R/bin/R CMD INSTALL SIAMCAT
###
##############################################################################
##############################################################################


* installing to library ‘/home/biocbuild/bbs-3.21-bioc/R/site-library’
* installing *source* package ‘SIAMCAT’ ...
** this is package ‘SIAMCAT’ version ‘2.11.0’
** using staged installation
** R
** data
*** moving datasets to lazyload DB
** inst
** byte-compile and prepare package for lazy loading
** help
*** installing help indices
*** copying figures
** building package indices
** installing vignettes
** testing if installed package can be loaded from temporary location
** testing if installed package can be loaded from final location
** testing if installed package keeps a record of temporary installation path
* DONE (SIAMCAT)

Tests output


Example timings

SIAMCAT.Rcheck/SIAMCAT-Ex.timings

nameusersystemelapsed
accessSlot0.4750.0710.546
add.meta.pred0.0240.0010.025
assign-associations0.0060.0000.007
assign-data_split0.0030.0030.006
assign-eval_data0.0050.0010.006
assign-filt_feat0.0050.0010.007
assign-label0.0050.0010.007
assign-meta0.0250.0000.025
assign-model_list21.149 0.50321.662
assign-norm_feat0.0050.0000.007
assign-orig_feat0.0090.0010.011
assign-physeq0.0170.0030.021
assign-pred_matrix0.0070.0000.007
assoc_param-methods0.0050.0010.006
association.plot0.2010.0100.211
associations-methods0.0050.0020.008
check.associations0.0080.0020.009
check.confounders0.4140.0190.432
create.data.split0.0450.0000.045
create.label0.0020.0000.003
data_split-methods0.0030.0000.005
eval_data-methods0.0050.0000.005
evaluate.predictions2.0000.0812.081
feature_type-methods0.0040.0000.005
feature_weights-methods0.0050.0000.005
filt_feat-methods0.0040.0000.005
filt_params-methods0.0030.0020.004
filter.features0.0130.0000.012
filter.label0.0060.0000.006
get.filt_feat.matrix0.0040.0010.006
get.norm_feat.matrix0.0050.0000.005
get.orig_feat.matrix0.0030.0020.005
label-methods0.0230.0010.023
make.predictions21.345 0.24121.587
meta-methods0.0180.0020.019
model.evaluation.plot0.0200.0050.025
model.interpretation.plot21.499 0.12221.622
model_list-methods0.0040.0010.005
model_type-methods0.0040.0010.005
models-methods0.0040.0000.005
norm_feat-methods0.0050.0000.004
norm_params-methods0.0050.0000.004
normalize.features0.0120.0010.013
orig_feat-methods0.0040.0000.005
physeq-methods0.0070.0010.008
pred_matrix-methods0.0030.0010.005
read.label0.0060.0000.007
read.lefse0.6140.0070.622
select.samples0.0520.0000.052
siamcat0.8640.1050.969
siamcat.to.lefse0.0150.0000.015
siamcat.to.maaslin0.0160.0000.016
summarize.features2.2290.0102.240
train.model21.328 0.21021.538
validate.data0.0150.0020.017
volcano.plot0.0110.0000.011
weight_matrix-methods0.0040.0000.004