Back to Multiple platform build/check report for BioC 3.21:   simplified   long
ABCDEFGHIJKLMNOPQR[S]TUVWXYZ

This page was generated on 2025-02-10 11:42 -0500 (Mon, 10 Feb 2025).

HostnameOSArch (*)R versionInstalled pkgs
nebbiolo1Linux (Ubuntu 24.04.1 LTS)x86_64R Under development (unstable) (2025-01-20 r87609) -- "Unsuffered Consequences" 4719
palomino7Windows Server 2022 Datacenterx64R Under development (unstable) (2025-01-21 r87610 ucrt) -- "Unsuffered Consequences" 4480
lconwaymacOS 12.7.1 Montereyx86_64R Under development (unstable) (2025-01-22 r87618) -- "Unsuffered Consequences" 4491
kjohnson3macOS 13.7.1 Venturaarm64R Under development (unstable) (2025-01-20 r87609) -- "Unsuffered Consequences" 4444
Click on any hostname to see more info about the system (e.g. compilers)      (*) as reported by 'uname -p', except on Windows and Mac OS X

Package 1889/2295HostnameOS / ArchINSTALLBUILDCHECKBUILD BIN
Sconify 1.27.0  (landing page)
Tyler J Burns
Snapshot Date: 2025-02-09 13:40 -0500 (Sun, 09 Feb 2025)
git_url: https://git.bioconductor.org/packages/Sconify
git_branch: devel
git_last_commit: e6f83c2
git_last_commit_date: 2024-10-29 10:26:42 -0500 (Tue, 29 Oct 2024)
nebbiolo1Linux (Ubuntu 24.04.1 LTS) / x86_64  OK    OK    OK  UNNEEDED, same version is already published
palomino7Windows Server 2022 Datacenter / x64  OK    OK    OK    OK  UNNEEDED, same version is already published
lconwaymacOS 12.7.1 Monterey / x86_64  OK    OK    OK    OK  UNNEEDED, same version is already published
kjohnson3macOS 13.7.1 Ventura / arm64  OK    OK    OK    OK  UNNEEDED, same version is already published


CHECK results for Sconify on palomino7

To the developers/maintainers of the Sconify package:
- Allow up to 24 hours (and sometimes 48 hours) for your latest push to git@git.bioconductor.org:packages/Sconify.git to reflect on this report. See Troubleshooting Build Report for more information.
- Use the following Renviron settings to reproduce errors and warnings.
- If 'R CMD check' started to fail recently on the Linux builder(s) over a missing dependency, add the missing dependency to 'Suggests:' in your DESCRIPTION file. See Renviron.bioc for more information.

raw results


Summary

Package: Sconify
Version: 1.27.0
Command: E:\biocbuild\bbs-3.21-bioc\R\bin\R.exe CMD check --no-multiarch --install=check:Sconify.install-out.txt --library=E:\biocbuild\bbs-3.21-bioc\R\library --no-vignettes --timings Sconify_1.27.0.tar.gz
StartedAt: 2025-02-10 05:11:26 -0500 (Mon, 10 Feb 2025)
EndedAt: 2025-02-10 05:13:34 -0500 (Mon, 10 Feb 2025)
EllapsedTime: 127.6 seconds
RetCode: 0
Status:   OK  
CheckDir: Sconify.Rcheck
Warnings: 0

Command output

##############################################################################
##############################################################################
###
### Running command:
###
###   E:\biocbuild\bbs-3.21-bioc\R\bin\R.exe CMD check --no-multiarch --install=check:Sconify.install-out.txt --library=E:\biocbuild\bbs-3.21-bioc\R\library --no-vignettes --timings Sconify_1.27.0.tar.gz
###
##############################################################################
##############################################################################


* using log directory 'E:/biocbuild/bbs-3.21-bioc/meat/Sconify.Rcheck'
* using R Under development (unstable) (2025-01-21 r87610 ucrt)
* using platform: x86_64-w64-mingw32
* R was compiled by
    gcc.exe (GCC) 13.3.0
    GNU Fortran (GCC) 13.3.0
* running under: Windows Server 2022 x64 (build 20348)
* using session charset: UTF-8
* using option '--no-vignettes'
* checking for file 'Sconify/DESCRIPTION' ... OK
* checking extension type ... Package
* this is package 'Sconify' version '1.27.0'
* package encoding: UTF-8
* checking package namespace information ... OK
* checking package dependencies ... OK
* checking if this is a source package ... OK
* checking if there is a namespace ... OK
* checking for hidden files and directories ... OK
* checking for portable file names ... OK
* checking whether package 'Sconify' can be installed ... OK
* checking installed package size ... OK
* checking package directory ... OK
* checking 'build' directory ... OK
* checking DESCRIPTION meta-information ... OK
* checking top-level files ... OK
* checking for left-over files ... OK
* checking index information ... OK
* checking package subdirectories ... OK
* checking code files for non-ASCII characters ... OK
* checking R files for syntax errors ... OK
* checking whether the package can be loaded ... OK
* checking whether the package can be loaded with stated dependencies ... OK
* checking whether the package can be unloaded cleanly ... OK
* checking whether the namespace can be loaded with stated dependencies ... OK
* checking whether the namespace can be unloaded cleanly ... OK
* checking dependencies in R code ... OK
* checking S3 generic/method consistency ... OK
* checking replacement functions ... OK
* checking foreign function calls ... OK
* checking R code for possible problems ... OK
* checking Rd files ... OK
* checking Rd metadata ... OK
* checking Rd cross-references ... OK
* checking for missing documentation entries ... OK
* checking for code/documentation mismatches ... OK
* checking Rd \usage sections ... OK
* checking Rd contents ... OK
* checking for unstated dependencies in examples ... OK
* checking contents of 'data' directory ... OK
* checking data for non-ASCII characters ... OK
* checking LazyData ... OK
* checking data for ASCII and uncompressed saves ... OK
* checking files in 'vignettes' ... OK
* checking examples ... OK
Examples with CPU (user + system) or elapsed time > 5s
            user system elapsed
SconeValues 15.8   0.52   16.34
* checking for unstated dependencies in 'tests' ... OK
* checking tests ...
  Running 'testthat.R'
 OK
* checking for unstated dependencies in vignettes ... OK
* checking package vignettes ... OK
* checking running R code from vignettes ... SKIPPED
* checking re-building of vignette outputs ... SKIPPED
* checking PDF version of manual ... OK
* DONE

Status: OK


Installation output

Sconify.Rcheck/00install.out

##############################################################################
##############################################################################
###
### Running command:
###
###   E:\biocbuild\bbs-3.21-bioc\R\bin\R.exe CMD INSTALL Sconify
###
##############################################################################
##############################################################################


* installing to library 'E:/biocbuild/bbs-3.21-bioc/R/library'
* installing *source* package 'Sconify' ...
** this is package 'Sconify' version '1.27.0'
** using staged installation
** R
** data
*** moving datasets to lazyload DB
** inst
** byte-compile and prepare package for lazy loading
Note: wrong number of arguments to '/' 
Note: wrong number of arguments to 'asinh' 
** help
*** installing help indices
** building package indices
** installing vignettes
** testing if installed package can be loaded from temporary location
** testing if installed package can be loaded from final location
** testing if installed package keeps a record of temporary installation path
* DONE (Sconify)

Tests output

Sconify.Rcheck/tests/testthat.Rout


R Under development (unstable) (2025-01-21 r87610 ucrt) -- "Unsuffered Consequences"
Copyright (C) 2025 The R Foundation for Statistical Computing
Platform: x86_64-w64-mingw32/x64

R is free software and comes with ABSOLUTELY NO WARRANTY.
You are welcome to redistribute it under certain conditions.
Type 'license()' or 'licence()' for distribution details.

R is a collaborative project with many contributors.
Type 'contributors()' for more information and
'citation()' on how to cite R or R packages in publications.

Type 'demo()' for some demos, 'help()' for on-line help, or
'help.start()' for an HTML browser interface to help.
Type 'q()' to quit R.

> library(testthat)
> library(Sconify)
> 
> test_check("Sconify")
Read the 100 x 27 data matrix successfully!
OpenMP is working. 1 threads.
Using no_dims = 2, perplexity = 30.000000, and theta = 0.500000
Computing input similarities...
Building tree...
Done in 0.02 seconds (sparsity = 0.963600)!
Learning embedding...
Iteration 50: error is 51.757449 (50 iterations in 0.01 seconds)
Iteration 100: error is 53.123484 (50 iterations in 0.01 seconds)
Iteration 150: error is 51.288079 (50 iterations in 0.02 seconds)
Iteration 200: error is 49.391680 (50 iterations in 0.01 seconds)
Iteration 250: error is 51.618060 (50 iterations in 0.01 seconds)
Iteration 300: error is 1.612072 (50 iterations in 0.01 seconds)
Iteration 350: error is 0.988111 (50 iterations in 0.01 seconds)
Iteration 400: error is 0.450310 (50 iterations in 0.01 seconds)
Iteration 450: error is 0.245824 (50 iterations in 0.01 seconds)
Iteration 500: error is 0.181844 (50 iterations in 0.01 seconds)
Iteration 550: error is 0.172569 (50 iterations in 0.01 seconds)
Iteration 600: error is 0.172399 (50 iterations in 0.01 seconds)
Iteration 650: error is 0.171764 (50 iterations in 0.01 seconds)
Iteration 700: error is 0.169441 (50 iterations in 0.01 seconds)
Iteration 750: error is 0.169830 (50 iterations in 0.01 seconds)
Iteration 800: error is 0.169860 (50 iterations in 0.01 seconds)
Iteration 850: error is 0.170004 (50 iterations in 0.01 seconds)
Iteration 900: error is 0.169700 (50 iterations in 0.01 seconds)
Iteration 950: error is 0.170103 (50 iterations in 0.01 seconds)
Iteration 1000: error is 0.169239 (50 iterations in 0.01 seconds)
Fitting performed in 0.23 seconds.
Read the 1000 x 27 data matrix successfully!
OpenMP is working. 1 threads.
Using no_dims = 2, perplexity = 30.000000, and theta = 0.500000
Computing input similarities...
Building tree...
Done in 0.23 seconds (sparsity = 0.129120)!
Learning embedding...
Iteration 50: error is 63.488560 (50 iterations in 0.15 seconds)
Iteration 100: error is 60.644306 (50 iterations in 0.14 seconds)
Iteration 150: error is 60.339634 (50 iterations in 0.16 seconds)
Iteration 200: error is 60.218762 (50 iterations in 0.20 seconds)
Iteration 250: error is 60.158728 (50 iterations in 0.17 seconds)
Iteration 300: error is 1.338033 (50 iterations in 0.12 seconds)
Iteration 350: error is 1.230477 (50 iterations in 0.11 seconds)
Iteration 400: error is 1.201458 (50 iterations in 0.11 seconds)
Iteration 450: error is 1.188704 (50 iterations in 0.11 seconds)
Iteration 500: error is 1.181587 (50 iterations in 0.13 seconds)
Iteration 550: error is 1.173404 (50 iterations in 0.17 seconds)
Iteration 600: error is 1.168551 (50 iterations in 0.17 seconds)
Iteration 650: error is 1.163902 (50 iterations in 0.17 seconds)
Iteration 700: error is 1.160351 (50 iterations in 0.17 seconds)
Iteration 750: error is 1.158740 (50 iterations in 0.15 seconds)
Iteration 800: error is 1.156722 (50 iterations in 0.15 seconds)
Iteration 850: error is 1.154686 (50 iterations in 0.12 seconds)
Iteration 900: error is 1.153001 (50 iterations in 0.12 seconds)
Iteration 950: error is 1.150981 (50 iterations in 0.11 seconds)
Iteration 1000: error is 1.148873 (50 iterations in 0.11 seconds)
Fitting performed in 2.79 seconds.
[ FAIL 0 | WARN 4 | SKIP 0 | PASS 72 ]

[ FAIL 0 | WARN 4 | SKIP 0 | PASS 72 ]
> 
> proc.time()
   user  system elapsed 
  24.75    1.03   25.86 

Example timings

Sconify.Rcheck/Sconify-Ex.timings

nameusersystemelapsed
FcsToTibble0.170.020.19
Fnn0.560.621.20
GetKnnDe0.070.000.06
GetMarkerNames0.030.000.03
ImputeTesting3.970.084.05
MakeHist0.460.000.47
MakeKnnList0.330.010.34
MeaningOfLife000
ParseMarkers0.220.050.87
PostProcessing0.090.000.10
ProcessMultipleFiles0.160.000.15
QuantNormalizeElements0.200.000.21
SconeValues15.80 0.5216.34
SplitFile0.110.000.11
StringToNumbers000
SubsampleAndTsne1.720.011.74
TsneVis0.20.00.2