Back to Multiple platform build/check report for BioC 3.21:   simplified   long
ABCDEFGHIJKLMNOPQR[S]TUVWXYZ

This page was generated on 2025-02-10 11:42 -0500 (Mon, 10 Feb 2025).

HostnameOSArch (*)R versionInstalled pkgs
nebbiolo1Linux (Ubuntu 24.04.1 LTS)x86_64R Under development (unstable) (2025-01-20 r87609) -- "Unsuffered Consequences" 4719
palomino7Windows Server 2022 Datacenterx64R Under development (unstable) (2025-01-21 r87610 ucrt) -- "Unsuffered Consequences" 4480
lconwaymacOS 12.7.1 Montereyx86_64R Under development (unstable) (2025-01-22 r87618) -- "Unsuffered Consequences" 4491
kjohnson3macOS 13.7.1 Venturaarm64R Under development (unstable) (2025-01-20 r87609) -- "Unsuffered Consequences" 4444
Click on any hostname to see more info about the system (e.g. compilers)      (*) as reported by 'uname -p', except on Windows and Mac OS X

Package 1937/2295HostnameOS / ArchINSTALLBUILDCHECKBUILD BIN
SeqVarTools 1.45.0  (landing page)
Stephanie M. Gogarten
Snapshot Date: 2025-02-09 13:40 -0500 (Sun, 09 Feb 2025)
git_url: https://git.bioconductor.org/packages/SeqVarTools
git_branch: devel
git_last_commit: 6162bf6
git_last_commit_date: 2024-10-29 09:47:21 -0500 (Tue, 29 Oct 2024)
nebbiolo1Linux (Ubuntu 24.04.1 LTS) / x86_64  OK    OK    OK  UNNEEDED, same version is already published
palomino7Windows Server 2022 Datacenter / x64  OK    OK    OK    OK  UNNEEDED, same version is already published
lconwaymacOS 12.7.1 Monterey / x86_64  OK    OK    OK    OK  UNNEEDED, same version is already published
kjohnson3macOS 13.7.1 Ventura / arm64  OK    OK    OK    OK  UNNEEDED, same version is already published


CHECK results for SeqVarTools on palomino7

To the developers/maintainers of the SeqVarTools package:
- Allow up to 24 hours (and sometimes 48 hours) for your latest push to git@git.bioconductor.org:packages/SeqVarTools.git to reflect on this report. See Troubleshooting Build Report for more information.
- Use the following Renviron settings to reproduce errors and warnings.
- If 'R CMD check' started to fail recently on the Linux builder(s) over a missing dependency, add the missing dependency to 'Suggests:' in your DESCRIPTION file. See Renviron.bioc for more information.

raw results


Summary

Package: SeqVarTools
Version: 1.45.0
Command: E:\biocbuild\bbs-3.21-bioc\R\bin\R.exe CMD check --no-multiarch --install=check:SeqVarTools.install-out.txt --library=E:\biocbuild\bbs-3.21-bioc\R\library --no-vignettes --timings SeqVarTools_1.45.0.tar.gz
StartedAt: 2025-02-10 05:23:30 -0500 (Mon, 10 Feb 2025)
EndedAt: 2025-02-10 05:28:02 -0500 (Mon, 10 Feb 2025)
EllapsedTime: 271.7 seconds
RetCode: 0
Status:   OK  
CheckDir: SeqVarTools.Rcheck
Warnings: 0

Command output

##############################################################################
##############################################################################
###
### Running command:
###
###   E:\biocbuild\bbs-3.21-bioc\R\bin\R.exe CMD check --no-multiarch --install=check:SeqVarTools.install-out.txt --library=E:\biocbuild\bbs-3.21-bioc\R\library --no-vignettes --timings SeqVarTools_1.45.0.tar.gz
###
##############################################################################
##############################################################################


* using log directory 'E:/biocbuild/bbs-3.21-bioc/meat/SeqVarTools.Rcheck'
* using R Under development (unstable) (2025-01-21 r87610 ucrt)
* using platform: x86_64-w64-mingw32
* R was compiled by
    gcc.exe (GCC) 13.3.0
    GNU Fortran (GCC) 13.3.0
* running under: Windows Server 2022 x64 (build 20348)
* using session charset: UTF-8
* using option '--no-vignettes'
* checking for file 'SeqVarTools/DESCRIPTION' ... OK
* checking extension type ... Package
* this is package 'SeqVarTools' version '1.45.0'
* checking package namespace information ... OK
* checking package dependencies ... OK
* checking if this is a source package ... OK
* checking if there is a namespace ... OK
* checking for hidden files and directories ... OK
* checking for portable file names ... OK
* checking whether package 'SeqVarTools' can be installed ... OK
* checking installed package size ... OK
* checking package directory ... OK
* checking 'build' directory ... OK
* checking DESCRIPTION meta-information ... OK
* checking top-level files ... OK
* checking for left-over files ... OK
* checking index information ... OK
* checking package subdirectories ... OK
* checking code files for non-ASCII characters ... OK
* checking R files for syntax errors ... OK
* checking whether the package can be loaded ... OK
* checking whether the package can be loaded with stated dependencies ... OK
* checking whether the package can be unloaded cleanly ... OK
* checking whether the namespace can be loaded with stated dependencies ... OK
* checking whether the namespace can be unloaded cleanly ... OK
* checking dependencies in R code ... OK
* checking S3 generic/method consistency ... OK
* checking replacement functions ... OK
* checking foreign function calls ... OK
* checking R code for possible problems ... OK
* checking Rd files ... OK
* checking Rd metadata ... OK
* checking Rd cross-references ... NOTE
Found the following Rd file(s) with Rd \link{} targets missing package
anchors:
  Iterator-class.Rd: GRanges, GRangesList, DataFrame, SeqVarGDSClass,
    seqSetFilter
  SeqVarData-class.Rd: SeqVarGDSClass, AnnotatedDataFrame,
    seqSetFilter, GRanges, seqVCF2GDS, seqOpen, seqGetData, seqApply,
    seqClose
  SeqVarTools-package.Rd: SeqArray
  allele-methods.Rd: SeqVarGDSClass
  alleleFrequency.Rd: SeqVarGDSClass, seqParallel
  alternateAlleleDetection.Rd: seqSetFilter, SeqVarGDSClass
  applyMethod.Rd: SeqVarGDSClass, seqSetFilter
  chromWithPAR.Rd: SeqVarGDSClass
  countSingletons.Rd: SeqVarGDSClass
  duplicateDiscordance.Rd: seqSetFilter
  getGenotype.Rd: SeqVarGDSClass, seqParallel, Matrix, seqBlockApply,
    seqGetData, seqSetFilter
  getVariableLengthData.Rd: SeqVarGDSClass, seqParallel, seqGetData
  heterozygosity.Rd: SeqVarGDSClass, seqParallel
  hwe.Rd: SeqVarGDSClass, seqParallel, HWExact, GWASExactHW
  imputedDosage.Rd: SeqVarGDSClass
  inbreedCoeff.Rd: SeqVarGDSClass, seqParallel
  isSNV.Rd: SeqVarGDSClass
  isVariant.Rd: SeqVarGDSClass, seqParallel
  meanBySample.Rd: SeqVarGDSClass, seqApply
  mendelErr.Rd: SeqVarGDSClass
  missingGenotypeRate.Rd: SeqVarGDSClass, seqParallel
  pca.Rd: SeqVarGDSClass
  refFrac.Rd: SeqVarGDSClass, seqParallel
  regression.Rd: logistf, seqParallel, seqSetFilter
  setVariantID.Rd: seqVCF2GDS, SeqVarGDSClass
  titv.Rd: SeqVarGDSClass
  variantInfo.Rd: SeqVarGDSClass
Please provide package anchors for all Rd \link{} targets not in the
package itself and the base packages.
* checking for missing documentation entries ... OK
* checking for code/documentation mismatches ... OK
* checking Rd \usage sections ... OK
* checking Rd contents ... OK
* checking for unstated dependencies in examples ... OK
* checking contents of 'data' directory ... OK
* checking data for non-ASCII characters ... OK
* checking LazyData ... OK
* checking data for ASCII and uncompressed saves ... OK
* checking sizes of PDF files under 'inst/doc' ... OK
* checking files in 'vignettes' ... OK
* checking examples ... OK
* checking for unstated dependencies in 'tests' ... OK
* checking tests ...
  Running 'test.R'
 OK
* checking for unstated dependencies in vignettes ... OK
* checking package vignettes ... OK
* checking running R code from vignettes ... SKIPPED
* checking re-building of vignette outputs ... SKIPPED
* checking PDF version of manual ... OK
* DONE

Status: 1 NOTE
See
  'E:/biocbuild/bbs-3.21-bioc/meat/SeqVarTools.Rcheck/00check.log'
for details.


Installation output

SeqVarTools.Rcheck/00install.out

##############################################################################
##############################################################################
###
### Running command:
###
###   E:\biocbuild\bbs-3.21-bioc\R\bin\R.exe CMD INSTALL SeqVarTools
###
##############################################################################
##############################################################################


* installing to library 'E:/biocbuild/bbs-3.21-bioc/R/library'
* installing *source* package 'SeqVarTools' ...
** this is package 'SeqVarTools' version '1.45.0'
** using staged installation
** R
** data
*** moving datasets to lazyload DB
** inst
** byte-compile and prepare package for lazy loading
** help
*** installing help indices
** building package indices
** installing vignettes
** testing if installed package can be loaded from temporary location
** testing if installed package can be loaded from final location
** testing if installed package keeps a record of temporary installation path
* DONE (SeqVarTools)

Tests output

SeqVarTools.Rcheck/tests/test.Rout


R Under development (unstable) (2025-01-21 r87610 ucrt) -- "Unsuffered Consequences"
Copyright (C) 2025 The R Foundation for Statistical Computing
Platform: x86_64-w64-mingw32/x64

R is free software and comes with ABSOLUTELY NO WARRANTY.
You are welcome to redistribute it under certain conditions.
Type 'license()' or 'licence()' for distribution details.

R is a collaborative project with many contributors.
Type 'contributors()' for more information and
'citation()' on how to cite R or R packages in publications.

Type 'demo()' for some demos, 'help()' for on-line help, or
'help.start()' for an HTML browser interface to help.
Type 'q()' to quit R.

> library(GenomicRanges)
Loading required package: stats4
Loading required package: BiocGenerics
Loading required package: generics

Attaching package: 'generics'

The following objects are masked from 'package:base':

    as.difftime, as.factor, as.ordered, intersect, is.element, setdiff,
    setequal, union


Attaching package: 'BiocGenerics'

The following objects are masked from 'package:stats':

    IQR, mad, sd, var, xtabs

The following objects are masked from 'package:base':

    Filter, Find, Map, Position, Reduce, anyDuplicated, aperm, append,
    as.data.frame, basename, cbind, colnames, dirname, do.call,
    duplicated, eval, evalq, get, grep, grepl, is.unsorted, lapply,
    mapply, match, mget, order, paste, pmax, pmax.int, pmin, pmin.int,
    rank, rbind, rownames, sapply, saveRDS, table, tapply, unique,
    unsplit, which.max, which.min

Loading required package: S4Vectors

Attaching package: 'S4Vectors'

The following object is masked from 'package:utils':

    findMatches

The following objects are masked from 'package:base':

    I, expand.grid, unname

Loading required package: IRanges

Attaching package: 'IRanges'

The following object is masked from 'package:grDevices':

    windows

Loading required package: GenomeInfoDb
> BiocGenerics:::testPackage("SeqVarTools")
Loading required package: Biobase
Welcome to Bioconductor

    Vignettes contain introductory material; view with
    'browseVignettes()'. To cite Bioconductor, see
    'citation("Biobase")', and for packages 'citation("pkgname")'.

# of selected samples: 5
# of selected variants: 5
# of selected samples: 5
# of selected variants: 10
# of selected samples: 90
# of selected variants: 1,348
# of selected samples: 90
# of selected variants: 1,348
# of selected samples: 3
# of selected samples: 3
matching samples... 2 pairs identified!
matching variants... 1346 non-overlapping variant matches identified!
# of selected samples: 2
# of selected variants: 1,346
# of selected samples: 90
# of selected variants: 1,348
# of selected samples: 90
# of selected variants: 1,348
# of selected samples: 2
# of selected variants: 50
# of selected samples: 2
# of selected variants: 51
matching samples... 2 pairs identified!
matching variants... 26 non-overlapping variant matches identified!
# of selected variants: 26
# of selected samples: 90
# of selected variants: 1,348
# of selected samples: 5
# of selected variants: 10
# of selected samples: 5
# of selected variants: 10
File: E:\biocbuild\bbs-3.21-bioc\R\library\SeqArray\extdata\CEU_Exon.gds (287.6K)
+    [  ] *
|--+ description   [  ] *
|--+ sample.id   { Str8 90 LZMA_ra(34.7%), 257B } *
|--+ variant.id   { Int32 1348 LZMA_ra(16.7%), 905B } *
|--+ position   { Int32 1348 LZMA_ra(64.4%), 3.4K } *
|--+ chromosome   { Str8 1348 LZMA_ra(4.39%), 157B } *
|--+ allele   { Str8 1348 LZMA_ra(16.6%), 901B } *
|--+ genotype   [  ] *
|  |--+ data   { Bit2 2x90x1348 LZMA_ra(26.3%), 15.6K } *
|  |--+ ~data   { Bit2 2x1348x90 LZMA_ra(29.2%), 17.3K } *
|  |--+ extra.index   { Int32 3x0 LZMA_ra, 18B } *
|  \--+ extra   { Int16 0 LZMA_ra, 18B }
|--+ phase   [  ]
|  |--+ data   { Bit1 90x1348 LZMA_ra(0.86%), 137B } *
|  |--+ ~data   { Bit1 1348x90 LZMA_ra(0.86%), 137B } *
|  |--+ extra.index   { Int32 3x0 LZMA_ra, 18B } *
|  \--+ extra   { Bit1 0 LZMA_ra, 18B }
|--+ annotation   [  ]
|  |--+ id   { Str8 1348 LZMA_ra(38.3%), 5.5K } *
|  |--+ qual   { Float32 1348 LZMA_ra(2.11%), 121B } *
|  |--+ filter   { Int32,factor 1348 LZMA_ra(2.11%), 121B } *
|  |--+ info   [  ]
|  |  |--+ AA   { Str8 1328 LZMA_ra(22.1%), 593B } *
|  |  |--+ AC   { Int32 1348 LZMA_ra(24.1%), 1.3K } *
|  |  |--+ AN   { Int32 1348 LZMA_ra(19.6%), 1.0K } *
|  |  |--+ DP   { Int32 1348 LZMA_ra(47.7%), 2.5K } *
|  |  |--+ HM2   { Bit1 1348 LZMA_ra(145.6%), 253B } *
|  |  |--+ HM3   { Bit1 1348 LZMA_ra(145.6%), 253B } *
|  |  |--+ OR   { Str8 1348 LZMA_ra(19.6%), 341B } *
|  |  |--+ GP   { Str8 1348 LZMA_ra(24.3%), 3.8K } *
|  |  \--+ BN   { Int32 1348 LZMA_ra(20.7%), 1.1K } *
|  \--+ format   [  ]
|     \--+ DP   [  ] *
|        |--+ data   { VL_Int 90x1348 LZMA_ra(70.8%), 115.2K } *
|        \--+ ~data   { VL_Int 1348x90 LZMA_ra(65.1%), 105.9K } *
\--+ sample.annotation   [  ]
   \--+ family   { Str8 90 LZMA_ra(55.0%), 221B } *
# of selected variants: 142
# of selected samples: 90
# of selected variants: 1,348
# of selected variants: 5
# of selected samples: 90
# of selected variants: 1,348
# of selected samples: 5
# of selected variants: 5
# of selected samples: 90
# of selected variants: 1,348
# of selected samples: 90
# of selected variants: 1,348
# of selected samples: 3
# of selected samples: 3
matching samples... 2 pairs identified!
matching variants... 1346 variant matches identified!
matching samples... 2 pairs identified!
matching variants... 1346 variant matches identified!
# of selected samples: 90
# of selected variants: 1,348
# of selected samples: 90
# of selected variants: 1,348
# of selected samples: 2
# of selected variants: 50
# of selected samples: 2
# of selected variants: 51
matching samples... 2 pairs identified!
matching variants... 26 variant matches identified!
matching samples... 2 pairs identified!
matching variants... 26 variant matches identified!
# of selected variants: 26
# of selected samples: 90
# of selected variants: 1,348
# of selected samples: 90
# of selected variants: 1,348
# of selected samples: 3
# of selected samples: 3
matching samples... 2 pairs identified!
matching variants... 1346 variant matches identified!
matching samples... 2 pairs identified!
matching variants... 1346 variant matches identified!
matching samples... 2 pairs identified!
matching variants... 1346 variant matches identified!
matching samples... 2 pairs identified!
matching variants... 1346 variant matches identified!
# of selected samples: 90
# of selected variants: 1,348
# of selected samples: 90
# of selected variants: 1,348
# of selected samples: 2
# of selected variants: 50
# of selected samples: 2
# of selected variants: 51
matching samples... 2 pairs identified!
matching variants... 26 variant matches identified!
matching samples... 2 pairs identified!
matching variants... 26 variant matches identified!
# of selected variants: 26
Warning in SeqVarTools:::.samplePairs1(samples) :
  More than two samples for subject 4
Selecting first two samples: samp7, samp8
# of selected samples: 5
# of selected variants: 10
# of selected samples: 5
# of selected variants: 10
# of selected samples: 5
# of selected variants: 10
# of selected samples: 5
# of selected variants: 10
# of selected samples: 5
# of selected variants: 10
# of selected samples: 90
# of selected variants: 1,348
# of selected samples: 5
# of selected variants: 10
# of selected samples: 5
# of selected variants: 10
# of selected samples: 5
# of selected variants: 10
# of selected samples: 90
# of selected variants: 1,348
# of selected samples: 5
# of selected variants: 10
# of selected samples: 5
# of selected variants: 10
# of selected variants: 1,346
# of selected variants: 1,330
# of selected samples: 5
# of selected variants: 10
# of selected samples: 90
# of selected variants: 1,348
# of selected samples: 5
# of selected variants: 10
# of selected samples: 5
# of selected variants: 10
# of selected samples: 5
# of selected variants: 10
# of selected samples: 90
# of selected variants: 1,348
# of selected samples: 5
# of selected variants: 10
# of selected samples: 3
# of selected variants: 10
# of selected samples: 3
# of selected samples: 90
# of selected variants: 1,348
# of selected variants: 10
# of selected samples: 3
# of selected samples: 5
# of selected variants: 10
# of selected samples: 90
# of selected variants: 1,348
# of selected samples: 5
# of selected variants: 10
# of selected samples: 5
# of selected variants: 10
starting worker pid=32928 on localhost:11364 at 05:26:32.087
starting worker pid=65608 on localhost:11364 at 05:26:32.135
starting worker pid=81412 on localhost:11364 at 05:26:32.191
starting worker pid=123084 on localhost:11364 at 05:26:32.228
starting worker pid=48968 on localhost:11364 at 05:26:32.243
starting worker pid=95928 on localhost:11364 at 05:26:32.301
starting worker pid=114572 on localhost:11364 at 05:26:32.307
starting worker pid=28244 on localhost:11364 at 05:26:32.313
starting worker pid=63924 on localhost:11364 at 05:26:32.340
starting worker pid=8608 on localhost:11364 at 05:26:32.341
starting worker pid=117420 on localhost:11364 at 05:26:32.343
starting worker pid=20972 on localhost:11364 at 05:26:32.345
starting worker pid=6032 on localhost:11364 at 05:26:32.351
starting worker pid=11680 on localhost:11364 at 05:26:32.362
starting worker pid=104824 on localhost:11364 at 05:26:32.363
starting worker pid=25912 on localhost:11364 at 05:26:32.382
starting worker pid=19276 on localhost:11364 at 05:26:32.405
starting worker pid=75008 on localhost:11364 at 05:26:32.474
starting worker pid=39632 on localhost:11364 at 05:26:32.478
starting worker pid=21132 on localhost:11364 at 05:26:32.495
starting worker pid=120044 on localhost:11364 at 05:26:32.503
starting worker pid=77936 on localhost:11364 at 05:26:32.514
starting worker pid=25040 on localhost:11364 at 05:26:32.586
starting worker pid=85212 on localhost:11364 at 05:26:32.614
starting worker pid=25112 on localhost:11364 at 05:26:32.632
starting worker pid=84208 on localhost:11364 at 05:26:32.634
starting worker pid=2292 on localhost:11364 at 05:26:32.699
starting worker pid=93212 on localhost:11364 at 05:26:32.702
starting worker pid=124772 on localhost:11364 at 05:26:32.705
starting worker pid=11444 on localhost:11364 at 05:26:32.705
starting worker pid=17168 on localhost:11364 at 05:26:32.715
starting worker pid=21988 on localhost:11364 at 05:26:42.134
starting worker pid=32612 on localhost:11364 at 05:26:42.181
starting worker pid=124112 on localhost:11364 at 05:26:42.185
starting worker pid=105548 on localhost:11364 at 05:26:42.200
starting worker pid=34516 on localhost:11364 at 05:26:42.259
starting worker pid=43796 on localhost:11364 at 05:26:42.383
starting worker pid=53436 on localhost:11364 at 05:26:42.386
starting worker pid=50588 on localhost:11364 at 05:26:42.421
starting worker pid=132416 on localhost:11364 at 05:26:42.448
starting worker pid=122336 on localhost:11364 at 05:26:42.478
starting worker pid=36088 on localhost:11364 at 05:26:42.483
starting worker pid=58872 on localhost:11364 at 05:26:42.495
starting worker pid=113440 on localhost:11364 at 05:26:42.496
starting worker pid=31316 on localhost:11364 at 05:26:42.502
starting worker pid=118228 on localhost:11364 at 05:26:42.520
starting worker pid=105444 on localhost:11364 at 05:26:42.527
starting worker pid=27336 on localhost:11364 at 05:26:42.535
starting worker pid=144452 on localhost:11364 at 05:26:42.543
starting worker pid=104548 on localhost:11364 at 05:26:42.544
starting worker pid=143604 on localhost:11364 at 05:26:42.544
starting worker pid=119616 on localhost:11364 at 05:26:42.546
starting worker pid=129616 on localhost:11364 at 05:26:42.549
starting worker pid=57568 on localhost:11364 at 05:26:42.554
starting worker pid=124548 on localhost:11364 at 05:26:42.555
starting worker pid=33836 on localhost:11364 at 05:26:42.576
starting worker pid=110696 on localhost:11364 at 05:26:42.593
starting worker pid=15096 on localhost:11364 at 05:26:42.606
starting worker pid=4244 on localhost:11364 at 05:26:42.608
starting worker pid=42844 on localhost:11364 at 05:26:42.627
starting worker pid=26500 on localhost:11364 at 05:26:42.666
starting worker pid=13860 on localhost:11364 at 05:26:42.705
starting worker pid=57372 on localhost:11364 at 05:27:00.483
starting worker pid=14924 on localhost:11364 at 05:27:00.616
starting worker pid=7740 on localhost:11364 at 05:27:00.620
starting worker pid=57380 on localhost:11364 at 05:27:00.720
starting worker pid=105608 on localhost:11364 at 05:27:00.730
starting worker pid=102388 on localhost:11364 at 05:27:00.741
starting worker pid=66528 on localhost:11364 at 05:27:00.743
starting worker pid=17956 on localhost:11364 at 05:27:00.747
starting worker pid=84972 on localhost:11364 at 05:27:00.747
starting worker pid=59700 on localhost:11364 at 05:27:00.776
starting worker pid=59660 on localhost:11364 at 05:27:00.798
starting worker pid=58696 on localhost:11364 at 05:27:00.807
starting worker pid=101636 on localhost:11364 at 05:27:00.820
starting worker pid=80428 on localhost:11364 at 05:27:00.830
starting worker pid=78976 on localhost:11364 at 05:27:00.831
starting worker pid=80012 on localhost:11364 at 05:27:00.833
starting worker pid=109212 on localhost:11364 at 05:27:00.838
starting worker pid=58320 on localhost:11364 at 05:27:00.840
starting worker pid=50224 on localhost:11364 at 05:27:00.853
starting worker pid=138600 on localhost:11364 at 05:27:00.855
starting worker pid=78748 on localhost:11364 at 05:27:00.865
starting worker pid=114500 on localhost:11364 at 05:27:00.866
starting worker pid=56108 on localhost:11364 at 05:27:00.872
starting worker pid=81624 on localhost:11364 at 05:27:00.886
starting worker pid=21904 on localhost:11364 at 05:27:00.905
starting worker pid=74236 on localhost:11364 at 05:27:00.908
starting worker pid=94456 on localhost:11364 at 05:27:00.936
starting worker pid=133236 on localhost:11364 at 05:27:00.959
starting worker pid=92812 on localhost:11364 at 05:27:01.019
starting worker pid=32740 on localhost:11364 at 05:27:01.031
starting worker pid=116540 on localhost:11364 at 05:27:01.103
starting worker pid=90516 on localhost:11364 at 05:27:10.304
starting worker pid=23984 on localhost:11364 at 05:27:10.411
starting worker pid=106016 on localhost:11364 at 05:27:10.451
starting worker pid=46088 on localhost:11364 at 05:27:10.452
starting worker pid=129056 on localhost:11364 at 05:27:10.454
starting worker pid=131340 on localhost:11364 at 05:27:10.454
starting worker pid=16412 on localhost:11364 at 05:27:10.454
starting worker pid=92844 on localhost:11364 at 05:27:10.481
starting worker pid=29260 on localhost:11364 at 05:27:10.497
starting worker pid=68396 on localhost:11364 at 05:27:10.502
starting worker pid=94824 on localhost:11364 at 05:27:10.529
starting worker pid=6872 on localhost:11364 at 05:27:10.572
starting worker pid=115580 on localhost:11364 at 05:27:10.595
starting worker pid=64380 on localhost:11364 at 05:27:10.597
starting worker pid=98036 on localhost:11364 at 05:27:10.625
starting worker pid=137556 on localhost:11364 at 05:27:10.625
starting worker pid=81904 on localhost:11364 at 05:27:10.628
starting worker pid=82020 on localhost:11364 at 05:27:10.644
starting worker pid=19972 on localhost:11364 at 05:27:10.646
starting worker pid=89204 on localhost:11364 at 05:27:10.648
starting worker pid=132212 on localhost:11364 at 05:27:10.650
starting worker pid=81096 on localhost:11364 at 05:27:10.680
starting worker pid=72864 on localhost:11364 at 05:27:10.686
starting worker pid=100860 on localhost:11364 at 05:27:10.719
starting worker pid=143180 on localhost:11364 at 05:27:10.722
starting worker pid=138716 on localhost:11364 at 05:27:10.732
starting worker pid=142296 on localhost:11364 at 05:27:10.739
starting worker pid=20296 on localhost:11364 at 05:27:10.802
starting worker pid=66448 on localhost:11364 at 05:27:10.860
starting worker pid=110440 on localhost:11364 at 05:27:10.862
starting worker pid=135832 on localhost:11364 at 05:27:10.869
starting worker pid=126928 on localhost:11364 at 05:27:27.926
starting worker pid=98496 on localhost:11364 at 05:27:27.946
starting worker pid=41800 on localhost:11364 at 05:27:27.951
starting worker pid=129596 on localhost:11364 at 05:27:27.952
starting worker pid=22232 on localhost:11364 at 05:27:27.968
starting worker pid=129636 on localhost:11364 at 05:27:27.982
starting worker pid=50960 on localhost:11364 at 05:27:28.004
starting worker pid=137272 on localhost:11364 at 05:27:28.007
starting worker pid=43076 on localhost:11364 at 05:27:28.035
starting worker pid=121268 on localhost:11364 at 05:27:28.080
starting worker pid=49256 on localhost:11364 at 05:27:28.081
starting worker pid=91348 on localhost:11364 at 05:27:28.081
starting worker pid=31568 on localhost:11364 at 05:27:28.092
starting worker pid=19876 on localhost:11364 at 05:27:28.100
starting worker pid=111820 on localhost:11364 at 05:27:28.107
starting worker pid=133728 on localhost:11364 at 05:27:28.109
starting worker pid=108696 on localhost:11364 at 05:27:28.119
starting worker pid=138324 on localhost:11364 at 05:27:28.138
starting worker pid=29488 on localhost:11364 at 05:27:28.138
starting worker pid=7640 on localhost:11364 at 05:27:28.140
starting worker pid=19292 on localhost:11364 at 05:27:28.144
starting worker pid=94112 on localhost:11364 at 05:27:28.145
starting worker pid=77432 on localhost:11364 at 05:27:28.149
starting worker pid=99180 on localhost:11364 at 05:27:28.175
starting worker pid=33972 on localhost:11364 at 05:27:28.186
starting worker pid=140376 on localhost:11364 at 05:27:28.194
starting worker pid=57924 on localhost:11364 at 05:27:28.222
starting worker pid=129392 on localhost:11364 at 05:27:28.225
starting worker pid=127436 on localhost:11364 at 05:27:28.234
starting worker pid=107888 on localhost:11364 at 05:27:28.277
starting worker pid=134624 on localhost:11364 at 05:27:28.335
# of selected samples: 5
# of selected variants: 10
# of selected samples: 90
# of selected variants: 1,348
# of selected samples: 5
# of selected variants: 10
# of selected variants: 903
# of selected samples: 59
# of selected samples: 58
# of selected samples: 32
# of selected samples: 5
# of selected variants: 10
# of selected samples: 90
# of selected variants: 1,348
# of selected samples: 5
# of selected variants: 10
# of selected samples: 5
# of selected variants: 10
# of selected samples: 90
# of selected variants: 1,348
# of selected samples: 5
# of selected variants: 10
# of selected samples: 10
# of selected samples: 10
# of selected variants: 10
# of selected samples: 10


RUNIT TEST PROTOCOL -- Mon Feb 10 05:27:51 2025 
*********************************************** 
Number of test functions: 152 
Number of errors: 0 
Number of failures: 0 

 
1 Test Suite : 
SeqVarTools RUnit Tests - 152 test functions, 0 errors, 0 failures
Number of test functions: 152 
Number of errors: 0 
Number of failures: 0 
> 
> proc.time()
   user  system elapsed 
  25.92    2.45  103.01 

Example timings

SeqVarTools.Rcheck/SeqVarTools-Ex.timings

nameusersystemelapsed
Iterator-class0.670.010.70
SeqVarData-class0.070.000.06
allele-methods000
alleleFrequency0.010.000.02
alternateAlleleDetection000
applyMethod0.220.020.23
countSingletons0.020.000.02
duplicateDiscordance0.140.000.14
getGenotype0.030.000.03
getVariableLengthData0.000.010.03
heterozygosity0.190.020.21
hwe0.090.000.09
imputedDosage0.200.050.31
inbreedCoeff0.690.000.69
isSNV0.020.000.02
isVariant0.010.000.01
meanBySample0.030.000.03
mendelErr0.040.000.04
missingGenotypeRate0.010.000.01
pca0.350.040.39
pedigree0.000.030.03
refFrac0.040.000.11
regression0.110.020.13
setVariantID0.010.000.03
titv0.190.000.19
variantInfo0.030.000.03