Back to Multiple platform build/check report for BioC 3.21:   simplified   long
ABCDEFGHIJKLMNOPQRS[T]UVWXYZ

This page was generated on 2025-02-06 11:44 -0500 (Thu, 06 Feb 2025).

HostnameOSArch (*)R versionInstalled pkgs
nebbiolo1Linux (Ubuntu 24.04.1 LTS)x86_64R Under development (unstable) (2025-01-20 r87609) -- "Unsuffered Consequences" 4719
palomino7Windows Server 2022 Datacenterx64R Under development (unstable) (2025-01-21 r87610 ucrt) -- "Unsuffered Consequences" 4480
lconwaymacOS 12.7.1 Montereyx86_64R Under development (unstable) (2025-01-22 r87618) -- "Unsuffered Consequences" 4491
kjohnson3macOS 13.7.1 Venturaarm64R Under development (unstable) (2025-01-20 r87609) -- "Unsuffered Consequences" 4444
Click on any hostname to see more info about the system (e.g. compilers)      (*) as reported by 'uname -p', except on Windows and Mac OS X

Package 2139/2295HostnameOS / ArchINSTALLBUILDCHECKBUILD BIN
TFEA.ChIP 1.27.0  (landing page)
Laura Puente Santamaría
Snapshot Date: 2025-02-05 13:48 -0500 (Wed, 05 Feb 2025)
git_url: https://git.bioconductor.org/packages/TFEA.ChIP
git_branch: devel
git_last_commit: 34b5d7e
git_last_commit_date: 2024-10-29 10:24:34 -0500 (Tue, 29 Oct 2024)
nebbiolo1Linux (Ubuntu 24.04.1 LTS) / x86_64  OK    OK    OK  UNNEEDED, same version is already published
palomino7Windows Server 2022 Datacenter / x64  OK    OK    OK    OK  UNNEEDED, same version is already published
lconwaymacOS 12.7.1 Monterey / x86_64  OK    OK    OK    OK  UNNEEDED, same version is already published
kjohnson3macOS 13.7.1 Ventura / arm64  OK    OK    OK    OK  UNNEEDED, same version is already published


CHECK results for TFEA.ChIP on kjohnson3

To the developers/maintainers of the TFEA.ChIP package:
- Allow up to 24 hours (and sometimes 48 hours) for your latest push to git@git.bioconductor.org:packages/TFEA.ChIP.git to reflect on this report. See Troubleshooting Build Report for more information.
- Use the following Renviron settings to reproduce errors and warnings.
- If 'R CMD check' started to fail recently on the Linux builder(s) over a missing dependency, add the missing dependency to 'Suggests:' in your DESCRIPTION file. See Renviron.bioc for more information.

raw results


Summary

Package: TFEA.ChIP
Version: 1.27.0
Command: /Library/Frameworks/R.framework/Resources/bin/R CMD check --install=check:TFEA.ChIP.install-out.txt --library=/Library/Frameworks/R.framework/Resources/library --no-vignettes --timings TFEA.ChIP_1.27.0.tar.gz
StartedAt: 2025-02-05 21:48:18 -0500 (Wed, 05 Feb 2025)
EndedAt: 2025-02-05 21:50:52 -0500 (Wed, 05 Feb 2025)
EllapsedTime: 153.8 seconds
RetCode: 0
Status:   OK  
CheckDir: TFEA.ChIP.Rcheck
Warnings: 0

Command output

##############################################################################
##############################################################################
###
### Running command:
###
###   /Library/Frameworks/R.framework/Resources/bin/R CMD check --install=check:TFEA.ChIP.install-out.txt --library=/Library/Frameworks/R.framework/Resources/library --no-vignettes --timings TFEA.ChIP_1.27.0.tar.gz
###
##############################################################################
##############################################################################


* using log directory ‘/Users/biocbuild/bbs-3.21-bioc/meat/TFEA.ChIP.Rcheck’
* using R Under development (unstable) (2025-01-20 r87609)
* using platform: aarch64-apple-darwin20
* R was compiled by
    Apple clang version 14.0.0 (clang-1400.0.29.202)
    GNU Fortran (GCC) 14.2.0
* running under: macOS Ventura 13.7.1
* using session charset: UTF-8
* using option ‘--no-vignettes’
* checking for file ‘TFEA.ChIP/DESCRIPTION’ ... OK
* checking extension type ... Package
* this is package ‘TFEA.ChIP’ version ‘1.27.0’
* package encoding: UTF-8
* checking package namespace information ... OK
* checking package dependencies ... OK
* checking if this is a source package ... OK
* checking if there is a namespace ... OK
* checking for hidden files and directories ... OK
* checking for portable file names ... OK
* checking for sufficient/correct file permissions ... OK
* checking whether package ‘TFEA.ChIP’ can be installed ... OK
* checking installed package size ... INFO
  installed size is  5.2Mb
  sub-directories of 1Mb or more:
    data   5.0Mb
* checking package directory ... OK
* checking ‘build’ directory ... OK
* checking DESCRIPTION meta-information ... OK
* checking top-level files ... OK
* checking for left-over files ... OK
* checking index information ... OK
* checking package subdirectories ... OK
* checking code files for non-ASCII characters ... OK
* checking R files for syntax errors ... OK
* checking whether the package can be loaded ... OK
* checking whether the package can be loaded with stated dependencies ... OK
* checking whether the package can be unloaded cleanly ... OK
* checking whether the namespace can be loaded with stated dependencies ... OK
* checking whether the namespace can be unloaded cleanly ... OK
* checking whether startup messages can be suppressed ... OK
* checking dependencies in R code ... OK
* checking S3 generic/method consistency ... OK
* checking replacement functions ... OK
* checking foreign function calls ... OK
* checking R code for possible problems ... NOTE
rankTFs: no visible binding for global variable ‘arg.ES’
rankTFs: no visible binding for global variable ‘ES’
rankTFs: no visible binding for global variable ‘TF’
Undefined global functions or variables:
  ES TF arg.ES
* checking Rd files ... OK
* checking Rd metadata ... OK
* checking Rd cross-references ... OK
* checking for missing documentation entries ... OK
* checking for code/documentation mismatches ... OK
* checking Rd \usage sections ... OK
* checking Rd contents ... OK
* checking for unstated dependencies in examples ... OK
* checking contents of ‘data’ directory ... OK
* checking data for non-ASCII characters ... OK
* checking data for ASCII and uncompressed saves ... OK
* checking files in ‘vignettes’ ... OK
* checking examples ... OK
Examples with CPU (user + system) or elapsed time > 5s
          user system elapsed
rankTFs  6.616  0.816   7.527
GSEA_run 5.357  1.091   6.548
* checking for unstated dependencies in ‘tests’ ... OK
* checking tests ...
  Running ‘runTests.R’
 OK
* checking for unstated dependencies in vignettes ... OK
* checking package vignettes ... OK
* checking running R code from vignettes ... SKIPPED
* checking re-building of vignette outputs ... SKIPPED
* checking PDF version of manual ... OK
* DONE

Status: 1 NOTE
See
  ‘/Users/biocbuild/bbs-3.21-bioc/meat/TFEA.ChIP.Rcheck/00check.log’
for details.


Installation output

TFEA.ChIP.Rcheck/00install.out

##############################################################################
##############################################################################
###
### Running command:
###
###   /Library/Frameworks/R.framework/Resources/bin/R CMD INSTALL TFEA.ChIP
###
##############################################################################
##############################################################################


* installing to library ‘/Library/Frameworks/R.framework/Versions/4.5-arm64/Resources/library’
* installing *source* package ‘TFEA.ChIP’ ...
** this is package ‘TFEA.ChIP’ version ‘1.27.0’
** using staged installation
** R
** data
** inst
** byte-compile and prepare package for lazy loading
** help
*** installing help indices
** building package indices
** installing vignettes
** testing if installed package can be loaded from temporary location
** testing if installed package can be loaded from final location
** testing if installed package keeps a record of temporary installation path
* DONE (TFEA.ChIP)

Tests output

TFEA.ChIP.Rcheck/tests/runTests.Rout


R Under development (unstable) (2025-01-20 r87609) -- "Unsuffered Consequences"
Copyright (C) 2025 The R Foundation for Statistical Computing
Platform: aarch64-apple-darwin20

R is free software and comes with ABSOLUTELY NO WARRANTY.
You are welcome to redistribute it under certain conditions.
Type 'license()' or 'licence()' for distribution details.

R is a collaborative project with many contributors.
Type 'contributors()' for more information and
'citation()' on how to cite R or R packages in publications.

Type 'demo()' for some demos, 'help()' for on-line help, or
'help.start()' for an HTML browser interface to help.
Type 'q()' to quit R.

> BiocGenerics:::testPackage(pkgname = "TFEA.ChIP")

Because of space limitations, TFEA.ChIPs internal database only includes ChIP-seq experiments from cell types in ENCODE's tiers 1, 2, and 2.5. 
To download the full ReMap2022 database, as well as other ready-to-use databases, visit https://github.com/LauraPS1/TFEA.ChIP_downloads

  |                                                                            
  |                                                                      |   0%
  |                                                                            
  |==================                                                    |  25%
  |                                                                            
  |===================================                                   |  50%
  |                                                                            
  |====================================================                  |  75%
  |                                                                            
  |======================================================================| 100%

  |                                                                            
  |                                                                      |   0%
  |                                                                            
  |===================================                                   |  50%
  |                                                                            
  |======================================================================| 100%
Done! 2 genes of 2 successfully converted.

Done! 1 genes of 1 successfully converted.

Done! 1 genes of 1 successfully converted.

Done! 2 genes of 2 successfully converted.

Done! 16540 genes of 17527 successfully converted.

Couldn't find Entrez IDs for 987 genes.

Loading required namespace: DESeq2
Done! 10426 genes of 11667 successfully converted.

Couldn't find Entrez IDs for 1241 genes.

Done! 16540 genes of 17527 successfully converted.

Couldn't find Entrez IDs for 987 genes.

Done! 10426 genes of 11667 successfully converted.

Couldn't find Entrez IDs for 1241 genes.



RUNIT TEST PROTOCOL -- Wed Feb  5 21:50:48 2025 
*********************************************** 
Number of test functions: 10 
Number of errors: 0 
Number of failures: 0 

 
1 Test Suite : 
TFEA.ChIP RUnit Tests - 10 test functions, 0 errors, 0 failures
Number of test functions: 10 
Number of errors: 0 
Number of failures: 0 
Warning message:
Some genes returned 1:many mapping to ENTREZ ID. Genes were assigned the first ENTREZ ID match found.
 
> 
> proc.time()
   user  system elapsed 
 19.854   1.980  22.054 

Example timings

TFEA.ChIP.Rcheck/TFEA.ChIP-Ex.timings

nameusersystemelapsed
GSEA_EnrichmentScore0.0000.0000.001
GSEA_run5.3571.0916.548
GeneID2entrez0.2470.0110.257
Select_genes0.0480.0090.058
contingency_matrix1.9870.2432.249
getCMstats2.6280.3733.051
get_chip_index0.0110.0070.018
makeChIPGeneDB0.0310.0010.031
matrixDB_to_listDB000
plot_CM2.5080.3602.883
plot_ES0.1600.0100.171
plot_RES0.4320.0300.260
preprocessInputData1.0490.0991.153
rankTFs6.6160.8167.527
set_user_data0.3810.0070.401
txt2GR0.0110.0030.014