Back to Multiple platform build/check report for BioC 3.21:   simplified   long
ABCDEFGHIJKLMNOPQRS[T]UVWXYZ

This page was generated on 2025-02-04 11:40 -0500 (Tue, 04 Feb 2025).

HostnameOSArch (*)R versionInstalled pkgs
nebbiolo1Linux (Ubuntu 24.04.1 LTS)x86_64R Under development (unstable) (2025-01-20 r87609) -- "Unsuffered Consequences" 4716
palomino7Windows Server 2022 Datacenterx64R Under development (unstable) (2025-01-21 r87610 ucrt) -- "Unsuffered Consequences" 4478
lconwaymacOS 12.7.1 Montereyx86_64R Under development (unstable) (2025-01-22 r87618) -- "Unsuffered Consequences" 4489
kjohnson3macOS 13.7.1 Venturaarm64R Under development (unstable) (2025-01-20 r87609) -- "Unsuffered Consequences" 4442
Click on any hostname to see more info about the system (e.g. compilers)      (*) as reported by 'uname -p', except on Windows and Mac OS X

Package 2208/2295HostnameOS / ArchINSTALLBUILDCHECKBUILD BIN
TRONCO 2.39.0  (landing page)
Luca De Sano
Snapshot Date: 2025-02-03 13:40 -0500 (Mon, 03 Feb 2025)
git_url: https://git.bioconductor.org/packages/TRONCO
git_branch: devel
git_last_commit: 61d87f7
git_last_commit_date: 2024-10-29 09:57:47 -0500 (Tue, 29 Oct 2024)
nebbiolo1Linux (Ubuntu 24.04.1 LTS) / x86_64  OK    OK    OK  UNNEEDED, same version is already published
palomino7Windows Server 2022 Datacenter / x64  OK    OK    OK    OK  UNNEEDED, same version is already published
lconwaymacOS 12.7.1 Monterey / x86_64  OK    OK    OK    OK  UNNEEDED, same version is already published
kjohnson3macOS 13.7.1 Ventura / arm64  OK    OK    OK    OK  UNNEEDED, same version is already published


CHECK results for TRONCO on nebbiolo1

To the developers/maintainers of the TRONCO package:
- Allow up to 24 hours (and sometimes 48 hours) for your latest push to git@git.bioconductor.org:packages/TRONCO.git to reflect on this report. See Troubleshooting Build Report for more information.
- Use the following Renviron settings to reproduce errors and warnings.
- If 'R CMD check' started to fail recently on the Linux builder(s) over a missing dependency, add the missing dependency to 'Suggests:' in your DESCRIPTION file. See Renviron.bioc for more information.

raw results


Summary

Package: TRONCO
Version: 2.39.0
Command: /home/biocbuild/bbs-3.21-bioc/R/bin/R CMD check --install=check:TRONCO.install-out.txt --library=/home/biocbuild/bbs-3.21-bioc/R/site-library --timings TRONCO_2.39.0.tar.gz
StartedAt: 2025-02-04 03:40:50 -0500 (Tue, 04 Feb 2025)
EndedAt: 2025-02-04 03:44:38 -0500 (Tue, 04 Feb 2025)
EllapsedTime: 228.4 seconds
RetCode: 0
Status:   OK  
CheckDir: TRONCO.Rcheck
Warnings: 0

Command output

##############################################################################
##############################################################################
###
### Running command:
###
###   /home/biocbuild/bbs-3.21-bioc/R/bin/R CMD check --install=check:TRONCO.install-out.txt --library=/home/biocbuild/bbs-3.21-bioc/R/site-library --timings TRONCO_2.39.0.tar.gz
###
##############################################################################
##############################################################################


* using log directory ‘/home/biocbuild/bbs-3.21-bioc/meat/TRONCO.Rcheck’
* using R Under development (unstable) (2025-01-20 r87609)
* using platform: x86_64-pc-linux-gnu
* R was compiled by
    gcc (Ubuntu 13.3.0-6ubuntu2~24.04) 13.3.0
    GNU Fortran (Ubuntu 13.3.0-6ubuntu2~24.04) 13.3.0
* running under: Ubuntu 24.04.1 LTS
* using session charset: UTF-8
* checking for file ‘TRONCO/DESCRIPTION’ ... OK
* this is package ‘TRONCO’ version ‘2.39.0’
* package encoding: UTF-8
* checking package namespace information ... OK
* checking package dependencies ... OK
* checking if this is a source package ... OK
* checking if there is a namespace ... OK
* checking for hidden files and directories ... OK
* checking for portable file names ... OK
* checking for sufficient/correct file permissions ... OK
* checking whether package ‘TRONCO’ can be installed ... OK
* checking installed package size ... OK
* checking package directory ... OK
* checking ‘build’ directory ... OK
* checking DESCRIPTION meta-information ... OK
* checking top-level files ... OK
* checking for left-over files ... OK
* checking index information ... OK
* checking package subdirectories ... OK
* checking code files for non-ASCII characters ... OK
* checking R files for syntax errors ... OK
* checking whether the package can be loaded ... OK
* checking whether the package can be loaded with stated dependencies ... OK
* checking whether the package can be unloaded cleanly ... OK
* checking whether the namespace can be loaded with stated dependencies ... OK
* checking whether the namespace can be unloaded cleanly ... OK
* checking loading without being on the library search path ... OK
* checking whether startup messages can be suppressed ... OK
* checking dependencies in R code ... OK
* checking S3 generic/method consistency ... OK
* checking replacement functions ... OK
* checking foreign function calls ... OK
* checking R code for possible problems ... OK
* checking Rd files ... OK
* checking Rd metadata ... OK
* checking Rd cross-references ... OK
* checking for missing documentation entries ... OK
* checking for code/documentation mismatches ... OK
* checking Rd \usage sections ... OK
* checking Rd contents ... OK
* checking for unstated dependencies in examples ... OK
* checking contents of ‘data’ directory ... OK
* checking data for non-ASCII characters ... OK
* checking data for ASCII and uncompressed saves ... OK
* checking files in ‘vignettes’ ... OK
* checking examples ... OK
Examples with CPU (user + system) or elapsed time > 5s
                  user system elapsed
tronco.bootstrap 0.095   0.01   8.556
* checking for unstated dependencies in ‘tests’ ... OK
* checking tests ...
  Running ‘testthat.R’
 OK
* checking for unstated dependencies in vignettes ... OK
* checking package vignettes ... OK
* checking re-building of vignette outputs ... OK
* checking PDF version of manual ... OK
* DONE

Status: OK


Installation output

TRONCO.Rcheck/00install.out

##############################################################################
##############################################################################
###
### Running command:
###
###   /home/biocbuild/bbs-3.21-bioc/R/bin/R CMD INSTALL TRONCO
###
##############################################################################
##############################################################################


* installing to library ‘/home/biocbuild/bbs-3.21-bioc/R/site-library’
* installing *source* package ‘TRONCO’ ...
** this is package ‘TRONCO’ version ‘2.39.0’
** using staged installation
** R
** data
** inst
** byte-compile and prepare package for lazy loading
** help
*** installing help indices
** building package indices
** installing vignettes
** testing if installed package can be loaded from temporary location
** testing if installed package can be loaded from final location
** testing if installed package keeps a record of temporary installation path
* DONE (TRONCO)

Tests output

TRONCO.Rcheck/tests/testthat.Rout


R Under development (unstable) (2025-01-20 r87609) -- "Unsuffered Consequences"
Copyright (C) 2025 The R Foundation for Statistical Computing
Platform: x86_64-pc-linux-gnu

R is free software and comes with ABSOLUTELY NO WARRANTY.
You are welcome to redistribute it under certain conditions.
Type 'license()' or 'licence()' for distribution details.

R is a collaborative project with many contributors.
Type 'contributors()' for more information and
'citation()' on how to cite R or R packages in publications.

Type 'demo()' for some demos, 'help()' for on-line help, or
'help.start()' for an HTML browser interface to help.
Type 'q()' to quit R.

> Sys.setenv("R_TESTS" = "")
> 
> library(testthat)
> library(TRONCO)
> 
> test_check("TRONCO")
*** Checking input events.
*** Inferring a progression model with the following settings.
	Dataset size: n = 40, m = 30.
	Algorithm: CAPRESE with shrinkage coefficient: 0.5.
*** Evaluating LogLik informations.
The reconstruction has been successfully completed in 00h:00m:00s 
*** Checking input events.
*** Inferring a progression model with the following settings.
	Dataset size: n = 40, m = 30.
	Algorithm: Edmonds with "no_reg" regularization	Random seed: NULL.
	Bootstrap iterations (Wilcoxon): 1.
		exhaustive bootstrap: TRUE.
		p-value: 0.05.
		minimum bootstrapped scores: 3.
*** Bootstraping selective advantage scores (prima facie).
	.......
	Evaluating "temporal priority" (Wilcoxon, p-value 0.05)
	Evaluating "probability raising" (Wilcoxon, p-value 0.05)
*** Loop detection found loops to break.
	Removed 4 edges out of 43 (9%)
*** Performing likelihood-fit with regularization: no_reg and score: pmi .
*** Evaluating BIC / AIC / LogLik informations.
The reconstruction has been successfully completed in 00h:00m:01s 
*** Checking input events.
*** Inferring a progression model with the following settings.
	Dataset size: n = 40, m = 30.
	Algorithm: Gabow with "no_reg" regularization	Random seed: NULL.
	Bootstrap iterations (Wilcoxon): 1.
		exhaustive bootstrap: TRUE.
		p-value: 0.05.
		minimum bootstrapped scores: 3.
*** Bootstraping selective advantage scores (prima facie).
	..............
	Evaluating "temporal priority" (Wilcoxon, p-value 0.05)
	Evaluating "probability raising" (Wilcoxon, p-value 0.05)
*** Loop detection found loops to break.
	Removed 8 edges out of 54 (15%)
*** Performing likelihood-fit with regularization: no_reg .
*** Evaluating BIC / AIC / LogLik informations.
The reconstruction has been successfully completed in 00h:00m:02s 
*** Checking input events.
*** Inferring a progression model with the following settings.
	Dataset size: n = 40, m = 30.
	Algorithm: Chow Liu with "bic, aic" regularization	Random seed: NULL.
	Bootstrap iterations (Wilcoxon): 1.
		exhaustive bootstrap: TRUE.
		p-value: 0.05.
		minimum bootstrapped scores: 3.
*** Bootstraping selective advantage scores (prima facie).
	.....
	Evaluating "temporal priority" (Wilcoxon, p-value 0.05)
	Evaluating "probability raising" (Wilcoxon, p-value 0.05)
*** Loop detection found loops to break.
	Removed 7 edges out of 49 (14%)
*** Performing likelihood-fit with regularization bic .
*** Performing likelihood-fit with regularization aic .
*** Evaluating BIC / AIC / LogLik informations.
The reconstruction has been successfully completed in 00h:00m:02s 
*** Checking input events.
*** Inferring a progression model with the following settings.
	Dataset size: n = 40, m = 30.
	Algorithm: Prim with "no_reg" regularization	Random seed: NULL.
	Bootstrap iterations (Wilcoxon): 1.
		exhaustive bootstrap: TRUE.
		p-value: 0.05.
		minimum bootstrapped scores: 3.
*** Bootstraping selective advantage scores (prima facie).
	.....
	Evaluating "temporal priority" (Wilcoxon, p-value 0.05)
	Evaluating "probability raising" (Wilcoxon, p-value 0.05)
*** Loop detection found loops to break.
	Removed 8 edges out of 52 (15%)
*** Performing likelihood-fit with regularization: no_reg .
*** Evaluating BIC / AIC / LogLik informations.
The reconstruction has been successfully completed in 00h:00m:01s 
[ FAIL 0 | WARN 23 | SKIP 0 | PASS 225 ]

[ FAIL 0 | WARN 23 | SKIP 0 | PASS 225 ]
> 
> proc.time()
   user  system elapsed 
 37.878   1.350  83.504 

Example timings

TRONCO.Rcheck/TRONCO-Ex.timings

nameusersystemelapsed
TCGA.multiple.samples0.0200.0030.022
TCGA.remove.multiple.samples0.0210.0080.030
TCGA.shorten.barcodes0.0080.0080.016
annotate.description0.0070.0090.015
annotate.stages0.0060.0000.006
as.adj.matrix0.0080.0100.018
as.alterations0.0030.0010.003
as.bootstrap.scores0.0780.0010.078
as.colors0.0000.0010.002
as.confidence0.0080.0150.023
as.description0.0020.0000.002
as.events0.0010.0010.003
as.events.in.patterns0.0020.0010.003
as.events.in.sample0.0020.0010.003
as.gene0.0020.0020.004
as.genes0.0010.0000.001
as.genes.in.patterns0.0020.0010.003
as.genotypes0.0060.0070.013
as.hypotheses0.0010.0040.006
as.joint.probs0.0070.0110.018
as.kfold.eloss0.1900.0000.191
as.kfold.posterr0.0810.0030.084
as.kfold.prederr0.0830.0050.087
as.marginal.probs0.0010.0030.004
as.models0.0020.0420.045
as.parameters0.0020.0010.003
as.pathway0.0040.0010.005
as.patterns0.0020.0000.002
as.samples0.0010.0010.002
as.selective.advantage.relations0.0530.0150.069
as.stages0.0030.0030.007
as.types0.0010.0000.002
as.types.in.patterns0.0010.0020.003
change.color0.0010.0010.002
consolidate.data0.0230.0070.031
delete.event0.0040.0000.004
delete.gene0.0020.0020.004
delete.hypothesis0.0320.0310.063
delete.model0.0020.0010.003
delete.pattern0.0040.0130.017
delete.samples0.0000.0020.003
delete.type0.0040.0000.004
duplicates0.0010.0010.001
enforce.numeric0.0010.0010.002
enforce.string0.0020.0000.003
events.selection0.0010.0020.004
export.graphml0.0930.0010.095
export.mutex0.0070.0000.007
has.duplicates0.0010.0000.002
has.model0.0010.0000.002
has.stages0.0050.0000.005
import.GISTIC0.0040.0000.004
import.MAF0.0600.0020.062
intersect.datasets0.0000.0010.001
is.compliant0.0010.0000.002
join.events0.0020.0000.003
join.types0.0320.0170.049
keysToNames0.0030.0020.005
nameToKey0.0020.0010.002
nevents0.0020.0000.001
ngenes0.0020.0000.001
nhypotheses0.0020.0000.001
npatterns0.0010.0010.001
nsamples0.0000.0010.001
ntypes0.0020.0000.001
oncoprint.cbio0.0160.0010.017
order.frequency0.0060.0090.016
pheatmap0.0320.0000.032
rank.recurrents0.0030.0010.004
rename.gene0.0020.0000.002
rename.type0.0010.0010.002
samples.selection0.0030.0000.003
trim0.0000.0030.003
tronco.bootstrap0.0950.0108.556
tronco.caprese0.1830.0000.183
tronco.capri1.6500.0721.722
tronco.chowliu1.1920.0031.195
tronco.edmonds1.0810.0191.100
tronco.gabow1.2610.0371.298
tronco.kfold.eloss0.0730.0580.130
tronco.kfold.posterr0.1720.1723.460
tronco.kfold.prederr0.1130.1103.157
tronco.plot0.1330.0030.135
tronco.prim2.2030.1062.309
view0.0030.0010.004
which.samples0.0020.0010.003