Back to Multiple platform build/check report for BioC 3.21:   simplified   long
ABCDEFGHIJKLMNOPQRSTU[V]WXYZ

This page was generated on 2025-02-06 11:40 -0500 (Thu, 06 Feb 2025).

HostnameOSArch (*)R versionInstalled pkgs
nebbiolo1Linux (Ubuntu 24.04.1 LTS)x86_64R Under development (unstable) (2025-01-20 r87609) -- "Unsuffered Consequences" 4719
palomino7Windows Server 2022 Datacenterx64R Under development (unstable) (2025-01-21 r87610 ucrt) -- "Unsuffered Consequences" 4480
lconwaymacOS 12.7.1 Montereyx86_64R Under development (unstable) (2025-01-22 r87618) -- "Unsuffered Consequences" 4491
kjohnson3macOS 13.7.1 Venturaarm64R Under development (unstable) (2025-01-20 r87609) -- "Unsuffered Consequences" 4444
Click on any hostname to see more info about the system (e.g. compilers)      (*) as reported by 'uname -p', except on Windows and Mac OS X

Package 2242/2295HostnameOS / ArchINSTALLBUILDCHECKBUILD BIN
VariantFiltering 1.43.0  (landing page)
Robert Castelo
Snapshot Date: 2025-02-05 13:48 -0500 (Wed, 05 Feb 2025)
git_url: https://git.bioconductor.org/packages/VariantFiltering
git_branch: devel
git_last_commit: d3bd159
git_last_commit_date: 2025-02-01 04:33:16 -0500 (Sat, 01 Feb 2025)
nebbiolo1Linux (Ubuntu 24.04.1 LTS) / x86_64  OK    OK    OK  UNNEEDED, same version is already published
palomino7Windows Server 2022 Datacenter / x64  OK    OK    OK    OK  UNNEEDED, same version is already published
lconwaymacOS 12.7.1 Monterey / x86_64  OK    OK    OK    OK  YES
kjohnson3macOS 13.7.1 Ventura / arm64  OK    OK    OK    OK  YES


INSTALL results for VariantFiltering on nebbiolo1

To the developers/maintainers of the VariantFiltering package:
- Allow up to 24 hours (and sometimes 48 hours) for your latest push to git@git.bioconductor.org:packages/VariantFiltering.git to reflect on this report. See Troubleshooting Build Report for more information.
- Use the following Renviron settings to reproduce errors and warnings.
- If 'R CMD check' started to fail recently on the Linux builder(s) over a missing dependency, add the missing dependency to 'Suggests:' in your DESCRIPTION file. See Renviron.bioc for more information.

raw results


Summary

Package: VariantFiltering
Version: 1.43.0
Command: /home/biocbuild/bbs-3.21-bioc/R/bin/R CMD INSTALL VariantFiltering
StartedAt: 2025-02-05 15:47:07 -0500 (Wed, 05 Feb 2025)
EndedAt: 2025-02-05 15:48:09 -0500 (Wed, 05 Feb 2025)
EllapsedTime: 62.0 seconds
RetCode: 0
Status:   OK  

Command output

##############################################################################
##############################################################################
###
### Running command:
###
###   /home/biocbuild/bbs-3.21-bioc/R/bin/R CMD INSTALL VariantFiltering
###
##############################################################################
##############################################################################


* installing to library ‘/home/biocbuild/bbs-3.21-bioc/R/site-library’
* installing *source* package ‘VariantFiltering’ ...
** this is package ‘VariantFiltering’ version ‘1.43.0’
** using staged installation
** libs
using C compiler: ‘gcc (Ubuntu 13.3.0-6ubuntu2~24.04) 13.3.0’
gcc -I"/home/biocbuild/bbs-3.21-bioc/R/include" -DNDEBUG  -I'/home/biocbuild/bbs-3.21-bioc/R/site-library/S4Vectors/include' -I'/home/biocbuild/bbs-3.21-bioc/R/site-library/IRanges/include' -I'/home/biocbuild/bbs-3.21-bioc/R/site-library/XVector/include' -I'/home/biocbuild/bbs-3.21-bioc/R/site-library/Biostrings/include' -I/usr/local/include    -fpic  -g -O2  -c Biostrings_stubs.c -o Biostrings_stubs.o
gcc -I"/home/biocbuild/bbs-3.21-bioc/R/include" -DNDEBUG  -I'/home/biocbuild/bbs-3.21-bioc/R/site-library/S4Vectors/include' -I'/home/biocbuild/bbs-3.21-bioc/R/site-library/IRanges/include' -I'/home/biocbuild/bbs-3.21-bioc/R/site-library/XVector/include' -I'/home/biocbuild/bbs-3.21-bioc/R/site-library/Biostrings/include' -I/usr/local/include    -fpic  -g -O2  -c R_init_VariantFiltering.c -o R_init_VariantFiltering.o
gcc -I"/home/biocbuild/bbs-3.21-bioc/R/include" -DNDEBUG  -I'/home/biocbuild/bbs-3.21-bioc/R/site-library/S4Vectors/include' -I'/home/biocbuild/bbs-3.21-bioc/R/site-library/IRanges/include' -I'/home/biocbuild/bbs-3.21-bioc/R/site-library/XVector/include' -I'/home/biocbuild/bbs-3.21-bioc/R/site-library/Biostrings/include' -I/usr/local/include    -fpic  -g -O2  -c methods-WeightMatrix.c -o methods-WeightMatrix.o
gcc -shared -L/home/biocbuild/bbs-3.21-bioc/R/lib -L/usr/local/lib -o VariantFiltering.so Biostrings_stubs.o R_init_VariantFiltering.o methods-WeightMatrix.o -L/home/biocbuild/bbs-3.21-bioc/R/lib -lR
installing to /home/biocbuild/bbs-3.21-bioc/R/site-library/00LOCK-VariantFiltering/00new/VariantFiltering/libs
** R
** inst
** byte-compile and prepare package for lazy loading
** help
*** installing help indices
** building package indices
** installing vignettes
** testing if installed package can be loaded from temporary location
** checking absolute paths in shared objects and dynamic libraries
** testing if installed package can be loaded from final location
** testing if installed package keeps a record of temporary installation path
* DONE (VariantFiltering)