Back to Multiple platform build/check report for BioC 3.21:   simplified   long
ABCDEFGHIJKLMNOPQRSTU[V]WXYZ

This page was generated on 2025-02-04 11:45 -0500 (Tue, 04 Feb 2025).

HostnameOSArch (*)R versionInstalled pkgs
nebbiolo1Linux (Ubuntu 24.04.1 LTS)x86_64R Under development (unstable) (2025-01-20 r87609) -- "Unsuffered Consequences" 4716
palomino7Windows Server 2022 Datacenterx64R Under development (unstable) (2025-01-21 r87610 ucrt) -- "Unsuffered Consequences" 4478
lconwaymacOS 12.7.1 Montereyx86_64R Under development (unstable) (2025-01-22 r87618) -- "Unsuffered Consequences" 4489
kjohnson3macOS 13.7.1 Venturaarm64R Under development (unstable) (2025-01-20 r87609) -- "Unsuffered Consequences" 4442
Click on any hostname to see more info about the system (e.g. compilers)      (*) as reported by 'uname -p', except on Windows and Mac OS X

Package 2255/2295HostnameOS / ArchINSTALLBUILDCHECKBUILD BIN
ViSEAGO 1.21.0  (landing page)
Aurelien Brionne
Snapshot Date: 2025-02-03 13:40 -0500 (Mon, 03 Feb 2025)
git_url: https://git.bioconductor.org/packages/ViSEAGO
git_branch: devel
git_last_commit: 28ecd50
git_last_commit_date: 2025-01-09 05:57:45 -0500 (Thu, 09 Jan 2025)
nebbiolo1Linux (Ubuntu 24.04.1 LTS) / x86_64  OK    OK    WARNINGS  UNNEEDED, same version is already published
palomino7Windows Server 2022 Datacenter / x64  OK    OK    WARNINGS    OK  UNNEEDED, same version is already published
lconwaymacOS 12.7.1 Monterey / x86_64  OK    OK    WARNINGS    OK  UNNEEDED, same version is already published
kjohnson3macOS 13.7.1 Ventura / arm64  OK    OK    WARNINGS    OK  UNNEEDED, same version is already published


BUILD BIN results for ViSEAGO on kjohnson3

To the developers/maintainers of the ViSEAGO package:
- Allow up to 24 hours (and sometimes 48 hours) for your latest push to git@git.bioconductor.org:packages/ViSEAGO.git to reflect on this report. See Troubleshooting Build Report for more information.
- Use the following Renviron settings to reproduce errors and warnings.
- If 'R CMD check' started to fail recently on the Linux builder(s) over a missing dependency, add the missing dependency to 'Suggests:' in your DESCRIPTION file. See Renviron.bioc for more information.

raw results


Summary

Package: ViSEAGO
Version: 1.21.0
Command: rm -rf ViSEAGO.buildbin-libdir && mkdir ViSEAGO.buildbin-libdir && /Users/biocbuild/BBS/utils/build-universal.sh ViSEAGO_1.21.0.tar.gz /Library/Frameworks/R.framework/Resources/bin/R ViSEAGO.buildbin-libdir
StartedAt: 2025-02-03 23:10:23 -0500 (Mon, 03 Feb 2025)
EndedAt: 2025-02-03 23:10:39 -0500 (Mon, 03 Feb 2025)
EllapsedTime: 15.3 seconds
RetCode: 0
Status:   OK  
PackageFile: ViSEAGO_1.21.0.tgz
PackageFileSize: 9.118 MiB

Command output

##############################################################################
##############################################################################
###
### Running command:
###
###   rm -rf ViSEAGO.buildbin-libdir && mkdir ViSEAGO.buildbin-libdir && /Users/biocbuild/BBS/utils/build-universal.sh ViSEAGO_1.21.0.tar.gz /Library/Frameworks/R.framework/Resources/bin/R ViSEAGO.buildbin-libdir
###
##############################################################################
##############################################################################


>>>>>>> 
>>>>>>> INSTALLATION WITH 'R CMD INSTALL --preclean --no-multiarch --library=ViSEAGO.buildbin-libdir ViSEAGO_1.21.0.tar.gz'
>>>>>>> 

* installing *source* package ‘ViSEAGO’ ...
** this is package ‘ViSEAGO’ version ‘1.21.0’
** using staged installation
** R
** data
** inst
** byte-compile and prepare package for lazy loading
Warning: replacing previous import ‘data.table::set’ by ‘dendextend::set’ when loading ‘ViSEAGO’
Warning: replacing previous import ‘dendextend::cutree’ by ‘stats::cutree’ when loading ‘ViSEAGO’
Warning: replacing previous import ‘AnnotationDbi::tail’ by ‘utils::tail’ when loading ‘ViSEAGO’
** help
*** installing help indices
** building package indices
** installing vignettes
** testing if installed package can be loaded from temporary location
Warning: replacing previous import ‘data.table::set’ by ‘dendextend::set’ when loading ‘ViSEAGO’
Warning: replacing previous import ‘dendextend::cutree’ by ‘stats::cutree’ when loading ‘ViSEAGO’
Warning: replacing previous import ‘AnnotationDbi::tail’ by ‘utils::tail’ when loading ‘ViSEAGO’
** testing if installed package can be loaded from final location
Warning: replacing previous import ‘data.table::set’ by ‘dendextend::set’ when loading ‘ViSEAGO’
Warning: replacing previous import ‘dendextend::cutree’ by ‘stats::cutree’ when loading ‘ViSEAGO’
Warning: replacing previous import ‘AnnotationDbi::tail’ by ‘utils::tail’ when loading ‘ViSEAGO’
** testing if installed package keeps a record of temporary installation path
* DONE (ViSEAGO)