Back to Multiple platform build/check report for BioC 3.21:   simplified   long
A[B]CDEFGHIJKLMNOPQRSTUVWXYZ

This page was generated on 2025-02-06 11:41 -0500 (Thu, 06 Feb 2025).

HostnameOSArch (*)R versionInstalled pkgs
nebbiolo1Linux (Ubuntu 24.04.1 LTS)x86_64R Under development (unstable) (2025-01-20 r87609) -- "Unsuffered Consequences" 4719
palomino7Windows Server 2022 Datacenterx64R Under development (unstable) (2025-01-21 r87610 ucrt) -- "Unsuffered Consequences" 4480
lconwaymacOS 12.7.1 Montereyx86_64R Under development (unstable) (2025-01-22 r87618) -- "Unsuffered Consequences" 4491
kjohnson3macOS 13.7.1 Venturaarm64R Under development (unstable) (2025-01-20 r87609) -- "Unsuffered Consequences" 4444
Click on any hostname to see more info about the system (e.g. compilers)      (*) as reported by 'uname -p', except on Windows and Mac OS X

Package 132/2295HostnameOS / ArchINSTALLBUILDCHECKBUILD BIN
basecallQC 1.31.0  (landing page)
Thomas Carroll
Snapshot Date: 2025-02-05 13:48 -0500 (Wed, 05 Feb 2025)
git_url: https://git.bioconductor.org/packages/basecallQC
git_branch: devel
git_last_commit: 0ca2dc6
git_last_commit_date: 2024-10-29 10:18:46 -0500 (Tue, 29 Oct 2024)
nebbiolo1Linux (Ubuntu 24.04.1 LTS) / x86_64  OK    OK    OK  UNNEEDED, same version is already published
palomino7Windows Server 2022 Datacenter / x64  OK    OK    OK    OK  UNNEEDED, same version is already published
lconwaymacOS 12.7.1 Monterey / x86_64  OK    OK    OK    OK  UNNEEDED, same version is already published
kjohnson3macOS 13.7.1 Ventura / arm64  OK    OK    OK    OK  UNNEEDED, same version is already published


CHECK results for basecallQC on lconway

To the developers/maintainers of the basecallQC package:
- Allow up to 24 hours (and sometimes 48 hours) for your latest push to git@git.bioconductor.org:packages/basecallQC.git to reflect on this report. See Troubleshooting Build Report for more information.
- Use the following Renviron settings to reproduce errors and warnings.
- If 'R CMD check' started to fail recently on the Linux builder(s) over a missing dependency, add the missing dependency to 'Suggests:' in your DESCRIPTION file. See Renviron.bioc for more information.

raw results


Summary

Package: basecallQC
Version: 1.31.0
Command: /Library/Frameworks/R.framework/Resources/bin/R CMD check --install=check:basecallQC.install-out.txt --library=/Library/Frameworks/R.framework/Resources/library --no-vignettes --timings basecallQC_1.31.0.tar.gz
StartedAt: 2025-02-05 18:59:48 -0500 (Wed, 05 Feb 2025)
EndedAt: 2025-02-05 19:07:21 -0500 (Wed, 05 Feb 2025)
EllapsedTime: 452.8 seconds
RetCode: 0
Status:   OK  
CheckDir: basecallQC.Rcheck
Warnings: 0

Command output

##############################################################################
##############################################################################
###
### Running command:
###
###   /Library/Frameworks/R.framework/Resources/bin/R CMD check --install=check:basecallQC.install-out.txt --library=/Library/Frameworks/R.framework/Resources/library --no-vignettes --timings basecallQC_1.31.0.tar.gz
###
##############################################################################
##############################################################################


* using log directory ‘/Users/biocbuild/bbs-3.21-bioc/meat/basecallQC.Rcheck’
* using R Under development (unstable) (2025-01-22 r87618)
* using platform: x86_64-apple-darwin20
* R was compiled by
    Apple clang version 14.0.0 (clang-1400.0.29.202)
    GNU Fortran (GCC) 14.2.0
* running under: macOS Monterey 12.7.6
* using session charset: UTF-8
* using option ‘--no-vignettes’
* checking for file ‘basecallQC/DESCRIPTION’ ... OK
* checking extension type ... Package
* this is package ‘basecallQC’ version ‘1.31.0’
* checking package namespace information ... OK
* checking package dependencies ... OK
* checking if this is a source package ... OK
* checking if there is a namespace ... OK
* checking for hidden files and directories ... OK
* checking for portable file names ... OK
* checking for sufficient/correct file permissions ... OK
* checking whether package ‘basecallQC’ can be installed ... OK
* checking installed package size ... OK
* checking package directory ... OK
* checking ‘build’ directory ... OK
* checking DESCRIPTION meta-information ... OK
* checking top-level files ... OK
* checking for left-over files ... OK
* checking index information ... OK
* checking package subdirectories ... OK
* checking code files for non-ASCII characters ... OK
* checking R files for syntax errors ... OK
* checking whether the package can be loaded ... OK
* checking whether the package can be loaded with stated dependencies ... OK
* checking whether the package can be unloaded cleanly ... OK
* checking whether the namespace can be loaded with stated dependencies ... OK
* checking whether the namespace can be unloaded cleanly ... OK
* checking dependencies in R code ... OK
* checking S3 generic/method consistency ... OK
* checking replacement functions ... OK
* checking foreign function calls ... OK
* checking R code for possible problems ... OK
* checking Rd files ... NOTE
checkRd: (-1) BCL2FastQparams.Rd:39: Lost braces in \itemize; meant \describe ?
checkRd: (-1) BCL2FastQparams.Rd:40: Lost braces in \itemize; meant \describe ?
checkRd: (-1) BCL2FastQparams.Rd:41-42: Lost braces in \itemize; meant \describe ?
checkRd: (-1) basecallQC.Rd:39: Lost braces in \itemize; meant \describe ?
checkRd: (-1) basecallQC.Rd:40-42: Lost braces in \itemize; meant \describe ?
checkRd: (-1) basecallQC.Rd:43-44: Lost braces in \itemize; meant \describe ?
checkRd: (-1) basecallQC.Rd:45-46: Lost braces in \itemize; meant \describe ?
checkRd: (-1) basecallQC.Rd:47-48: Lost braces in \itemize; meant \describe ?
checkRd: (-1) basecallQC.Rd:49-50: Lost braces in \itemize; meant \describe ?
checkRd: (-1) basecallQC.Rd:51-52: Lost braces in \itemize; meant \describe ?
checkRd: (-1) interOpsReport.Rd:32-33: Lost braces in \itemize; meant \describe ?
checkRd: (-1) interOpsReport.Rd:34-37: Lost braces in \itemize; meant \describe ?
checkRd: (-1) interOpsReport.Rd:38-41: Lost braces in \itemize; meant \describe ?
* checking Rd metadata ... OK
* checking Rd cross-references ... OK
* checking for missing documentation entries ... OK
* checking for code/documentation mismatches ... OK
* checking Rd \usage sections ... OK
* checking Rd contents ... OK
* checking for unstated dependencies in examples ... OK
* checking files in ‘vignettes’ ... OK
* checking examples ... OK
Examples with CPU (user + system) or elapsed time > 5s
                       user system elapsed
reportBCL             7.867  0.230   8.291
demuxBarplot          6.276  0.094   6.418
baseCallMetrics       5.942  0.163   6.139
passFilterTileplot    5.248  0.031   5.295
summaryConvStatsTable 5.143  0.027   5.191
summaryDemuxTable     5.071  0.028   5.125
demuxBoxplot          5.047  0.031   5.101
makeFQTable           5.019  0.033   5.080
passFilterBar         4.998  0.034   5.050
passFilterBoxplot     4.983  0.030   5.029
* checking for unstated dependencies in ‘tests’ ... OK
* checking tests ...
  Running ‘testthat.R’
 OK
* checking for unstated dependencies in vignettes ... OK
* checking package vignettes ... OK
* checking running R code from vignettes ... SKIPPED
* checking re-building of vignette outputs ... SKIPPED
* checking PDF version of manual ... OK
* DONE

Status: 1 NOTE
See
  ‘/Users/biocbuild/bbs-3.21-bioc/meat/basecallQC.Rcheck/00check.log’
for details.


Installation output

basecallQC.Rcheck/00install.out

##############################################################################
##############################################################################
###
### Running command:
###
###   /Library/Frameworks/R.framework/Resources/bin/R CMD INSTALL basecallQC
###
##############################################################################
##############################################################################


* installing to library ‘/Library/Frameworks/R.framework/Versions/4.5-x86_64/Resources/library’
* installing *source* package ‘basecallQC’ ...
** this is package ‘basecallQC’ version ‘1.31.0’
** using staged installation
** R
** inst
** byte-compile and prepare package for lazy loading
** help
*** installing help indices
** building package indices
** installing vignettes
** testing if installed package can be loaded from temporary location
** testing if installed package can be loaded from final location
** testing if installed package keeps a record of temporary installation path
* DONE (basecallQC)

Tests output

basecallQC.Rcheck/tests/testthat.Rout


R Under development (unstable) (2025-01-22 r87618) -- "Unsuffered Consequences"
Copyright (C) 2025 The R Foundation for Statistical Computing
Platform: x86_64-apple-darwin20

R is free software and comes with ABSOLUTELY NO WARRANTY.
You are welcome to redistribute it under certain conditions.
Type 'license()' or 'licence()' for distribution details.

R is a collaborative project with many contributors.
Type 'contributors()' for more information and
'citation()' on how to cite R or R packages in publications.

Type 'demo()' for some demos, 'help()' for on-line help, or
'help.start()' for an HTML browser interface to help.
Type 'q()' to quit R.

> library(testthat)
> library(basecallQC)
Loading required package: rmarkdown
Loading required package: knitr
Loading required package: prettydoc
Loading required package: yaml
> 
> test_check("basecallQC")
[ FAIL 0 | WARN 47 | SKIP 0 | PASS 5 ]

[ FAIL 0 | WARN 47 | SKIP 0 | PASS 5 ]
> 
> proc.time()
   user  system elapsed 
 26.579   0.885  27.574 

Example timings

basecallQC.Rcheck/basecallQC-Ex.timings

nameusersystemelapsed
BCL2FastQparams0.2550.0320.289
baseCallMetrics5.9420.1636.139
basecallQC4.6750.0354.734
createBCLcommand0.2540.0040.258
createBasemasks0.2550.0030.259
demultiplexMetrics0.0540.0010.056
demuxBarplot6.2760.0946.418
demuxBoxplot5.0470.0315.101
indexlengths0.0270.0020.029
interOpsReport0.0230.0020.025
makeFQTable5.0190.0335.080
passFilterBar4.9980.0345.050
passFilterBoxplot4.9830.0305.029
passFilterTileplot5.2480.0315.295
readlengths0.0270.0020.029
reportBCL7.8670.2308.291
summaryConvStatsTable5.1430.0275.191
summaryDemuxTable5.0710.0285.125
validateBCLSheet0.0720.0020.074