Back to Multiple platform build/check report for BioC 3.21:   simplified   long
A[B]CDEFGHIJKLMNOPQRSTUVWXYZ

This page was generated on 2025-02-06 11:39 -0500 (Thu, 06 Feb 2025).

HostnameOSArch (*)R versionInstalled pkgs
nebbiolo1Linux (Ubuntu 24.04.1 LTS)x86_64R Under development (unstable) (2025-01-20 r87609) -- "Unsuffered Consequences" 4719
palomino7Windows Server 2022 Datacenterx64R Under development (unstable) (2025-01-21 r87610 ucrt) -- "Unsuffered Consequences" 4480
lconwaymacOS 12.7.1 Montereyx86_64R Under development (unstable) (2025-01-22 r87618) -- "Unsuffered Consequences" 4491
kjohnson3macOS 13.7.1 Venturaarm64R Under development (unstable) (2025-01-20 r87609) -- "Unsuffered Consequences" 4444
Click on any hostname to see more info about the system (e.g. compilers)      (*) as reported by 'uname -p', except on Windows and Mac OS X

Package 152/2295HostnameOS / ArchINSTALLBUILDCHECKBUILD BIN
beadarray 2.57.0  (landing page)
Mark Dunning
Snapshot Date: 2025-02-05 13:48 -0500 (Wed, 05 Feb 2025)
git_url: https://git.bioconductor.org/packages/beadarray
git_branch: devel
git_last_commit: 21fcf33
git_last_commit_date: 2024-10-29 09:25:42 -0500 (Tue, 29 Oct 2024)
nebbiolo1Linux (Ubuntu 24.04.1 LTS) / x86_64  OK    OK    OK  UNNEEDED, same version is already published
palomino7Windows Server 2022 Datacenter / x64  OK    OK    OK    OK  UNNEEDED, same version is already published
lconwaymacOS 12.7.1 Monterey / x86_64  OK    OK    OK    OK  UNNEEDED, same version is already published
kjohnson3macOS 13.7.1 Ventura / arm64  OK    OK    OK    OK  UNNEEDED, same version is already published


CHECK results for beadarray on nebbiolo1

To the developers/maintainers of the beadarray package:
- Allow up to 24 hours (and sometimes 48 hours) for your latest push to git@git.bioconductor.org:packages/beadarray.git to reflect on this report. See Troubleshooting Build Report for more information.
- Use the following Renviron settings to reproduce errors and warnings.
- If 'R CMD check' started to fail recently on the Linux builder(s) over a missing dependency, add the missing dependency to 'Suggests:' in your DESCRIPTION file. See Renviron.bioc for more information.

raw results


Summary

Package: beadarray
Version: 2.57.0
Command: /home/biocbuild/bbs-3.21-bioc/R/bin/R CMD check --install=check:beadarray.install-out.txt --library=/home/biocbuild/bbs-3.21-bioc/R/site-library --timings beadarray_2.57.0.tar.gz
StartedAt: 2025-02-05 20:15:57 -0500 (Wed, 05 Feb 2025)
EndedAt: 2025-02-05 20:25:19 -0500 (Wed, 05 Feb 2025)
EllapsedTime: 562.8 seconds
RetCode: 0
Status:   OK  
CheckDir: beadarray.Rcheck
Warnings: 0

Command output

##############################################################################
##############################################################################
###
### Running command:
###
###   /home/biocbuild/bbs-3.21-bioc/R/bin/R CMD check --install=check:beadarray.install-out.txt --library=/home/biocbuild/bbs-3.21-bioc/R/site-library --timings beadarray_2.57.0.tar.gz
###
##############################################################################
##############################################################################


* using log directory ‘/home/biocbuild/bbs-3.21-bioc/meat/beadarray.Rcheck’
* using R Under development (unstable) (2025-01-20 r87609)
* using platform: x86_64-pc-linux-gnu
* R was compiled by
    gcc (Ubuntu 13.3.0-6ubuntu2~24.04) 13.3.0
    GNU Fortran (Ubuntu 13.3.0-6ubuntu2~24.04) 13.3.0
* running under: Ubuntu 24.04.1 LTS
* using session charset: UTF-8
* checking for file ‘beadarray/DESCRIPTION’ ... OK
* this is package ‘beadarray’ version ‘2.57.0’
* checking package namespace information ... OK
* checking package dependencies ... OK
* checking if this is a source package ... OK
* checking if there is a namespace ... OK
* checking for hidden files and directories ... OK
* checking for portable file names ... OK
* checking for sufficient/correct file permissions ... OK
* checking whether package ‘beadarray’ can be installed ... OK
* used C compiler: ‘gcc (Ubuntu 13.3.0-6ubuntu2~24.04) 13.3.0’
* checking installed package size ... OK
* checking package directory ... OK
* checking ‘build’ directory ... OK
* checking DESCRIPTION meta-information ... NOTE
License stub is invalid DCF.
* checking top-level files ... OK
* checking for left-over files ... OK
* checking index information ... OK
* checking package subdirectories ... OK
* checking code files for non-ASCII characters ... OK
* checking R files for syntax errors ... OK
* checking whether the package can be loaded ... OK
* checking whether the package can be loaded with stated dependencies ... OK
* checking whether the package can be unloaded cleanly ... OK
* checking whether the namespace can be loaded with stated dependencies ... OK
* checking whether the namespace can be unloaded cleanly ... OK
* checking loading without being on the library search path ... OK
* checking whether startup messages can be suppressed ... OK
* checking dependencies in R code ... NOTE
Package in Depends field not imported from: ‘hexbin’
  These packages need to be imported from (in the NAMESPACE file)
  for when this namespace is loaded but not attached.
Unexported objects imported by ':::' calls:
  ‘BeadDataPackR:::combineFiles’ ‘BeadDataPackR:::readHeader’
  ‘Biobase:::assayDataStorageMode’
  See the note in ?`:::` about the use of this operator.
* checking S3 generic/method consistency ... OK
* checking replacement functions ... OK
* checking foreign function calls ... NOTE
Foreign function call to a different package:
  .Call("roundLocsFileValues", ..., PACKAGE = "BeadDataPackR")
See chapter ‘System and foreign language interfaces’ in the ‘Writing R
Extensions’ manual.
* checking R code for possible problems ... NOTE
combinedControlPlot: no visible binding for global variable ‘Negative’
createGEOMeta: no visible binding for global variable ‘metaTemplate’
expressionQCPipeline: no visible global function definition for
  ‘openPage’
expressionQCPipeline: no visible global function definition for
  ‘hwrite’
expressionQCPipeline: no visible global function definition for
  ‘hwriteImage’
expressionQCPipeline: no visible global function definition for
  ‘closePage’
getPlatformSigs: no visible global function definition for
  ‘lumiHumanIDMapping_dbconn’
getPlatformSigs: no visible global function definition for
  ‘dbListTables’
getPlatformSigs: no visible global function definition for
  ‘dbListFields’
getPlatformSigs: no visible global function definition for ‘dbGetQuery’
getPlatformSigs: no visible global function definition for
  ‘lumiMouseIDMapping_dbconn’
getPlatformSigs: no visible global function definition for
  ‘lumiRatIDMapping_dbconn’
imageplot: no visible binding for global variable ‘Var1’
imageplot: no visible binding for global variable ‘Var2’
imageplot: no visible binding for global variable ‘value’
makeReport: no visible binding for global variable ‘Nozzle.R1’
makeReport: no visible binding for global variable ‘ggbio’
makeReport: no visible global function definition for ‘newCustomReport’
makeReport: no visible global function definition for ‘newSection’
makeReport: no visible global function definition for ‘newTable’
makeReport: no visible global function definition for ‘newParagraph’
makeReport: no visible global function definition for ‘addTo’
makeReport: no visible global function definition for ‘autoplot’
makeReport: no visible global function definition for ‘plotIdeogram’
makeReport: no visible global function definition for ‘tracks’
makeReport: no visible global function definition for ‘newFigure’
makeReport: no visible binding for global variable ‘IMAGE.TYPE.RASTER’
makeReport: no visible binding for global variable ‘PROTECTION.PUBLIC’
makeReport: no visible binding for global variable ‘value’
makeReport: no visible global function definition for ‘writeReport’
maplots: no visible binding for global variable ‘value.1’
maplots: no visible binding for global variable ‘value’
normaliseIllumina: no visible global function definition for ‘lumiT’
normaliseIllumina: no visible global function definition for
  ‘normalize.qspline’
normaliseIllumina: no visible global function definition for ‘vsn2’
plotBeadLocations2: no visible global function definition for ‘qplot’
plotBeadLocations2: no visible global function definition for ‘opts’
plotBeadLocations2: no visible global function definition for
  ‘theme_blank’
plotProbe: no visible global function definition for ‘autoplot’
plotProbe: no visible binding for global variable ‘genesymbol’
plotProbe: no visible global function definition for ‘tracks’
plotProbe: no visible binding for global variable ‘PROBEQUALITY’
rankInvariantNormalise: no visible global function definition for
  ‘normalize.invariantset’
suggestAnnotation: no visible binding for global variable
  ‘platformSigs’
suggestAnnotation_Vector: no visible binding for global variable
  ‘platformSigs’
[,ExpressionSetIllumina-ANY: no visible global function definition for
  ‘assayDataEnvLock’
boxplot,ExpressionSetIllumina: no visible binding for global variable
  ‘Var2’
boxplot,ExpressionSetIllumina: no visible binding for global variable
  ‘value’
plotMA,ExpressionSetIllumina: no visible binding for global variable
  ‘value.1’
plotMA,ExpressionSetIllumina: no visible binding for global variable
  ‘value’
Undefined global functions or variables:
  IMAGE.TYPE.RASTER Negative Nozzle.R1 PROBEQUALITY PROTECTION.PUBLIC
  Var1 Var2 addTo assayDataEnvLock autoplot closePage dbGetQuery
  dbListFields dbListTables genesymbol ggbio hwrite hwriteImage
  lumiHumanIDMapping_dbconn lumiMouseIDMapping_dbconn
  lumiRatIDMapping_dbconn lumiT metaTemplate newCustomReport newFigure
  newParagraph newSection newTable normalize.invariantset
  normalize.qspline openPage opts platformSigs plotIdeogram qplot
  theme_blank tracks value value.1 vsn2 writeReport
* checking Rd files ... NOTE
checkRd: (-1) createTargetsFile.Rd:49: Lost braces
    49 | code{metricsflag}: This gives the key word that can be used to identify metrics files.  
       |     ^
checkRd: (-1) readBeadSummaryData.Rd:70: Escaped LaTeX specials: \_
checkRd: (-1) readBeadSummaryData.Rd:71: Escaped LaTeX specials: \_ \_
checkRd: (-1) readBeadSummaryData.Rd:76: Escaped LaTeX specials: \_ \_
checkRd: (-1) sampleSheet.Rd:26: Escaped LaTeX specials: \_ \_ \_ \_ \_ \_ \_ \_ \_ \_ \_ \_
* checking Rd metadata ... OK
* checking Rd cross-references ... OK
* checking for missing documentation entries ... OK
* checking for code/documentation mismatches ... OK
* checking Rd \usage sections ... OK
* checking Rd contents ... OK
* checking for unstated dependencies in examples ... OK
* checking contents of ‘data’ directory ... OK
* checking data for non-ASCII characters ... OK
* checking LazyData ... OK
* checking data for ASCII and uncompressed saves ... OK
* checking line endings in C/C++/Fortran sources/headers ... OK
* checking compiled code ... NOTE
Note: information on .o files is not available
* checking files in ‘vignettes’ ... OK
* checking examples ... OK
Examples with CPU (user + system) or elapsed time > 5s
                           user system elapsed
squeezedVarOutlierMethod 46.924  0.204  47.130
summarize                21.029  0.745  21.787
normaliseIllumina        13.991  0.393  14.385
limmaDE                  13.561  0.163  13.725
outlierplot              11.729  0.422  12.152
calculateOutlierStats    10.842  0.650  11.495
calculateDetection       10.143  0.297  10.446
controlProbeDetection     9.681  0.293   9.975
identifyControlBeads      9.509  0.170   9.681
insertSectionData         8.531  0.497   9.028
poscontPlot               8.638  0.109   8.761
makeQCTable               8.018  0.479   8.499
annotationInterface       6.829  0.668   7.498
quickSummary              6.590  0.100   6.690
showArrayMask             6.054  0.208   6.262
addFeatureData            5.777  0.441   6.230
imageplot                 5.458  0.083   5.542
* checking for unstated dependencies in vignettes ... OK
* checking package vignettes ... OK
* checking re-building of vignette outputs ... OK
* checking PDF version of manual ... OK
* DONE

Status: 6 NOTEs
See
  ‘/home/biocbuild/bbs-3.21-bioc/meat/beadarray.Rcheck/00check.log’
for details.


Installation output

beadarray.Rcheck/00install.out

##############################################################################
##############################################################################
###
### Running command:
###
###   /home/biocbuild/bbs-3.21-bioc/R/bin/R CMD INSTALL beadarray
###
##############################################################################
##############################################################################


* installing to library ‘/home/biocbuild/bbs-3.21-bioc/R/site-library’
* installing *source* package ‘beadarray’ ...
** this is package ‘beadarray’ version ‘2.57.0’
** using staged installation
** libs
using C compiler: ‘gcc (Ubuntu 13.3.0-6ubuntu2~24.04) 13.3.0’
gcc -I"/home/biocbuild/bbs-3.21-bioc/R/include" -DNDEBUG   -I/usr/local/include    -fpic  -g -O2  -c BASH.c -o BASH.o
gcc -I"/home/biocbuild/bbs-3.21-bioc/R/include" -DNDEBUG   -I/usr/local/include    -fpic  -g -O2  -c HULK.c -o HULK.o
gcc -I"/home/biocbuild/bbs-3.21-bioc/R/include" -DNDEBUG   -I/usr/local/include    -fpic  -g -O2  -c determiningGridPositions.c -o determiningGridPositions.o
gcc -I"/home/biocbuild/bbs-3.21-bioc/R/include" -DNDEBUG   -I/usr/local/include    -fpic  -g -O2  -c findAllOutliers.c -o findAllOutliers.o
gcc -I"/home/biocbuild/bbs-3.21-bioc/R/include" -DNDEBUG   -I/usr/local/include    -fpic  -g -O2  -c imageProcessing.c -o imageProcessing.o
gcc -shared -L/home/biocbuild/bbs-3.21-bioc/R/lib -L/usr/local/lib -o beadarray.so BASH.o HULK.o determiningGridPositions.o findAllOutliers.o imageProcessing.o -L/home/biocbuild/bbs-3.21-bioc/R/lib -lR
installing to /home/biocbuild/bbs-3.21-bioc/R/site-library/00LOCK-beadarray/00new/beadarray/libs
** R
** data
*** moving datasets to lazyload DB
** inst
** byte-compile and prepare package for lazy loading
** help
*** installing help indices
** building package indices
** installing vignettes
** testing if installed package can be loaded from temporary location
** checking absolute paths in shared objects and dynamic libraries
** testing if installed package can be loaded from final location
** testing if installed package keeps a record of temporary installation path
* DONE (beadarray)

Tests output


Example timings

beadarray.Rcheck/beadarray-Ex.timings

nameusersystemelapsed
BASH0.0000.0010.000
BASHCompact0.0010.0000.000
BASHDiffuse0.0000.0010.000
BASHExtended0.0000.0010.001
GEO0.0000.0000.001
GEOtemplate0.0010.0000.002
HULK0.0000.0000.001
addFeatureData5.7770.4416.230
annotationInterface6.8290.6687.498
backgroundCorrectSingleSection000
beadarrayUsersGuide0.0020.0000.002
boxplot3.1910.2423.433
calculateDetection10.143 0.29710.446
calculateOutlierStats10.842 0.65011.495
class-beadLevelData2.5960.1002.696
class-illuminaChannel0.0030.0000.003
combine3.3520.1073.459
controlProbeDetection9.6810.2939.975
createTargetsFile0.0000.0000.001
expressionQCPipeline0.0220.0030.025
generateNeighbours0.0000.0000.001
getBeadData2.0940.0822.177
identifyControlBeads9.5090.1709.681
illuminaOutlierMethod2.4920.0512.544
imageplot5.4580.0835.542
insertBeadData3.0810.2183.299
insertSectionData8.5310.4979.028
limmaDE13.561 0.16313.725
makeControlProfile0.3770.0030.380
makeQCTable8.0180.4798.499
maplots4.4070.0594.466
medianNormalise1.6210.0221.643
metrics1.8430.0361.879
noOutlierMethod1.8570.0231.880
normaliseIllumina13.991 0.39314.385
numBeads1.8170.0901.907
outlierplot11.729 0.42212.152
plotBeadIntensities3.5720.1893.760
plotBeadLocations2.0770.0222.099
plotChipLayout000
plotMAXY000
poscontPlot8.6380.1098.761
quickSummary6.590.106.69
readBeadSummaryData000
sectionNames1.8940.0321.927
showArrayMask6.0540.2086.262
squeezedVarOutlierMethod46.924 0.20447.130
summarize21.029 0.74521.787
transformationFunctions3.5690.1643.733
weightsOutlierMethod000