Back to Multiple platform build/check report for BioC 3.21:   simplified   long
A[B]CDEFGHIJKLMNOPQRSTUVWXYZ

This page was generated on 2025-02-04 11:44 -0500 (Tue, 04 Feb 2025).

HostnameOSArch (*)R versionInstalled pkgs
nebbiolo1Linux (Ubuntu 24.04.1 LTS)x86_64R Under development (unstable) (2025-01-20 r87609) -- "Unsuffered Consequences" 4716
palomino7Windows Server 2022 Datacenterx64R Under development (unstable) (2025-01-21 r87610 ucrt) -- "Unsuffered Consequences" 4478
lconwaymacOS 12.7.1 Montereyx86_64R Under development (unstable) (2025-01-22 r87618) -- "Unsuffered Consequences" 4489
kjohnson3macOS 13.7.1 Venturaarm64R Under development (unstable) (2025-01-20 r87609) -- "Unsuffered Consequences" 4442
Click on any hostname to see more info about the system (e.g. compilers)      (*) as reported by 'uname -p', except on Windows and Mac OS X

Package 158/2295HostnameOS / ArchINSTALLBUILDCHECKBUILD BIN
benchdamic 1.13.2  (landing page)
Matteo Calgaro
Snapshot Date: 2025-02-03 13:40 -0500 (Mon, 03 Feb 2025)
git_url: https://git.bioconductor.org/packages/benchdamic
git_branch: devel
git_last_commit: 9f9c589
git_last_commit_date: 2024-11-26 03:11:57 -0500 (Tue, 26 Nov 2024)
nebbiolo1Linux (Ubuntu 24.04.1 LTS) / x86_64  OK    OK    OK  UNNEEDED, same version is already published
palomino7Windows Server 2022 Datacenter / x64  OK    OK    OK    OK  NO, package depends on 'DESeq2' which is only available as a source package that needs compilation
lconwaymacOS 12.7.1 Monterey / x86_64  OK    OK    OK    OK  NO, package depends on 'DESeq2' which is only available as a source package that needs compilation
kjohnson3macOS 13.7.1 Ventura / arm64  OK    OK    OK    OK  NO, package depends on 'DESeq2' which is only available as a source package that needs compilation


CHECK results for benchdamic on kjohnson3

To the developers/maintainers of the benchdamic package:
- Allow up to 24 hours (and sometimes 48 hours) for your latest push to git@git.bioconductor.org:packages/benchdamic.git to reflect on this report. See Troubleshooting Build Report for more information.
- Use the following Renviron settings to reproduce errors and warnings.
- If 'R CMD check' started to fail recently on the Linux builder(s) over a missing dependency, add the missing dependency to 'Suggests:' in your DESCRIPTION file. See Renviron.bioc for more information.

raw results


Summary

Package: benchdamic
Version: 1.13.2
Command: /Library/Frameworks/R.framework/Resources/bin/R CMD check --install=check:benchdamic.install-out.txt --library=/Library/Frameworks/R.framework/Resources/library --no-vignettes --timings benchdamic_1.13.2.tar.gz
StartedAt: 2025-02-03 18:48:19 -0500 (Mon, 03 Feb 2025)
EndedAt: 2025-02-03 18:52:04 -0500 (Mon, 03 Feb 2025)
EllapsedTime: 224.6 seconds
RetCode: 0
Status:   OK  
CheckDir: benchdamic.Rcheck
Warnings: 0

Command output

##############################################################################
##############################################################################
###
### Running command:
###
###   /Library/Frameworks/R.framework/Resources/bin/R CMD check --install=check:benchdamic.install-out.txt --library=/Library/Frameworks/R.framework/Resources/library --no-vignettes --timings benchdamic_1.13.2.tar.gz
###
##############################################################################
##############################################################################


* using log directory ‘/Users/biocbuild/bbs-3.21-bioc/meat/benchdamic.Rcheck’
* using R Under development (unstable) (2025-01-20 r87609)
* using platform: aarch64-apple-darwin20
* R was compiled by
    Apple clang version 14.0.0 (clang-1400.0.29.202)
    GNU Fortran (GCC) 14.2.0
* running under: macOS Ventura 13.7.1
* using session charset: UTF-8
* using option ‘--no-vignettes’
* checking for file ‘benchdamic/DESCRIPTION’ ... OK
* checking extension type ... Package
* this is package ‘benchdamic’ version ‘1.13.2’
* package encoding: UTF-8
* checking package namespace information ... OK
* checking package dependencies ... INFO
Imports includes 31 non-default packages.
Importing from so many packages makes the package vulnerable to any of
them becoming unavailable.  Move as many as possible to Suggests and
use conditionally.
* checking if this is a source package ... OK
* checking if there is a namespace ... OK
* checking for hidden files and directories ... OK
* checking for portable file names ... OK
* checking for sufficient/correct file permissions ... OK
* checking whether package ‘benchdamic’ can be installed ... OK
* checking installed package size ... OK
* checking package directory ... OK
* checking ‘build’ directory ... OK
* checking DESCRIPTION meta-information ... OK
* checking top-level files ... OK
* checking for left-over files ... OK
* checking index information ... OK
* checking package subdirectories ... OK
* checking code files for non-ASCII characters ... OK
* checking R files for syntax errors ... OK
* checking whether the package can be loaded ... OK
* checking whether the package can be loaded with stated dependencies ... OK
* checking whether the package can be unloaded cleanly ... OK
* checking whether the namespace can be loaded with stated dependencies ... OK
* checking whether the namespace can be unloaded cleanly ... OK
* checking dependencies in R code ... NOTE
Namespace in Imports field not imported from: ‘microbiome’
  All declared Imports should be used.
* checking S3 generic/method consistency ... OK
* checking replacement functions ... OK
* checking foreign function calls ... OK
* checking R code for possible problems ... OK
* checking Rd files ... NOTE
checkRd: (-1) DA_Seurat.Rd:29-31: Lost braces in \itemize; meant \describe ?
checkRd: (-1) DA_Seurat.Rd:32: Lost braces in \itemize; meant \describe ?
checkRd: (-1) DA_Seurat.Rd:33-36: Lost braces in \itemize; meant \describe ?
checkRd: (-1) DA_Seurat.Rd:37: Lost braces in \itemize; meant \describe ?
checkRd: (-1) DA_Seurat.Rd:42-44: Lost braces in \itemize; meant \describe ?
checkRd: (-1) DA_Seurat.Rd:45-46: Lost braces in \itemize; meant \describe ?
checkRd: (-1) DA_Seurat.Rd:47-56: Lost braces in \itemize; meant \describe ?
checkRd: (-1) DA_Seurat.Rd:57-58: Lost braces in \itemize; meant \describe ?
checkRd: (-1) DA_Seurat.Rd:59-61: Lost braces in \itemize; meant \describe ?
checkRd: (-1) DA_Seurat.Rd:62-63: Lost braces in \itemize; meant \describe ?
checkRd: (-1) DA_Seurat.Rd:64-67: Lost braces in \itemize; meant \describe ?
checkRd: (-1) DA_Seurat.Rd:68-70: Lost braces in \itemize; meant \describe ?
checkRd: (-1) DA_Seurat.Rd:71-73: Lost braces in \itemize; meant \describe ?
checkRd: (-1) areaCAT.Rd:18: Lost braces in \itemize; \value handles \item{}{} directly
checkRd: (-1) areaCAT.Rd:19-20: Lost braces in \itemize; \value handles \item{}{} directly
checkRd: (-1) areaCAT.Rd:21: Lost braces in \itemize; \value handles \item{}{} directly
checkRd: (-1) areaCAT.Rd:22: Lost braces in \itemize; \value handles \item{}{} directly
checkRd: (-1) areaCAT.Rd:23: Lost braces in \itemize; \value handles \item{}{} directly
checkRd: (-1) areaCAT.Rd:24-28: Lost braces in \itemize; \value handles \item{}{} directly
checkRd: (-1) areaCAT.Rd:29-30: Lost braces in \itemize; \value handles \item{}{} directly
checkRd: (-1) areaCAT.Rd:31-32: Lost braces in \itemize; \value handles \item{}{} directly
checkRd: (-1) createConcordance.Rd:30: Lost braces in \itemize; \value handles \item{}{} directly
checkRd: (-1) createConcordance.Rd:31-32: Lost braces in \itemize; \value handles \item{}{} directly
checkRd: (-1) createConcordance.Rd:33: Lost braces in \itemize; \value handles \item{}{} directly
checkRd: (-1) createConcordance.Rd:34: Lost braces in \itemize; \value handles \item{}{} directly
checkRd: (-1) createConcordance.Rd:35: Lost braces in \itemize; \value handles \item{}{} directly
checkRd: (-1) createConcordance.Rd:36-40: Lost braces in \itemize; \value handles \item{}{} directly
checkRd: (-1) createEnrichment.Rd:80-81: Lost braces in \itemize; \value handles \item{}{} directly
checkRd: (-1) createEnrichment.Rd:82: Lost braces in \itemize; \value handles \item{}{} directly
checkRd: (-1) createEnrichment.Rd:83-84: Lost braces in \itemize; \value handles \item{}{} directly
checkRd: (-1) createEnrichment.Rd:85-86: Lost braces in \itemize; \value handles \item{}{} directly
checkRd: (-1) createTIEC.Rd:17-19: Lost braces in \itemize; \value handles \item{}{} directly
checkRd: (-1) createTIEC.Rd:20-23: Lost braces in \itemize; \value handles \item{}{} directly
checkRd: (-1) createTIEC.Rd:24-27: Lost braces in \itemize; \value handles \item{}{} directly
checkRd: (-1) createTIEC.Rd:28-30: Lost braces in \itemize; \value handles \item{}{} directly
checkRd: (-1) createTIEC.Rd:31-34: Lost braces in \itemize; \value handles \item{}{} directly
checkRd: (-1) enrichmentTest.Rd:25-26: Lost braces in \itemize; \value handles \item{}{} directly
checkRd: (-1) enrichmentTest.Rd:27: Lost braces in \itemize; \value handles \item{}{} directly
checkRd: (-1) enrichmentTest.Rd:28-29: Lost braces in \itemize; \value handles \item{}{} directly
checkRd: (-1) enrichmentTest.Rd:30-31: Lost braces in \itemize; \value handles \item{}{} directly
checkRd: (-1) extractDA.Rd:62-63: Lost braces in \itemize; \value handles \item{}{} directly
checkRd: (-1) extractDA.Rd:64-66: Lost braces in \itemize; \value handles \item{}{} directly
checkRd: (-1) extractDA.Rd:67-70: Lost braces in \itemize; \value handles \item{}{} directly
checkRd: (-1) getDA.Rd:58-59: Lost braces in \itemize; \value handles \item{}{} directly
checkRd: (-1) getDA.Rd:60-62: Lost braces in \itemize; \value handles \item{}{} directly
checkRd: (-1) getDA.Rd:63-66: Lost braces in \itemize; \value handles \item{}{} directly
checkRd: (-1) get_counts_metadata.Rd:32-33: Lost braces in \itemize; \value handles \item{}{} directly
checkRd: (-1) get_counts_metadata.Rd:34-35: Lost braces in \itemize; \value handles \item{}{} directly
checkRd: (-1) get_counts_metadata.Rd:36-37: Lost braces in \itemize; \value handles \item{}{} directly
checkRd: (-1) plotConcordance.Rd:21-23: Lost braces in \itemize; \value handles \item{}{} directly
checkRd: (-1) plotConcordance.Rd:24-25: Lost braces in \itemize; \value handles \item{}{} directly
checkRd: (-1) set_Seurat.Rd:26-28: Lost braces in \itemize; meant \describe ?
checkRd: (-1) set_Seurat.Rd:29-30: Lost braces in \itemize; meant \describe ?
checkRd: (-1) set_Seurat.Rd:31-40: Lost braces in \itemize; meant \describe ?
checkRd: (-1) set_Seurat.Rd:41-42: Lost braces in \itemize; meant \describe ?
checkRd: (-1) set_Seurat.Rd:43-45: Lost braces in \itemize; meant \describe ?
checkRd: (-1) set_Seurat.Rd:46-47: Lost braces in \itemize; meant \describe ?
checkRd: (-1) set_Seurat.Rd:48-51: Lost braces in \itemize; meant \describe ?
checkRd: (-1) set_Seurat.Rd:52-54: Lost braces in \itemize; meant \describe ?
checkRd: (-1) set_Seurat.Rd:55-57: Lost braces in \itemize; meant \describe ?
checkRd: (-1) set_Seurat.Rd:64-66: Lost braces in \itemize; meant \describe ?
checkRd: (-1) set_Seurat.Rd:67: Lost braces in \itemize; meant \describe ?
checkRd: (-1) set_Seurat.Rd:68-71: Lost braces in \itemize; meant \describe ?
checkRd: (-1) set_Seurat.Rd:72: Lost braces in \itemize; meant \describe ?
* checking Rd metadata ... OK
* checking Rd cross-references ... NOTE
Found the following Rd file(s) with Rd \link{} targets missing package
anchors:
  fitDM.Rd: MGLMreg
  fitHURDLE.Rd: zlm
  fitNB.Rd: glmFit
  fitZIG.Rd: fitZig
  fitZINB.Rd: zinbFit
  norm_edgeR.Rd: calcNormFactors
Please provide package anchors for all Rd \link{} targets not in the
package itself and the base packages.
* checking for missing documentation entries ... OK
* checking for code/documentation mismatches ... OK
* checking Rd \usage sections ... OK
* checking Rd contents ... OK
* checking for unstated dependencies in examples ... OK
* checking contents of ‘data’ directory ... OK
* checking data for non-ASCII characters ... OK
* checking LazyData ... OK
* checking data for ASCII and uncompressed saves ... OK
* checking files in ‘vignettes’ ... OK
* checking examples ... OK
* checking for unstated dependencies in ‘tests’ ... OK
* checking tests ...
  Running ‘testthat.R’
 OK
* checking for unstated dependencies in vignettes ... OK
* checking package vignettes ... OK
* checking running R code from vignettes ... SKIPPED
* checking re-building of vignette outputs ... SKIPPED
* checking PDF version of manual ... OK
* DONE

Status: 3 NOTEs
See
  ‘/Users/biocbuild/bbs-3.21-bioc/meat/benchdamic.Rcheck/00check.log’
for details.


Installation output

benchdamic.Rcheck/00install.out

##############################################################################
##############################################################################
###
### Running command:
###
###   /Library/Frameworks/R.framework/Resources/bin/R CMD INSTALL benchdamic
###
##############################################################################
##############################################################################


* installing to library ‘/Library/Frameworks/R.framework/Versions/4.5-arm64/Resources/library’
* installing *source* package ‘benchdamic’ ...
** this is package ‘benchdamic’ version ‘1.13.2’
** using staged installation
** R
** data
*** moving datasets to lazyload DB
** inst
** byte-compile and prepare package for lazy loading
Found more than one class "dist" in cache; using the first, from namespace 'BiocGenerics'
Also defined by ‘spam’
** help
*** installing help indices
** building package indices
** installing vignettes
** testing if installed package can be loaded from temporary location
Found more than one class "dist" in cache; using the first, from namespace 'BiocGenerics'
Also defined by ‘spam’
** testing if installed package can be loaded from final location
Found more than one class "dist" in cache; using the first, from namespace 'BiocGenerics'
Also defined by ‘spam’
** testing if installed package keeps a record of temporary installation path
* DONE (benchdamic)

Tests output

benchdamic.Rcheck/tests/testthat.Rout


R Under development (unstable) (2025-01-20 r87609) -- "Unsuffered Consequences"
Copyright (C) 2025 The R Foundation for Statistical Computing
Platform: aarch64-apple-darwin20

R is free software and comes with ABSOLUTELY NO WARRANTY.
You are welcome to redistribute it under certain conditions.
Type 'license()' or 'licence()' for distribution details.

R is a collaborative project with many contributors.
Type 'contributors()' for more information and
'citation()' on how to cite R or R packages in publications.

Type 'demo()' for some demos, 'help()' for on-line help, or
'help.start()' for an HTML browser interface to help.
Type 'q()' to quit R.

> library(testthat)
> library(benchdamic)
Found more than one class "dist" in cache; using the first, from namespace 'BiocGenerics'
Also defined by 'spam'
> 
> test_check("benchdamic")
|------------(25%)----------(50%)----------(75%)----------|
|------------(25%)----------(50%)----------(75%)----------|
|------------(25%)----------(50%)----------(75%)----------|
|------------(25%)----------(50%)----------(75%)----------|
|------------(25%)----------(50%)----------(75%)----------|
[ FAIL 0 | WARN 0 | SKIP 1 | PASS 322 ]

══ Skipped tests (1) ═══════════════════════════════════════════════════════════
• empty test (1): 'test_DA_paired.R:3:1'

[ FAIL 0 | WARN 0 | SKIP 1 | PASS 322 ]
> 
> proc.time()
   user  system elapsed 
 23.748   1.271  27.996 

Example timings

benchdamic.Rcheck/benchdamic-Ex.timings

nameusersystemelapsed
CAT0.0020.0010.007
DA_ALDEx22.1670.2743.701
DA_ANCOM0.2790.0170.469
DA_DESeq21.7960.0193.010
DA_MAST0.4650.0190.935
DA_Maaslin20.1260.0240.141
DA_NOISeq0.6640.0140.811
DA_Seurat1.0190.0121.705
DA_ZicoSeq0.2570.0090.443
DA_basic0.0120.0010.018
DA_corncob0.3670.0310.676
DA_dearseq0.0230.0010.033
DA_edgeR0.0720.0020.122
DA_limma0.0290.0010.049
DA_linda0.0210.0010.026
DA_metagenomeSeq0.1160.0020.211
DA_mixMC0.2500.0060.432
RMSE0.0000.0000.001
addKnowledge0.0600.0040.107
areaCAT1.4610.0412.119
checkNormalization000
createColors0.0020.0000.052
createConcordance1.8290.0433.084
createEnrichment0.0850.0040.137
createMocks0.0010.0000.004
createPositives0.3170.0060.541
createSplits0.0120.0020.022
createTIEC1.0100.0211.596
enrichmentTest0.0370.0020.053
extractDA0.0520.0010.062
extractStatistics0.0500.0020.052
fitDM0.0100.0010.010
fitHURDLE0.2260.0040.245
fitModels0.7250.0101.203
fitNB0.0140.0000.035
fitZIG0.0150.0000.020
fitZINB0.1510.0020.273
getDA0.0260.0030.055
getPositives0.0310.0010.056
getStatistics0.0220.0020.028
get_counts_metadata0.0440.0010.069
iterative_ordering0.0030.0000.004
meanDifferences0.0000.0000.001
norm_CSS0.0480.0020.104
norm_DESeq20.1390.0010.219
norm_TSS0.0140.0010.032
norm_edgeR0.0130.0000.030
plotConcordance1.8940.0303.214
plotContingency0.3600.0050.501
plotEnrichment0.3160.0060.324
plotFDR0.6160.0130.629
plotFPR0.6410.0130.658
plotKS0.7130.0180.737
plotLogP0.6390.0270.667
plotMD0.9700.0211.005
plotMutualFindings0.3170.0060.325
plotPositives0.2100.0040.218
plotQQ0.6130.0150.629
plotRMSE0.7820.0070.789
prepareObserved000
runDA0.1380.0010.139
runMocks0.2190.0060.254
runNormalizations0.1250.0010.130
runSplits1.0470.0301.088
setNormalizations0.0010.0000.000
set_ALDEx20.0020.0000.002
set_ANCOM0.0020.0000.003
set_DESeq20.0030.0000.003
set_MAST0.0010.0000.001
set_Maaslin20.0010.0000.001
set_NOISeq0.0010.0000.001
set_Seurat0.0010.0000.002
set_ZicoSeq0.0030.0000.003
set_basic0.0000.0000.001
set_corncob0.0020.0000.001
set_dearseq0.0000.0010.001
set_edgeR0.0030.0000.004
set_limma0.0020.0000.003
set_linda0.0020.0000.003
set_metagenomeSeq0.0020.0000.002
set_mixMC0.0010.0000.001
weights_ZINB0.1230.0010.126