Back to Multiple platform build/check report for BioC 3.21:   simplified   long
AB[C]DEFGHIJKLMNOPQRSTUVWXYZ

This page was generated on 2025-02-06 11:39 -0500 (Thu, 06 Feb 2025).

HostnameOSArch (*)R versionInstalled pkgs
nebbiolo1Linux (Ubuntu 24.04.1 LTS)x86_64R Under development (unstable) (2025-01-20 r87609) -- "Unsuffered Consequences" 4719
palomino7Windows Server 2022 Datacenterx64R Under development (unstable) (2025-01-21 r87610 ucrt) -- "Unsuffered Consequences" 4480
lconwaymacOS 12.7.1 Montereyx86_64R Under development (unstable) (2025-01-22 r87618) -- "Unsuffered Consequences" 4491
kjohnson3macOS 13.7.1 Venturaarm64R Under development (unstable) (2025-01-20 r87609) -- "Unsuffered Consequences" 4444
Click on any hostname to see more info about the system (e.g. compilers)      (*) as reported by 'uname -p', except on Windows and Mac OS X

Package 299/2295HostnameOS / ArchINSTALLBUILDCHECKBUILD BIN
cellmigRation 1.15.0  (landing page)
Waldir Leoncio
Snapshot Date: 2025-02-05 13:48 -0500 (Wed, 05 Feb 2025)
git_url: https://git.bioconductor.org/packages/cellmigRation
git_branch: devel
git_last_commit: 16757c8
git_last_commit_date: 2024-10-29 10:58:18 -0500 (Tue, 29 Oct 2024)
nebbiolo1Linux (Ubuntu 24.04.1 LTS) / x86_64  OK    OK    OK  UNNEEDED, same version is already published
palomino7Windows Server 2022 Datacenter / x64  OK    OK    OK    OK  UNNEEDED, same version is already published
lconwaymacOS 12.7.1 Monterey / x86_64  OK    OK    OK    OK  UNNEEDED, same version is already published
kjohnson3macOS 13.7.1 Ventura / arm64  OK    OK    OK    OK  UNNEEDED, same version is already published


CHECK results for cellmigRation on nebbiolo1

To the developers/maintainers of the cellmigRation package:
- Allow up to 24 hours (and sometimes 48 hours) for your latest push to git@git.bioconductor.org:packages/cellmigRation.git to reflect on this report. See Troubleshooting Build Report for more information.
- Use the following Renviron settings to reproduce errors and warnings.
- If 'R CMD check' started to fail recently on the Linux builder(s) over a missing dependency, add the missing dependency to 'Suggests:' in your DESCRIPTION file. See Renviron.bioc for more information.

raw results


Summary

Package: cellmigRation
Version: 1.15.0
Command: /home/biocbuild/bbs-3.21-bioc/R/bin/R CMD check --install=check:cellmigRation.install-out.txt --library=/home/biocbuild/bbs-3.21-bioc/R/site-library --timings cellmigRation_1.15.0.tar.gz
StartedAt: 2025-02-05 20:46:47 -0500 (Wed, 05 Feb 2025)
EndedAt: 2025-02-05 20:50:39 -0500 (Wed, 05 Feb 2025)
EllapsedTime: 232.2 seconds
RetCode: 0
Status:   OK  
CheckDir: cellmigRation.Rcheck
Warnings: 0

Command output

##############################################################################
##############################################################################
###
### Running command:
###
###   /home/biocbuild/bbs-3.21-bioc/R/bin/R CMD check --install=check:cellmigRation.install-out.txt --library=/home/biocbuild/bbs-3.21-bioc/R/site-library --timings cellmigRation_1.15.0.tar.gz
###
##############################################################################
##############################################################################


* using log directory ‘/home/biocbuild/bbs-3.21-bioc/meat/cellmigRation.Rcheck’
* using R Under development (unstable) (2025-01-20 r87609)
* using platform: x86_64-pc-linux-gnu
* R was compiled by
    gcc (Ubuntu 13.3.0-6ubuntu2~24.04) 13.3.0
    GNU Fortran (Ubuntu 13.3.0-6ubuntu2~24.04) 13.3.0
* running under: Ubuntu 24.04.1 LTS
* using session charset: UTF-8
* checking for file ‘cellmigRation/DESCRIPTION’ ... OK
* checking extension type ... Package
* this is package ‘cellmigRation’ version ‘1.15.0’
* package encoding: UTF-8
* checking package namespace information ... OK
* checking package dependencies ... OK
* checking if this is a source package ... OK
* checking if there is a namespace ... OK
* checking for hidden files and directories ... OK
* checking for portable file names ... OK
* checking for sufficient/correct file permissions ... OK
* checking whether package ‘cellmigRation’ can be installed ... OK
* checking installed package size ... OK
* checking package directory ... OK
* checking ‘build’ directory ... OK
* checking DESCRIPTION meta-information ... OK
* checking top-level files ... OK
* checking for left-over files ... OK
* checking index information ... OK
* checking package subdirectories ... OK
* checking code files for non-ASCII characters ... OK
* checking R files for syntax errors ... OK
* checking whether the package can be loaded ... OK
* checking whether the package can be loaded with stated dependencies ... OK
* checking whether the package can be unloaded cleanly ... OK
* checking whether the namespace can be loaded with stated dependencies ... OK
* checking whether the namespace can be unloaded cleanly ... OK
* checking loading without being on the library search path ... OK
* checking dependencies in R code ... OK
* checking S3 generic/method consistency ... OK
* checking replacement functions ... OK
* checking foreign function calls ... OK
* checking R code for possible problems ... OK
* checking Rd files ... OK
* checking Rd metadata ... OK
* checking Rd cross-references ... OK
* checking for missing documentation entries ... OK
* checking for code/documentation mismatches ... OK
* checking Rd \usage sections ... NOTE
Documented arguments not in \usage in Rd file 'fixDA.Rd':
  ‘object’

Documented arguments not in \usage in Rd file 'fixFM1.Rd':
  ‘object’

Documented arguments not in \usage in Rd file 'fixFM2.Rd':
  ‘object’

Documented arguments not in \usage in Rd file 'fixFM3.Rd':
  ‘object’

Documented arguments not in \usage in Rd file 'fixFM4.Rd':
  ‘object’

Documented arguments not in \usage in Rd file 'fixFM5.Rd':
  ‘object’

Documented arguments not in \usage in Rd file 'fixFM6.Rd':
  ‘object’

Documented arguments not in \usage in Rd file 'fixID2.Rd':
  ‘TimeInterval’

Documented arguments not in \usage in Rd file 'fixID3.Rd':
  ‘TimeInterval’

Documented arguments not in \usage in Rd file 'fixID4.Rd':
  ‘TimeInterval’

Documented arguments not in \usage in Rd file 'fixMSD.Rd':
  ‘object’

Documented arguments not in \usage in Rd file 'fixPER1.Rd':
  ‘x’

Documented arguments not in \usage in Rd file 'fixPER2.Rd':
  ‘x’

Documented arguments not in \usage in Rd file 'innerBondRaster.Rd':
  ‘i’

Functions with \usage entries need to have the appropriate \alias
entries, and all their arguments documented.
The \usage entries must correspond to syntactically valid R code.
See chapter ‘Writing R documentation files’ in the ‘Writing R
Extensions’ manual.
* checking Rd contents ... OK
* checking for unstated dependencies in examples ... OK
* checking contents of ‘data’ directory ... OK
* checking data for non-ASCII characters ... OK
* checking data for ASCII and uncompressed saves ... OK
* checking files in ‘vignettes’ ... OK
* checking examples ... OK
* checking for unstated dependencies in ‘tests’ ... OK
* checking tests ...
  Running ‘runTests.R’
 OK
* checking for unstated dependencies in vignettes ... OK
* checking package vignettes ... OK
* checking re-building of vignette outputs ... OK
* checking PDF version of manual ... OK
* DONE

Status: 1 NOTE
See
  ‘/home/biocbuild/bbs-3.21-bioc/meat/cellmigRation.Rcheck/00check.log’
for details.


Installation output

cellmigRation.Rcheck/00install.out

##############################################################################
##############################################################################
###
### Running command:
###
###   /home/biocbuild/bbs-3.21-bioc/R/bin/R CMD INSTALL cellmigRation
###
##############################################################################
##############################################################################


* installing to library ‘/home/biocbuild/bbs-3.21-bioc/R/site-library’
* installing *source* package ‘cellmigRation’ ...
** this is package ‘cellmigRation’ version ‘1.15.0’
** using staged installation
** R
** data
** inst
** byte-compile and prepare package for lazy loading
** help
*** installing help indices
** building package indices
** installing vignettes
** testing if installed package can be loaded from temporary location
** testing if installed package can be loaded from final location
** testing if installed package keeps a record of temporary installation path
* DONE (cellmigRation)

Tests output

cellmigRation.Rcheck/tests/runTests.Rout


R Under development (unstable) (2025-01-20 r87609) -- "Unsuffered Consequences"
Copyright (C) 2025 The R Foundation for Statistical Computing
Platform: x86_64-pc-linux-gnu

R is free software and comes with ABSOLUTELY NO WARRANTY.
You are welcome to redistribute it under certain conditions.
Type 'license()' or 'licence()' for distribution details.

R is a collaborative project with many contributors.
Type 'contributors()' for more information and
'citation()' on how to cite R or R packages in publications.

Type 'demo()' for some demos, 'help()' for on-line help, or
'help.start()' for an HTML browser interface to help.
Type 'q()' to quit R.

> BiocGenerics:::testPackage("cellmigRation")


RUNIT TEST PROTOCOL -- Wed Feb  5 20:48:32 2025 
*********************************************** 
Number of test functions: 7 
Number of errors: 0 
Number of failures: 0 

 
1 Test Suite : 
cellmigRation RUnit Tests - 7 test functions, 0 errors, 0 failures
Number of test functions: 7 
Number of errors: 0 
Number of failures: 0 
> 
> proc.time()
   user  system elapsed 
  2.800   0.206   2.996 

Example timings

cellmigRation.Rcheck/cellmigRation-Ex.timings

nameusersystemelapsed
AddDimension0.0010.0010.002
CellMig-class0.0250.0020.027
CellMigPCA1.1840.0661.251
CellMigPCAclust0.0070.0010.008
CellMigPCAclustALL0.6580.0030.661
CellTracker0.0160.0030.019
CellTrackerMainLoop0.0030.0050.006
CentroidArray0.0120.0080.020
CentroidValidation0.4510.0040.456
ComputeTracksStats0.0250.0010.026
DetectRadii0.0020.0000.002
DiAutoCor1.3240.0441.369
DiRatio0.0170.0010.018
DiRatioPlot0.0350.0020.037
EstimateDiameterRange0.0160.0000.016
FMI0.4880.0010.490
FianlizeOptiParams0.0010.0000.001
FilterTrackedCells0.0030.0000.003
FinRes0.6160.0000.616
ForwardMigration0.9010.0130.915
GenAllCombos0.0020.0010.003
LinearConv20.0170.0010.019
LoadTiff0.0010.0000.001
MSD1.6390.0291.668
MakeHypercube0.0010.0000.001
MigrationStats0.0000.0010.001
NextOdd000
NonParallel4OptimizeParams0.0010.0000.000
NonParallelTrackLoop000
OptimizeParams0.0150.0020.018
OptimizeParamsMainLoop0.0040.0040.006
Parallel4OptimizeParams0.0000.0000.001
ParallelTrackLoop0.0010.0000.001
PerAndSpeed0.2680.0110.279
PlotTracksSeparately0.0080.0010.010
PostProcessTracking0.0000.0000.001
Prep4OptimizeParams0.0820.0060.089
ThreeConditions0.0120.0030.016
TrackCellsDataset0.0150.0030.017
TrajectoryDataset0.0210.0000.022
ValidateTrackingArgs000
VeAutoCor1.0410.0451.088
VisualizeCntr0.0020.0010.002
VisualizeImg0.0050.0010.005
VisualizeStackCentroids0.0560.0030.059
WSADataset0.0060.0010.007
aggregateFR0.5710.0040.575
aggregateTrackedCells0.0230.0020.024
bpass0.0580.0000.058
circshift0.0010.0000.000
cntrd0.6510.0060.658
fixDA0.0000.0000.001
fixExpName0.0000.0000.001
fixFM10.0000.0010.001
fixFM20.0000.0000.001
fixFM3000
fixFM40.0010.0000.000
fixFM50.0010.0000.000
fixFM6000
fixID10.0000.0010.001
fixMSD0.0000.0010.001
fixPER10.0000.0000.001
fixPER2000
fixPER30.0000.0000.001
getAvailableAggrMetrics0.8620.0060.869
getCellImages0.2181.0061.224
getCellMigSlot0.2710.6430.915
getCellTrackMeta0.0160.0020.017
getCellTrackStats0.0150.0070.022
getCellTracks0.0150.0050.019
getCellsMeta0.0160.0030.018
getCellsStats0.0160.0040.020
getDACtable1.7560.0381.795
getDiRatio0.0180.0020.020
getFMItable0.4230.0130.437
getForMigtable0.5310.0020.533
getImageCentroids0.0190.0060.025
getImageStacks0.0510.0070.058
getMSDtable3.4190.1023.522
getOptimizedParameters0.0130.0040.018
getOptimizedParams0.0160.0030.019
getPerAndSpeed0.2620.0070.269
getPopulationStats0.0140.0050.019
getProcessedImages0.1901.0441.234
getProcessingStatus0.0150.0020.018
getResults0.6180.0150.633
getTracks0.0170.0020.019
getVACtable1.0430.0431.085
initializeTrackParams0.0010.0000.001
innerBondRaster0.0020.0000.002
internalPermutation0.0010.0000.001
matfix0.0000.0010.001
nontrivialBondTracking0.0010.0000.001
pkfnd0.7060.0060.715
plot3DAllTracks0.0920.0380.131
plot3DTracks0.0080.0000.009
plotAllTracks0.0170.0020.019
plotSampleTracks0.0140.0020.015
preProcCellMig0.0080.0000.007
rmPreProcessing0.1040.0010.104
runTrackingPermutation0.0020.0000.002
setAnalyticParams0.0160.0010.017
setCellMigSlot0.0220.0010.023
setCellTracks0.0150.0020.018
setCellsMeta0.0160.0020.017
setExpName0.0200.0030.023
setOptimizedParams0.0150.0020.018
setProcessedImages0.0120.0050.018
setProcessingStatus0.0160.0010.017
setTrackedCellsMeta0.0150.0020.017
setTrackedCentroids0.0130.0040.017
setTrackedPositions0.0150.0030.018
setTrackingStats0.0150.0030.019
sinkAway0.0000.0000.001
subNetworkTracking0.0000.0010.001
track0.0080.0010.009
trackHypercubeBuild0.0010.0000.000
trackSlideProcessing0.0010.0000.001
trackSlideWrapUp0.0000.0000.001
trivialBondRaster0.0020.0000.001
trivialBondTracking0.0000.0010.000
visualizeCellTracks0.0710.0090.080
visualizeTrcks0.0250.0020.027
warnMessage0.0010.0000.000
wsaPreProcessing0.0540.0030.057