Back to Multiple platform build/check report for BioC 3.21:   simplified   long
AB[C]DEFGHIJKLMNOPQRSTUVWXYZ

This page was generated on 2025-02-04 11:39 -0500 (Tue, 04 Feb 2025).

HostnameOSArch (*)R versionInstalled pkgs
nebbiolo1Linux (Ubuntu 24.04.1 LTS)x86_64R Under development (unstable) (2025-01-20 r87609) -- "Unsuffered Consequences" 4716
palomino7Windows Server 2022 Datacenterx64R Under development (unstable) (2025-01-21 r87610 ucrt) -- "Unsuffered Consequences" 4478
lconwaymacOS 12.7.1 Montereyx86_64R Under development (unstable) (2025-01-22 r87618) -- "Unsuffered Consequences" 4489
kjohnson3macOS 13.7.1 Venturaarm64R Under development (unstable) (2025-01-20 r87609) -- "Unsuffered Consequences" 4442
Click on any hostname to see more info about the system (e.g. compilers)      (*) as reported by 'uname -p', except on Windows and Mac OS X

Package 349/2295HostnameOS / ArchINSTALLBUILDCHECKBUILD BIN
chromVAR 1.29.0  (landing page)
Alicia Schep
Snapshot Date: 2025-02-03 13:40 -0500 (Mon, 03 Feb 2025)
git_url: https://git.bioconductor.org/packages/chromVAR
git_branch: devel
git_last_commit: 261e3b9
git_last_commit_date: 2024-10-29 10:22:54 -0500 (Tue, 29 Oct 2024)
nebbiolo1Linux (Ubuntu 24.04.1 LTS) / x86_64  OK    OK    OK  UNNEEDED, same version is already published
palomino7Windows Server 2022 Datacenter / x64  OK    OK    OK    OK  UNNEEDED, same version is already published
lconwaymacOS 12.7.1 Monterey / x86_64  OK    OK    OK    OK  NO, package depends on 'TFBSTools' which is only available as a source package that needs compilation
kjohnson3macOS 13.7.1 Ventura / arm64  OK    OK    OK    OK  NO, package depends on 'TFBSTools' which is only available as a source package that needs compilation


CHECK results for chromVAR on nebbiolo1

To the developers/maintainers of the chromVAR package:
- Allow up to 24 hours (and sometimes 48 hours) for your latest push to git@git.bioconductor.org:packages/chromVAR.git to reflect on this report. See Troubleshooting Build Report for more information.
- Use the following Renviron settings to reproduce errors and warnings.
- If 'R CMD check' started to fail recently on the Linux builder(s) over a missing dependency, add the missing dependency to 'Suggests:' in your DESCRIPTION file. See Renviron.bioc for more information.

raw results


Summary

Package: chromVAR
Version: 1.29.0
Command: /home/biocbuild/bbs-3.21-bioc/R/bin/R CMD check --install=check:chromVAR.install-out.txt --library=/home/biocbuild/bbs-3.21-bioc/R/site-library --timings chromVAR_1.29.0.tar.gz
StartedAt: 2025-02-03 21:04:04 -0500 (Mon, 03 Feb 2025)
EndedAt: 2025-02-03 21:12:06 -0500 (Mon, 03 Feb 2025)
EllapsedTime: 481.6 seconds
RetCode: 0
Status:   OK  
CheckDir: chromVAR.Rcheck
Warnings: 0

Command output

##############################################################################
##############################################################################
###
### Running command:
###
###   /home/biocbuild/bbs-3.21-bioc/R/bin/R CMD check --install=check:chromVAR.install-out.txt --library=/home/biocbuild/bbs-3.21-bioc/R/site-library --timings chromVAR_1.29.0.tar.gz
###
##############################################################################
##############################################################################


* using log directory ‘/home/biocbuild/bbs-3.21-bioc/meat/chromVAR.Rcheck’
* using R Under development (unstable) (2025-01-20 r87609)
* using platform: x86_64-pc-linux-gnu
* R was compiled by
    gcc (Ubuntu 13.3.0-6ubuntu2~24.04) 13.3.0
    GNU Fortran (Ubuntu 13.3.0-6ubuntu2~24.04) 13.3.0
* running under: Ubuntu 24.04.1 LTS
* using session charset: UTF-8
* checking for file ‘chromVAR/DESCRIPTION’ ... OK
* checking extension type ... Package
* this is package ‘chromVAR’ version ‘1.29.0’
* checking package namespace information ... OK
* checking package dependencies ... INFO
Imports includes 21 non-default packages.
Importing from so many packages makes the package vulnerable to any of
them becoming unavailable.  Move as many as possible to Suggests and
use conditionally.
* checking if this is a source package ... OK
* checking if there is a namespace ... OK
* checking for hidden files and directories ... OK
* checking for portable file names ... OK
* checking for sufficient/correct file permissions ... OK
* checking whether package ‘chromVAR’ can be installed ... OK
* used C++ compiler: ‘g++ (Ubuntu 13.3.0-6ubuntu2~24.04) 13.3.0’
* checking C++ specification ... NOTE
  Specified C++11: please drop specification unless essential
* checking installed package size ... OK
* checking package directory ... OK
* checking ‘build’ directory ... OK
* checking DESCRIPTION meta-information ... NOTE
License stub records with missing/empty fields:
  Record: 1 Field(s): COPYRIGHT HOLDER
* checking top-level files ... OK
* checking for left-over files ... OK
* checking index information ... OK
* checking package subdirectories ... OK
* checking code files for non-ASCII characters ... OK
* checking R files for syntax errors ... OK
* checking whether the package can be loaded ... OK
* checking whether the package can be loaded with stated dependencies ... OK
* checking whether the package can be unloaded cleanly ... OK
* checking whether the namespace can be loaded with stated dependencies ... OK
* checking whether the namespace can be unloaded cleanly ... OK
* checking loading without being on the library search path ... OK
* checking dependencies in R code ... OK
* checking S3 generic/method consistency ... OK
* checking replacement functions ... OK
* checking foreign function calls ... OK
* checking R code for possible problems ... NOTE
left_right_to_grglist: no visible global function definition for
  ‘GenomicRangesList’
Undefined global functions or variables:
  GenomicRangesList
* checking Rd files ... OK
* checking Rd metadata ... OK
* checking Rd cross-references ... OK
* checking for missing documentation entries ... OK
* checking for code/documentation mismatches ... OK
* checking Rd \usage sections ... OK
* checking Rd contents ... OK
* checking for unstated dependencies in examples ... OK
* checking contents of ‘data’ directory ... OK
* checking data for non-ASCII characters ... OK
* checking LazyData ... OK
* checking data for ASCII and uncompressed saves ... OK
* checking line endings in C/C++/Fortran sources/headers ... OK
* checking line endings in Makefiles ... OK
* checking compilation flags in Makevars ... OK
* checking for GNU extensions in Makefiles ... OK
* checking for portable use of $(BLAS_LIBS) and $(LAPACK_LIBS) ... OK
* checking use of PKG_*FLAGS in Makefiles ... OK
* checking compiled code ... NOTE
Note: information on .o files is not available
* checking files in ‘vignettes’ ... OK
* checking examples ... OK
Examples with CPU (user + system) or elapsed time > 5s
                          user system elapsed
deviationsCovariability 16.053  0.486  16.576
computeDeviations        6.038  0.110   6.148
* checking for unstated dependencies in ‘tests’ ... OK
* checking tests ...
  Running ‘testthat.R’
 OK
* checking for unstated dependencies in vignettes ... OK
* checking package vignettes ... OK
* checking re-building of vignette outputs ... OK
* checking PDF version of manual ... OK
* DONE

Status: 4 NOTEs
See
  ‘/home/biocbuild/bbs-3.21-bioc/meat/chromVAR.Rcheck/00check.log’
for details.


Installation output

chromVAR.Rcheck/00install.out

##############################################################################
##############################################################################
###
### Running command:
###
###   /home/biocbuild/bbs-3.21-bioc/R/bin/R CMD INSTALL chromVAR
###
##############################################################################
##############################################################################


* installing to library ‘/home/biocbuild/bbs-3.21-bioc/R/site-library’
* installing *source* package ‘chromVAR’ ...
** this is package ‘chromVAR’ version ‘1.29.0’
** using staged installation
** libs
using C++ compiler: ‘g++ (Ubuntu 13.3.0-6ubuntu2~24.04) 13.3.0’
using C++11
g++ -std=gnu++11 -I"/home/biocbuild/bbs-3.21-bioc/R/include" -DNDEBUG  -I'/home/biocbuild/bbs-3.21-bioc/R/site-library/Rcpp/include' -I'/home/biocbuild/bbs-3.21-bioc/R/site-library/RcppArmadillo/include' -I/usr/local/include    -fpic  -g -O2  -DR_NO_REMAP -c RcppExports.cpp -o RcppExports.o
g++ -std=gnu++11 -I"/home/biocbuild/bbs-3.21-bioc/R/include" -DNDEBUG  -I'/home/biocbuild/bbs-3.21-bioc/R/site-library/Rcpp/include' -I'/home/biocbuild/bbs-3.21-bioc/R/site-library/RcppArmadillo/include' -I/usr/local/include    -fpic  -g -O2  -DR_NO_REMAP -c pwm_similarity.cpp -o pwm_similarity.o
g++ -std=gnu++11 -I"/home/biocbuild/bbs-3.21-bioc/R/include" -DNDEBUG  -I'/home/biocbuild/bbs-3.21-bioc/R/site-library/Rcpp/include' -I'/home/biocbuild/bbs-3.21-bioc/R/site-library/RcppArmadillo/include' -I/usr/local/include    -fpic  -g -O2  -DR_NO_REMAP -c utils.cpp -o utils.o
g++ -std=gnu++11 -shared -L/home/biocbuild/bbs-3.21-bioc/R/lib -L/usr/local/lib -o chromVAR.so RcppExports.o pwm_similarity.o utils.o -llapack -L/home/biocbuild/bbs-3.21-bioc/R/lib -lRblas -lgfortran -lm -lquadmath -L/home/biocbuild/bbs-3.21-bioc/R/lib -lR
installing to /home/biocbuild/bbs-3.21-bioc/R/site-library/00LOCK-chromVAR/00new/chromVAR/libs
** R
** data
*** moving datasets to lazyload DB
** inst
** byte-compile and prepare package for lazy loading
** help
*** installing help indices
** building package indices
** installing vignettes
** testing if installed package can be loaded from temporary location
** checking absolute paths in shared objects and dynamic libraries
** testing if installed package can be loaded from final location
** testing if installed package keeps a record of temporary installation path
* DONE (chromVAR)

Tests output

chromVAR.Rcheck/tests/testthat.Rout


R Under development (unstable) (2025-01-20 r87609) -- "Unsuffered Consequences"
Copyright (C) 2025 The R Foundation for Statistical Computing
Platform: x86_64-pc-linux-gnu

R is free software and comes with ABSOLUTELY NO WARRANTY.
You are welcome to redistribute it under certain conditions.
Type 'license()' or 'licence()' for distribution details.

R is a collaborative project with many contributors.
Type 'contributors()' for more information and
'citation()' on how to cite R or R packages in publications.

Type 'demo()' for some demos, 'help()' for on-line help, or
'help.start()' for an HTML browser interface to help.
Type 'q()' to quit R.

> library(testthat)
> library(chromVAR)

> BiocParallel::register(BiocParallel::SerialParam())
> test_check("chromVAR")
[ FAIL 0 | WARN 0 | SKIP 0 | PASS 65 ]
> 
> proc.time()
   user  system elapsed 
 22.032   1.194  23.218 

Example timings

chromVAR.Rcheck/chromVAR-Ex.timings

nameusersystemelapsed
addGCBias0.6520.0240.677
annotationMatches0.0110.0000.012
chromVAR_theme0.0930.0140.107
computeDeviations6.0380.1106.148
computeExpectations0.0180.0010.019
computeVariability2.9210.1693.091
counts0.0040.0020.006
deviationScores0.0040.0000.005
deviations0.0040.0010.004
deviationsCovariability16.053 0.48616.576
deviationsTsne0.0610.0010.063
differentialDeviations0.0110.0000.010
differentialVariability0.0200.0020.023
example_counts0.0010.0000.001
filterPeaks0.1890.0020.193
filterSamples0.0420.0000.042
filterSamplesPlot0.1070.0000.107
getAnnotations0.3200.0100.334
getBackgroundPeaks0.5400.1020.643
getCisGroups0.0900.0030.095
getCounts3.3250.0773.404
getFragmentsPerPeak0.0060.0000.007
getFragmentsPerSample0.0060.0000.006
getJasparMotifs4.8420.1144.957
getPeaks0.0880.0120.099
getPermutedData0.9570.1921.149
getSampleCorrelation0.0090.0030.012
getSampleDepths0.1030.0350.139
getSampleDistance0.0120.0000.012
getTotalFragments0.0050.0010.006
makeBiasBins0.0370.0010.038
makePermutedSets0.7660.1120.878
matchKmers0.9460.1041.051
mini_counts0.0000.0010.001
mini_dev0.0010.0000.000
mini_ix0.0000.0010.001
plotVariability2.9790.0022.980
pwmDistance4.8180.1604.978
rbind-chromVARDeviations-method0.0550.0000.055