Back to Multiple platform build/check report for BioC 3.21:   simplified   long
AB[C]DEFGHIJKLMNOPQRSTUVWXYZ

This page was generated on 2025-02-06 11:42 -0500 (Thu, 06 Feb 2025).

HostnameOSArch (*)R versionInstalled pkgs
nebbiolo1Linux (Ubuntu 24.04.1 LTS)x86_64R Under development (unstable) (2025-01-20 r87609) -- "Unsuffered Consequences" 4719
palomino7Windows Server 2022 Datacenterx64R Under development (unstable) (2025-01-21 r87610 ucrt) -- "Unsuffered Consequences" 4480
lconwaymacOS 12.7.1 Montereyx86_64R Under development (unstable) (2025-01-22 r87618) -- "Unsuffered Consequences" 4491
kjohnson3macOS 13.7.1 Venturaarm64R Under development (unstable) (2025-01-20 r87609) -- "Unsuffered Consequences" 4444
Click on any hostname to see more info about the system (e.g. compilers)      (*) as reported by 'uname -p', except on Windows and Mac OS X

Package 409/2295HostnameOS / ArchINSTALLBUILDCHECKBUILD BIN
cola 2.13.0  (landing page)
Zuguang Gu
Snapshot Date: 2025-02-05 13:48 -0500 (Wed, 05 Feb 2025)
git_url: https://git.bioconductor.org/packages/cola
git_branch: devel
git_last_commit: c1c8dc8
git_last_commit_date: 2024-10-29 10:34:13 -0500 (Tue, 29 Oct 2024)
nebbiolo1Linux (Ubuntu 24.04.1 LTS) / x86_64  OK    OK    OK  UNNEEDED, same version is already published
palomino7Windows Server 2022 Datacenter / x64  OK    OK    OK    OK  UNNEEDED, same version is already published
lconwaymacOS 12.7.1 Monterey / x86_64  OK    OK    OK    OK  UNNEEDED, same version is already published
kjohnson3macOS 13.7.1 Ventura / arm64  OK    OK    OK    OK  UNNEEDED, same version is already published


CHECK results for cola on lconway

To the developers/maintainers of the cola package:
- Allow up to 24 hours (and sometimes 48 hours) for your latest push to git@git.bioconductor.org:packages/cola.git to reflect on this report. See Troubleshooting Build Report for more information.
- Use the following Renviron settings to reproduce errors and warnings.
- If 'R CMD check' started to fail recently on the Linux builder(s) over a missing dependency, add the missing dependency to 'Suggests:' in your DESCRIPTION file. See Renviron.bioc for more information.

raw results


Summary

Package: cola
Version: 2.13.0
Command: /Library/Frameworks/R.framework/Resources/bin/R CMD check --install=check:cola.install-out.txt --library=/Library/Frameworks/R.framework/Resources/library --no-vignettes --timings cola_2.13.0.tar.gz
StartedAt: 2025-02-05 19:40:57 -0500 (Wed, 05 Feb 2025)
EndedAt: 2025-02-05 19:44:20 -0500 (Wed, 05 Feb 2025)
EllapsedTime: 203.2 seconds
RetCode: 0
Status:   OK  
CheckDir: cola.Rcheck
Warnings: 0

Command output

##############################################################################
##############################################################################
###
### Running command:
###
###   /Library/Frameworks/R.framework/Resources/bin/R CMD check --install=check:cola.install-out.txt --library=/Library/Frameworks/R.framework/Resources/library --no-vignettes --timings cola_2.13.0.tar.gz
###
##############################################################################
##############################################################################


* using log directory ‘/Users/biocbuild/bbs-3.21-bioc/meat/cola.Rcheck’
* using R Under development (unstable) (2025-01-22 r87618)
* using platform: x86_64-apple-darwin20
* R was compiled by
    Apple clang version 14.0.0 (clang-1400.0.29.202)
    GNU Fortran (GCC) 14.2.0
* running under: macOS Monterey 12.7.6
* using session charset: UTF-8
* using option ‘--no-vignettes’
* checking for file ‘cola/DESCRIPTION’ ... OK
* checking extension type ... Package
* this is package ‘cola’ version ‘2.13.0’
* checking package namespace information ... OK
* checking package dependencies ... INFO
Imports includes 27 non-default packages.
Importing from so many packages makes the package vulnerable to any of
them becoming unavailable.  Move as many as possible to Suggests and
use conditionally.
* checking if this is a source package ... OK
* checking if there is a namespace ... OK
* checking for hidden files and directories ... OK
* checking for portable file names ... OK
* checking for sufficient/correct file permissions ... OK
* checking whether package ‘cola’ can be installed ... OK
* used C++ compiler: ‘Apple clang version 14.0.0 (clang-1400.0.29.202)’
* used SDK: ‘MacOSX11.3.sdk’
* checking installed package size ... INFO
  installed size is  5.8Mb
  sub-directories of 1Mb or more:
    data      3.2Mb
    extdata   1.0Mb
* checking package directory ... OK
* checking ‘build’ directory ... OK
* checking DESCRIPTION meta-information ... OK
* checking top-level files ... OK
* checking for left-over files ... OK
* checking index information ... OK
* checking package subdirectories ... OK
* checking code files for non-ASCII characters ... OK
* checking R files for syntax errors ... OK
* checking whether the package can be loaded ... OK
* checking whether the package can be loaded with stated dependencies ... OK
* checking whether the package can be unloaded cleanly ... OK
* checking whether the namespace can be loaded with stated dependencies ... OK
* checking whether the namespace can be unloaded cleanly ... OK
* checking whether startup messages can be suppressed ... OK
* checking dependencies in R code ... OK
* checking S3 generic/method consistency ... OK
* checking replacement functions ... OK
* checking foreign function calls ... OK
* checking R code for possible problems ... OK
* checking Rd files ... OK
* checking Rd metadata ... OK
* checking Rd cross-references ... NOTE
Found the following Rd file(s) with Rd \link{} targets missing package
anchors:
  predict_classes-ConsensusPartition-method.Rd: colorRamp2
  predict_classes-matrix-method.Rd: colorRamp2
Please provide package anchors for all Rd \link{} targets not in the
package itself and the base packages.
* checking for missing documentation entries ... OK
* checking for code/documentation mismatches ... OK
* checking Rd \usage sections ... OK
* checking Rd contents ... OK
* checking for unstated dependencies in examples ... OK
* checking contents of ‘data’ directory ... OK
* checking data for non-ASCII characters ... OK
* checking data for ASCII and uncompressed saves ... OK
* checking line endings in C/C++/Fortran sources/headers ... OK
* checking compiled code ... NOTE
Note: information on .o files is not available
* checking files in ‘vignettes’ ... OK
* checking examples ... OK
Examples with CPU (user + system) or elapsed time > 5s
                                           user system elapsed
consensus_partition                      19.334  0.245  19.667
get_signatures-ConsensusPartition-method  4.950  0.157   5.149
* checking for unstated dependencies in ‘tests’ ... OK
* checking tests ...
  Running ‘test-all.R’
 OK
* checking for unstated dependencies in vignettes ... OK
* checking package vignettes ... OK
* checking running R code from vignettes ... SKIPPED
* checking re-building of vignette outputs ... SKIPPED
* checking PDF version of manual ... OK
* DONE

Status: 2 NOTEs
See
  ‘/Users/biocbuild/bbs-3.21-bioc/meat/cola.Rcheck/00check.log’
for details.


Installation output

cola.Rcheck/00install.out

##############################################################################
##############################################################################
###
### Running command:
###
###   /Library/Frameworks/R.framework/Resources/bin/R CMD INSTALL cola
###
##############################################################################
##############################################################################


* installing to library ‘/Library/Frameworks/R.framework/Versions/4.5-x86_64/Resources/library’
* installing *source* package ‘cola’ ...
** this is package ‘cola’ version ‘2.13.0’
** using staged installation
** libs
using C++ compiler: ‘Apple clang version 14.0.0 (clang-1400.0.29.202)’
using SDK: ‘MacOSX11.3.sdk’
clang++ -arch x86_64 -std=gnu++17 -I"/Library/Frameworks/R.framework/Resources/include" -DNDEBUG  -I'/Library/Frameworks/R.framework/Versions/4.5-x86_64/Resources/library/Rcpp/include' -I/opt/R/x86_64/include    -fPIC  -falign-functions=64 -Wall -g -O2  -DR_NO_REMAP -c RcppExports.cpp -o RcppExports.o
clang++ -arch x86_64 -std=gnu++17 -I"/Library/Frameworks/R.framework/Resources/include" -DNDEBUG  -I'/Library/Frameworks/R.framework/Versions/4.5-x86_64/Resources/library/Rcpp/include' -I/opt/R/x86_64/include    -fPIC  -falign-functions=64 -Wall -g -O2  -DR_NO_REMAP -c atc.cpp -o atc.o
clang++ -arch x86_64 -std=gnu++17 -I"/Library/Frameworks/R.framework/Resources/include" -DNDEBUG  -I'/Library/Frameworks/R.framework/Versions/4.5-x86_64/Resources/library/Rcpp/include' -I/opt/R/x86_64/include    -fPIC  -falign-functions=64 -Wall -g -O2  -DR_NO_REMAP -c cal_consensus_mat.cpp -o cal_consensus_mat.o
clang++ -arch x86_64 -std=gnu++17 -I"/Library/Frameworks/R.framework/Resources/include" -DNDEBUG  -I'/Library/Frameworks/R.framework/Versions/4.5-x86_64/Resources/library/Rcpp/include' -I/opt/R/x86_64/include    -fPIC  -falign-functions=64 -Wall -g -O2  -DR_NO_REMAP -c pdist.cpp -o pdist.o
clang++ -arch x86_64 -std=gnu++17 -dynamiclib -Wl,-headerpad_max_install_names -undefined dynamic_lookup -L/Library/Frameworks/R.framework/Resources/lib -L/opt/R/x86_64/lib -o cola.so RcppExports.o atc.o cal_consensus_mat.o pdist.o -F/Library/Frameworks/R.framework/.. -framework R -Wl,-framework -Wl,CoreFoundation
installing to /Library/Frameworks/R.framework/Versions/4.5-x86_64/Resources/library/00LOCK-cola/00new/cola/libs
** R
** data
** inst
** byte-compile and prepare package for lazy loading
** help
*** installing help indices
** building package indices
** installing vignettes
** testing if installed package can be loaded from temporary location
** checking absolute paths in shared objects and dynamic libraries
** testing if installed package can be loaded from final location
** testing if installed package keeps a record of temporary installation path
* DONE (cola)

Tests output

cola.Rcheck/tests/test-all.Rout


R Under development (unstable) (2025-01-22 r87618) -- "Unsuffered Consequences"
Copyright (C) 2025 The R Foundation for Statistical Computing
Platform: x86_64-apple-darwin20

R is free software and comes with ABSOLUTELY NO WARRANTY.
You are welcome to redistribute it under certain conditions.
Type 'license()' or 'licence()' for distribution details.

R is a collaborative project with many contributors.
Type 'contributors()' for more information and
'citation()' on how to cite R or R packages in publications.

Type 'demo()' for some demos, 'help()' for on-line help, or
'help.start()' for an HTML browser interface to help.
Type 'q()' to quit R.

> library(testthat)
> suppressWarnings(suppressPackageStartupMessages(library(cola)))
> 
> test_check("cola")
[ FAIL 0 | WARN 0 | SKIP 0 | PASS 18 ]
> 
> 
> proc.time()
   user  system elapsed 
  4.622   0.366   5.005 

Example timings

cola.Rcheck/cola-Ex.timings

nameusersystemelapsed
ATC0.0550.0050.060
ATC_approx0.0000.0000.001
ConsensusPartition-class0.0000.0010.001
ConsensusPartitionList-class000
DownSamplingConsensusPartition-class0.0000.0010.000
Extract.ConsensusPartitionList0.4830.0190.505
Extract.HierarchicalPartition0.1260.0050.131
ExtractExtract.ConsensusPartitionList0.1540.0060.161
ExtractExtract.HierarchicalPartition000
FCC0.1280.0070.136
HierarchicalPartition-class000
PAC0.2340.0090.245
aPAC0.1330.0060.138
adjust_matrix0.0060.0020.008
adjust_outlier0.0010.0000.001
all_leaves-HierarchicalPartition-method0.1000.0030.104
all_nodes-HierarchicalPartition-method0.1160.0070.124
all_partition_methods0.0010.0000.001
all_top_value_methods0.0000.0010.001
cola0.0670.0020.068
cola_opt0.0270.0010.028
cola_report-ConsensusPartition-method0.0000.0010.001
cola_report-ConsensusPartitionList-method0.0010.0000.000
cola_report-HierarchicalPartition-method0.0000.0000.001
cola_report-dispatch0.0000.0010.000
cola_rl0.0740.0030.079
collect_classes-ConsensusPartition-method1.8980.0331.942
collect_classes-ConsensusPartitionList-method3.7930.0743.902
collect_classes-HierarchicalPartition-method1.3550.0401.404
collect_classes-dispatch0.0000.0000.001
collect_plots-ConsensusPartition-method0.0000.0000.001
collect_plots-ConsensusPartitionList-method000
collect_plots-dispatch000
collect_stats-ConsensusPartition-method000
collect_stats-ConsensusPartitionList-method0.4390.0080.451
collect_stats-dispatch000
colnames-ConsensusPartition-method0.0000.0010.000
colnames-ConsensusPartitionList-method000
colnames-DownSamplingConsensusPartition-method000
colnames-HierarchicalPartition-method0.0000.0000.001
colnames-dispatch0.0000.0010.000
compare_partitions-ConsensusPartition-method000
compare_signatures-ConsensusPartition-method000
compare_signatures-HierarchicalPartition-method4.6740.1864.907
compare_signatures-dispatch0.0000.0010.000
concordance0.1220.0040.127
config_ATC0.0000.0000.001
consensus_heatmap-ConsensusPartition-method0.5260.0120.541
consensus_partition19.334 0.24519.667
consensus_partition_by_down_sampling000
correspond_between_rankings0.0670.0030.071
correspond_between_two_rankings0.0370.0020.039
david_enrichment0.0000.0010.000
dim.ConsensusPartition000
dim.ConsensusPartitionList0.0000.0000.001
dim.DownSamplingConsensusPartition000
dim.HierarchicalPartition000
dimension_reduction-ConsensusPartition-method0.6960.0400.740
dimension_reduction-DownSamplingConsensusPartition-method1.7410.0601.808
dimension_reduction-HierarchicalPartition-method0.5970.0300.629
dimension_reduction-dispatch0.0000.0000.001
dimension_reduction-matrix-method000
find_best_km000
functional_enrichment-ANY-method000
functional_enrichment-ConsensusPartition-method000
functional_enrichment-ConsensusPartitionList-method000
functional_enrichment-HierarchicalPartition-method000
functional_enrichment-dispatch000
get_anno-ConsensusPartition-method000
get_anno-ConsensusPartitionList-method0.0000.0010.000
get_anno-DownSamplingConsensusPartition-method0.0630.0030.066
get_anno-HierarchicalPartition-method0.0000.0010.000
get_anno-dispatch000
get_anno_col-ConsensusPartition-method0.0000.0000.001
get_anno_col-ConsensusPartitionList-method000
get_anno_col-HierarchicalPartition-method0.0000.0000.001
get_anno_col-dispatch000
get_children_nodes-HierarchicalPartition-method000
get_classes-ConsensusPartition-method0.1240.0070.130
get_classes-ConsensusPartitionList-method0.1220.0040.126
get_classes-DownSamplingConsensusPartition-method0.0660.0050.071
get_classes-HierarchicalPartition-method0.1090.0040.115
get_classes-dispatch0.0010.0000.000
get_consensus-ConsensusPartition-method0.1480.0360.186
get_matrix-ConsensusPartition-method0.3310.4980.837
get_matrix-ConsensusPartitionList-method0.3380.5130.858
get_matrix-DownSamplingConsensusPartition-method000
get_matrix-HierarchicalPartition-method000
get_matrix-dispatch0.0000.0000.001
get_membership-ConsensusPartition-method0.1170.0170.135
get_membership-ConsensusPartitionList-method0.1350.0120.150
get_membership-dispatch000
get_param-ConsensusPartition-method0.1290.0080.137
get_signatures-ConsensusPartition-method4.9500.1575.149
get_signatures-DownSamplingConsensusPartition-method000
get_signatures-HierarchicalPartition-method000
get_signatures-dispatch0.0000.0000.001
get_stats-ConsensusPartition-method0.7690.0300.803
get_stats-ConsensusPartitionList-method0.1230.0050.127
get_stats-dispatch0.0000.0010.000
golub_cola0.1620.0050.169
golub_cola_ds0.0880.0040.091
golub_cola_rh0.1310.0040.136
hierarchical_partition0.0000.0000.001
is_best_k-ConsensusPartition-method0.1240.0040.128
is_best_k-ConsensusPartitionList-method0.1320.0040.136
is_best_k-dispatch0.0000.0010.001
is_leaf_node-HierarchicalPartition-method0.0990.0020.102
is_stable_k-ConsensusPartition-method0.1200.0030.125
is_stable_k-ConsensusPartitionList-method0.1410.0110.154
is_stable_k-dispatch000
knee_finder20.0220.0040.026
knitr_add_tab_item000
knitr_insert_tabs0.0000.0010.001
map_to_entrez_id000
max_depth-HierarchicalPartition-method0.1040.0020.107
membership_heatmap-ConsensusPartition-method0.4840.0080.496
merge_node-HierarchicalPartition-method0.0000.0010.000
merge_node_param0.0000.0000.001
ncol-ConsensusPartition-method000
ncol-ConsensusPartitionList-method0.0000.0000.001
ncol-DownSamplingConsensusPartition-method000
ncol-HierarchicalPartition-method000
ncol-dispatch0.0000.0010.000
node_info-HierarchicalPartition-method000
node_level-HierarchicalPartition-method000
nrow-ConsensusPartition-method0.0000.0000.001
nrow-ConsensusPartitionList-method000
nrow-HierarchicalPartition-method000
nrow-dispatch0.0000.0010.001
plot_ecdf-ConsensusPartition-method0.1410.0050.146
predict_classes-ConsensusPartition-method0.0000.0000.001
predict_classes-dispatch0.0000.0000.001
predict_classes-matrix-method000
print.hc_table_suggest_best_k0.0000.0010.000
recalc_stats0.0000.0000.001
register_NMF000
register_SOM0.0000.0000.001
register_partition_methods0.5850.0110.600
register_top_value_methods0.0010.0000.001
relabel_class0.0100.0020.012
remove_partition_methods0.0000.0010.000
remove_top_value_methods000
rownames-ConsensusPartition-method000
rownames-ConsensusPartitionList-method000
rownames-HierarchicalPartition-method000
rownames-dispatch0.0000.0010.001
run_all_consensus_partition_methods0.0010.0010.000
select_partition_number-ConsensusPartition-method0.1320.0040.137
show-ConsensusPartition-method0.0000.0010.000
show-ConsensusPartitionList-method000
show-DownSamplingConsensusPartition-method0.0850.0040.089
show-HierarchicalPartition-method0.1400.0050.147
show-dispatch0.0000.0010.000
split_node-HierarchicalPartition-method0.0000.0000.001
suggest_best_k-ConsensusPartition-method0.1210.0040.126
suggest_best_k-ConsensusPartitionList-method0.1330.0050.140
suggest_best_k-HierarchicalPartition-method0.1070.0030.112
suggest_best_k-dispatch000
test_between_factors0.0090.0000.010
test_to_known_factors-ConsensusPartition-method0.1460.0050.151
test_to_known_factors-ConsensusPartitionList-method0.2460.0070.253
test_to_known_factors-DownSamplingConsensusPartition-method0.0890.0040.092
test_to_known_factors-HierarchicalPartition-method0.1060.0030.110
test_to_known_factors-dispatch000
top_elements_overlap0.2310.0240.256
top_rows_heatmap-ConsensusPartition-method0.0000.0010.000
top_rows_heatmap-ConsensusPartitionList-method000
top_rows_heatmap-HierarchicalPartition-method0.0000.0000.001
top_rows_heatmap-dispatch000
top_rows_heatmap-matrix-method3.8440.2494.122
top_rows_overlap-ConsensusPartitionList-method0.7310.0550.791
top_rows_overlap-HierarchicalPartition-method0.4950.0140.512
top_rows_overlap-dispatch0.0000.0000.001
top_rows_overlap-matrix-method0.1320.0020.135