Back to Multiple platform build/check report for BioC 3.21: simplified long |
|
This page was generated on 2025-02-13 11:39 -0500 (Thu, 13 Feb 2025).
Hostname | OS | Arch (*) | R version | Installed pkgs |
---|---|---|---|---|
nebbiolo1 | Linux (Ubuntu 24.04.1 LTS) | x86_64 | R Under development (unstable) (2025-01-20 r87609) -- "Unsuffered Consequences" | 4719 |
palomino7 | Windows Server 2022 Datacenter | x64 | R Under development (unstable) (2025-01-21 r87610 ucrt) -- "Unsuffered Consequences" | 4481 |
lconway | macOS 12.7.1 Monterey | x86_64 | R Under development (unstable) (2025-01-22 r87618) -- "Unsuffered Consequences" | 4492 |
kjohnson3 | macOS 13.7.1 Ventura | arm64 | R Under development (unstable) (2025-01-20 r87609) -- "Unsuffered Consequences" | 4445 |
Click on any hostname to see more info about the system (e.g. compilers) (*) as reported by 'uname -p', except on Windows and Mac OS X |
Package 480/2295 | Hostname | OS / Arch | INSTALL | BUILD | CHECK | BUILD BIN | ||||||||
cyanoFilter 1.15.0 (landing page) Oluwafemi Olusoji
| nebbiolo1 | Linux (Ubuntu 24.04.1 LTS) / x86_64 | OK | OK | OK | ![]() | ||||||||
palomino7 | Windows Server 2022 Datacenter / x64 | OK | OK | OK | OK | ![]() | ||||||||
lconway | macOS 12.7.1 Monterey / x86_64 | OK | OK | OK | OK | ![]() | ||||||||
kjohnson3 | macOS 13.7.1 Ventura / arm64 | OK | OK | OK | OK | ![]() | ||||||||
To the developers/maintainers of the cyanoFilter package: - Allow up to 24 hours (and sometimes 48 hours) for your latest push to git@git.bioconductor.org:packages/cyanoFilter.git to reflect on this report. See Troubleshooting Build Report for more information. - Use the following Renviron settings to reproduce errors and warnings. - If 'R CMD check' started to fail recently on the Linux builder(s) over a missing dependency, add the missing dependency to 'Suggests:' in your DESCRIPTION file. See Renviron.bioc for more information. |
Package: cyanoFilter |
Version: 1.15.0 |
Command: /home/biocbuild/bbs-3.21-bioc/R/bin/R CMD check --install=check:cyanoFilter.install-out.txt --library=/home/biocbuild/bbs-3.21-bioc/R/site-library --timings cyanoFilter_1.15.0.tar.gz |
StartedAt: 2025-02-12 21:19:31 -0500 (Wed, 12 Feb 2025) |
EndedAt: 2025-02-12 21:21:47 -0500 (Wed, 12 Feb 2025) |
EllapsedTime: 136.1 seconds |
RetCode: 0 |
Status: OK |
CheckDir: cyanoFilter.Rcheck |
Warnings: 0 |
############################################################################## ############################################################################## ### ### Running command: ### ### /home/biocbuild/bbs-3.21-bioc/R/bin/R CMD check --install=check:cyanoFilter.install-out.txt --library=/home/biocbuild/bbs-3.21-bioc/R/site-library --timings cyanoFilter_1.15.0.tar.gz ### ############################################################################## ############################################################################## * using log directory ‘/home/biocbuild/bbs-3.21-bioc/meat/cyanoFilter.Rcheck’ * using R Under development (unstable) (2025-01-20 r87609) * using platform: x86_64-pc-linux-gnu * R was compiled by gcc (Ubuntu 13.3.0-6ubuntu2~24.04) 13.3.0 GNU Fortran (Ubuntu 13.3.0-6ubuntu2~24.04) 13.3.0 * running under: Ubuntu 24.04.1 LTS * using session charset: UTF-8 * checking for file ‘cyanoFilter/DESCRIPTION’ ... OK * checking extension type ... Package * this is package ‘cyanoFilter’ version ‘1.15.0’ * package encoding: UTF-8 * checking package namespace information ... OK * checking package dependencies ... OK * checking if this is a source package ... OK * checking if there is a namespace ... OK * checking for hidden files and directories ... OK * checking for portable file names ... OK * checking for sufficient/correct file permissions ... OK * checking whether package ‘cyanoFilter’ can be installed ... OK * checking installed package size ... OK * checking package directory ... OK * checking ‘build’ directory ... OK * checking DESCRIPTION meta-information ... OK * checking top-level files ... OK * checking for left-over files ... OK * checking index information ... OK * checking package subdirectories ... OK * checking code files for non-ASCII characters ... OK * checking R files for syntax errors ... OK * checking whether the package can be loaded ... OK * checking whether the package can be loaded with stated dependencies ... OK * checking whether the package can be unloaded cleanly ... OK * checking whether the namespace can be loaded with stated dependencies ... OK * checking whether the namespace can be unloaded cleanly ... OK * checking loading without being on the library search path ... OK * checking dependencies in R code ... OK * checking S3 generic/method consistency ... OK * checking replacement functions ... OK * checking foreign function calls ... OK * checking R code for possible problems ... OK * checking Rd files ... OK * checking Rd metadata ... OK * checking Rd cross-references ... OK * checking for missing documentation entries ... OK * checking for code/documentation mismatches ... OK * checking Rd \usage sections ... OK * checking Rd contents ... OK * checking for unstated dependencies in examples ... OK * checking files in ‘vignettes’ ... OK * checking examples ... OK Examples with CPU (user + system) or elapsed time > 5s user system elapsed gateFunc 8.225 0.423 6.854 * checking for unstated dependencies in vignettes ... OK * checking package vignettes ... OK * checking re-building of vignette outputs ... OK * checking PDF version of manual ... OK * DONE Status: OK
cyanoFilter.Rcheck/00install.out
############################################################################## ############################################################################## ### ### Running command: ### ### /home/biocbuild/bbs-3.21-bioc/R/bin/R CMD INSTALL cyanoFilter ### ############################################################################## ############################################################################## * installing to library ‘/home/biocbuild/bbs-3.21-bioc/R/site-library’ * installing *source* package ‘cyanoFilter’ ... ** this is package ‘cyanoFilter’ version ‘1.15.0’ ** using staged installation ** R ** inst ** byte-compile and prepare package for lazy loading ** help *** installing help indices ** building package indices ** installing vignettes ** testing if installed package can be loaded from temporary location ** testing if installed package can be loaded from final location ** testing if installed package keeps a record of temporary installation path * DONE (cyanoFilter)
cyanoFilter.Rcheck/cyanoFilter-Ex.timings
name | user | system | elapsed | |
MarginEvents | 0.608 | 0.029 | 0.639 | |
PhytoFilter | 0.501 | 0.059 | 0.559 | |
PhytopFilter | 0.517 | 0.013 | 0.530 | |
accTest | 0.311 | 0.006 | 0.317 | |
accuracy | 0.342 | 0.020 | 0.362 | |
cellmargin | 0.254 | 0.005 | 0.260 | |
clusterExtract | 0.655 | 0.008 | 0.665 | |
clusterExtractp | 0.929 | 0.074 | 1.003 | |
debrisNc | 0.284 | 0.020 | 0.304 | |
fullFlowframe-MarginEvents-method | 0.280 | 0.006 | 0.287 | |
fullFlowframe-PhytopFilter-method | 0.500 | 0.008 | 0.509 | |
fullFlowframe | 0.252 | 0.002 | 0.255 | |
gateFunc | 8.225 | 0.423 | 6.854 | |
ggpairsDens | 3.156 | 0.161 | 3.322 | |
ggplotDens | 0.704 | 0.044 | 0.749 | |
ggplotDens2 | 0.682 | 0.024 | 0.707 | |
goodfcs | 0.035 | 0.006 | 0.042 | |
is.DebrisFilter | 0 | 0 | 0 | |
is.MarginEvents | 0.000 | 0.000 | 0.001 | |
is.PhytopFilter | 0.000 | 0.001 | 0.000 | |
is.flowFrame | 0 | 0 | 0 | |
is.flowSet | 0 | 0 | 0 | |
lnTrans | 0.169 | 0.003 | 0.173 | |
newFlowframe | 0.168 | 0.049 | 0.218 | |
nona | 0.077 | 0.001 | 0.079 | |
noneg | 0.136 | 0.001 | 0.137 | |
oneDgate | 0.171 | 0.043 | 0.214 | |
pairsPlot | 1.730 | 0.086 | 1.946 | |
pigmentGate | 0.231 | 0.045 | 0.276 | |
reducedFlowframe-MarginEvents-method | 0.242 | 0.009 | 0.250 | |
reducedFlowframe | 0.245 | 0.004 | 0.249 | |
retain | 0.012 | 0.002 | 0.013 | |
rowNumbers | 0.172 | 0.051 | 0.223 | |
summaries-DebrisFilter-method | 0.243 | 0.004 | 0.247 | |
summaries-MarginEvents-method | 0.247 | 0.004 | 0.251 | |
summaries-PhytopFilter-method | 0.508 | 0.007 | 0.515 | |
summaries | 0.250 | 0.009 | 0.259 | |