Back to Multiple platform build/check report for BioC 3.21: simplified long |
|
This page was generated on 2025-02-05 11:40 -0500 (Wed, 05 Feb 2025).
Hostname | OS | Arch (*) | R version | Installed pkgs |
---|---|---|---|---|
nebbiolo1 | Linux (Ubuntu 24.04.1 LTS) | x86_64 | R Under development (unstable) (2025-01-20 r87609) -- "Unsuffered Consequences" | 4717 |
palomino7 | Windows Server 2022 Datacenter | x64 | R Under development (unstable) (2025-01-21 r87610 ucrt) -- "Unsuffered Consequences" | 4478 |
lconway | macOS 12.7.1 Monterey | x86_64 | R Under development (unstable) (2025-01-22 r87618) -- "Unsuffered Consequences" | 4489 |
kjohnson3 | macOS 13.7.1 Ventura | arm64 | R Under development (unstable) (2025-01-20 r87609) -- "Unsuffered Consequences" | 4442 |
Click on any hostname to see more info about the system (e.g. compilers) (*) as reported by 'uname -p', except on Windows and Mac OS X |
Package 516/2295 | Hostname | OS / Arch | INSTALL | BUILD | CHECK | BUILD BIN | ||||||||
decompTumor2Sig 2.23.0 (landing page) Rosario M. Piro
| nebbiolo1 | Linux (Ubuntu 24.04.1 LTS) / x86_64 | OK | OK | OK | |||||||||
palomino7 | Windows Server 2022 Datacenter / x64 | OK | OK | OK | OK | |||||||||
lconway | macOS 12.7.1 Monterey / x86_64 | OK | OK | OK | OK | |||||||||
kjohnson3 | macOS 13.7.1 Ventura / arm64 | OK | TIMEOUT | skipped | skipped | |||||||||
To the developers/maintainers of the decompTumor2Sig package: - Allow up to 24 hours (and sometimes 48 hours) for your latest push to git@git.bioconductor.org:packages/decompTumor2Sig.git to reflect on this report. See Troubleshooting Build Report for more information. - Use the following Renviron settings to reproduce errors and warnings. - If 'R CMD check' started to fail recently on the Linux builder(s) over a missing dependency, add the missing dependency to 'Suggests:' in your DESCRIPTION file. See Renviron.bioc for more information. |
Package: decompTumor2Sig |
Version: 2.23.0 |
Command: E:\biocbuild\bbs-3.21-bioc\R\bin\R.exe CMD check --no-multiarch --install=check:decompTumor2Sig.install-out.txt --library=E:\biocbuild\bbs-3.21-bioc\R\library --no-vignettes --timings decompTumor2Sig_2.23.0.tar.gz |
StartedAt: 2025-02-05 00:42:36 -0500 (Wed, 05 Feb 2025) |
EndedAt: 2025-02-05 00:50:20 -0500 (Wed, 05 Feb 2025) |
EllapsedTime: 464.5 seconds |
RetCode: 0 |
Status: OK |
CheckDir: decompTumor2Sig.Rcheck |
Warnings: 0 |
############################################################################## ############################################################################## ### ### Running command: ### ### E:\biocbuild\bbs-3.21-bioc\R\bin\R.exe CMD check --no-multiarch --install=check:decompTumor2Sig.install-out.txt --library=E:\biocbuild\bbs-3.21-bioc\R\library --no-vignettes --timings decompTumor2Sig_2.23.0.tar.gz ### ############################################################################## ############################################################################## * using log directory 'E:/biocbuild/bbs-3.21-bioc/meat/decompTumor2Sig.Rcheck' * using R Under development (unstable) (2025-01-21 r87610 ucrt) * using platform: x86_64-w64-mingw32 * R was compiled by gcc.exe (GCC) 13.3.0 GNU Fortran (GCC) 13.3.0 * running under: Windows Server 2022 x64 (build 20348) * using session charset: UTF-8 * using option '--no-vignettes' * checking for file 'decompTumor2Sig/DESCRIPTION' ... OK * checking extension type ... Package * this is package 'decompTumor2Sig' version '2.23.0' * package encoding: UTF-8 * checking package namespace information ... OK * checking package dependencies ... OK * checking if this is a source package ... OK * checking if there is a namespace ... OK * checking for hidden files and directories ... OK * checking for portable file names ... OK * checking whether package 'decompTumor2Sig' can be installed ... OK * checking installed package size ... OK * checking package directory ... OK * checking 'build' directory ... OK * checking DESCRIPTION meta-information ... OK * checking top-level files ... NOTE File inst/LICENSE will install at top-level and is not mentioned in the DESCRIPTION file. * checking for left-over files ... OK * checking index information ... OK * checking package subdirectories ... OK * checking code files for non-ASCII characters ... OK * checking R files for syntax errors ... OK * checking whether the package can be loaded ... OK * checking whether the package can be loaded with stated dependencies ... OK * checking whether the package can be unloaded cleanly ... OK * checking whether the namespace can be loaded with stated dependencies ... OK * checking whether the namespace can be unloaded cleanly ... OK * checking whether startup messages can be suppressed ... OK * checking dependencies in R code ... OK * checking S3 generic/method consistency ... OK * checking replacement functions ... OK * checking foreign function calls ... OK * checking R code for possible problems ... OK * checking Rd files ... OK * checking Rd metadata ... OK * checking Rd cross-references ... OK * checking for missing documentation entries ... OK * checking for code/documentation mismatches ... OK * checking Rd \usage sections ... OK * checking Rd contents ... OK * checking for unstated dependencies in examples ... OK * checking files in 'vignettes' ... OK * checking examples ... OK Examples with CPU (user + system) or elapsed time > 5s user system elapsed plotExplainedVariance 88.06 0.92 89.08 convertGenomesFromVRanges 7.52 0.62 9.69 * checking for unstated dependencies in vignettes ... OK * checking package vignettes ... OK * checking running R code from vignettes ... SKIPPED * checking re-building of vignette outputs ... SKIPPED * checking PDF version of manual ... OK * DONE Status: 1 NOTE See 'E:/biocbuild/bbs-3.21-bioc/meat/decompTumor2Sig.Rcheck/00check.log' for details.
decompTumor2Sig.Rcheck/00install.out
############################################################################## ############################################################################## ### ### Running command: ### ### E:\biocbuild\bbs-3.21-bioc\R\bin\R.exe CMD INSTALL decompTumor2Sig ### ############################################################################## ############################################################################## * installing to library 'E:/biocbuild/bbs-3.21-bioc/R/library' * installing *source* package 'decompTumor2Sig' ... ** this is package 'decompTumor2Sig' version '2.23.0' ** using staged installation ** R ** inst ** byte-compile and prepare package for lazy loading ** help *** installing help indices ** building package indices ** installing vignettes ** testing if installed package can be loaded from temporary location ** testing if installed package can be loaded from final location ** testing if installed package keeps a record of temporary installation path * DONE (decompTumor2Sig)
decompTumor2Sig.Rcheck/decompTumor2Sig-Ex.timings
name | user | system | elapsed | |
adjustSignaturesForRegionSet | 3.38 | 0.21 | 4.49 | |
composeGenomesFromExposures | 0.21 | 0.04 | 0.64 | |
computeExplainedVariance | 0.21 | 0.06 | 0.86 | |
convertAlexandrov2Shiraishi | 0.04 | 0.00 | 0.45 | |
convertGenomesFromVRanges | 7.52 | 0.62 | 9.69 | |
decomposeTumorGenomes | 3.68 | 0.64 | 4.72 | |
determineSignatureDistances | 0.07 | 0.00 | 0.47 | |
downgradeShiraishiSignatures | 0.01 | 0.00 | 0.01 | |
evaluateDecompositionQuality | 0.19 | 0.00 | 0.60 | |
getGenomesFromMutFeatData | 0.50 | 0.05 | 0.64 | |
getSignaturesFromEstParam | 0.11 | 0.02 | 0.26 | |
isAlexandrovSet | 0.03 | 0.00 | 0.44 | |
isExposureSet | 3.47 | 0.51 | 4.39 | |
isShiraishiSet | 0.06 | 0.00 | 0.47 | |
isSignatureSet | 0.05 | 0.00 | 0.44 | |
mapSignatureSets | 0.09 | 0.00 | 0.50 | |
plotDecomposedContribution | 0.50 | 0.00 | 0.89 | |
plotExplainedVariance | 88.06 | 0.92 | 89.08 | |
plotMutationDistribution | 2.52 | 0.10 | 3.04 | |
readAlexandrovSignatures | 0.01 | 0.00 | 0.43 | |
readGenomesFromMPF | 4.46 | 0.50 | 4.97 | |
readGenomesFromVCF | 3.56 | 0.53 | 4.09 | |
readShiraishiSignatures | 0.02 | 0.00 | 0.01 | |
sameSignatureFormat | 0.06 | 0.00 | 0.46 | |